BEGIN:VCALENDAR
PRODID:-//nuDatenautomaten//framework iCal4j //DE
VERSION:2.0
CALSCALE:GREGORIAN
BEGIN:VTIMEZONE
TZID:Europe/Berlin
LAST-MODIFIED:20260306T231828Z
TZURL:https://www.tzurl.org/zoneinfo/Europe/Berlin
X-LIC-LOCATION:Europe/Berlin
X-PROLEPTIC-TZNAME:LMT
BEGIN:STANDARD
TZNAME:CET
TZOFFSETFROM:+005328
TZOFFSETTO:+0100
DTSTART:18930401T000000
END:STANDARD
BEGIN:DAYLIGHT
TZNAME:CEST
TZOFFSETFROM:+0100
TZOFFSETTO:+0200
DTSTART:19160430T230000
RDATE:19400401T020000
RDATE:19430329T020000
RDATE:19460414T020000
RDATE:19470406T030000
RDATE:19480418T020000
RDATE:19490410T020000
RDATE:19800406T020000
END:DAYLIGHT
BEGIN:STANDARD
TZNAME:CET
TZOFFSETFROM:+0200
TZOFFSETTO:+0100
DTSTART:19161001T010000
RDATE:19421102T030000
RDATE:19431004T030000
RDATE:19441002T030000
RDATE:19451118T030000
RDATE:19461007T030000
END:STANDARD
BEGIN:DAYLIGHT
TZNAME:CEST
TZOFFSETFROM:+0100
TZOFFSETTO:+0200
DTSTART:19170416T020000
RRULE:FREQ=YEARLY;UNTIL=19180415T010000Z;BYMONTH=4;BYDAY=3MO
END:DAYLIGHT
BEGIN:STANDARD
TZNAME:CET
TZOFFSETFROM:+0200
TZOFFSETTO:+0100
DTSTART:19170917T030000
RRULE:FREQ=YEARLY;UNTIL=19180916T010000Z;BYMONTH=9;BYDAY=3MO
END:STANDARD
BEGIN:DAYLIGHT
TZNAME:CEST
TZOFFSETFROM:+0100
TZOFFSETTO:+0200
DTSTART:19440403T020000
RRULE:FREQ=YEARLY;UNTIL=19450402T010000Z;BYMONTH=4;BYDAY=1MO
END:DAYLIGHT
BEGIN:DAYLIGHT
TZNAME:CEMT
TZOFFSETFROM:+0200
TZOFFSETTO:+0300
DTSTART:19450524T020000
RDATE:19470511T030000
END:DAYLIGHT
BEGIN:DAYLIGHT
TZNAME:CEST
TZOFFSETFROM:+0300
TZOFFSETTO:+0200
DTSTART:19450924T030000
RDATE:19470629T030000
END:DAYLIGHT
BEGIN:STANDARD
TZNAME:CET
TZOFFSETFROM:+0100
TZOFFSETTO:+0100
DTSTART:19460101T000000
RDATE:19800101T000000
END:STANDARD
BEGIN:STANDARD
TZNAME:CET
TZOFFSETFROM:+0200
TZOFFSETTO:+0100
DTSTART:19471005T030000
RRULE:FREQ=YEARLY;UNTIL=19491002T010000Z;BYMONTH=10;BYDAY=1SU
END:STANDARD
BEGIN:STANDARD
TZNAME:CET
TZOFFSETFROM:+0200
TZOFFSETTO:+0100
DTSTART:19800928T030000
RRULE:FREQ=YEARLY;UNTIL=19950924T010000Z;BYMONTH=9;BYDAY=-1SU
END:STANDARD
BEGIN:DAYLIGHT
TZNAME:CEST
TZOFFSETFROM:+0100
TZOFFSETTO:+0200
DTSTART:19810329T020000
RRULE:FREQ=YEARLY;BYMONTH=3;BYDAY=-1SU
END:DAYLIGHT
BEGIN:STANDARD
TZNAME:CET
TZOFFSETFROM:+0200
TZOFFSETTO:+0100
DTSTART:19961027T030000
RRULE:FREQ=YEARLY;BYMONTH=10;BYDAY=-1SU
END:STANDARD
END:VTIMEZONE
BEGIN:VEVENT
DTSTAMP:20260425T003724Z
DTSTART;TZID=Europe/Berlin:20250115T200000
DTEND;TZID=Europe/Berlin:20250115T230000
SUMMARY:HE NLC Gr. 4 Horgen vs Wetzikon (2)
UID:4aaca306-e4d4-494b-ad44-13535223adb0
STATUS:CONFIRMED
LAST-MODIFIED:20250117T085954Z
DESCRIPTION:Herren Nationalliga C Gruppe 4\nBegegnungs-Nr: 2\nHeim: Horgen\nGast: Wetzikon\n\nAdresse: Seestrasse 110\, 8810 Horgen\n
LOCATION:Seestrasse 110\, 8810 Horgen
CATEGORIES:Saison 2024/25
END:VEVENT
BEGIN:VEVENT
DTSTAMP:20260425T003724Z
DTSTART;TZID=Europe/Berlin:20250129T200000
DTEND;TZID=Europe/Berlin:20250129T230000
SUMMARY:HE NLC Gr. 4 Horgen vs Neuhausen II (7)
UID:5265ca32-09a7-431d-b5d2-210818264e82
STATUS:CONFIRMED
LAST-MODIFIED:20250203T093308Z
DESCRIPTION:Herren Nationalliga C Gruppe 4\nBegegnungs-Nr: 7\nHeim: Horgen\nGast: Neuhausen II\n\nAdresse: Seestrasse 110\, 8810 Horgen\n
LOCATION:Seestrasse 110\, 8810 Horgen
CATEGORIES:Saison 2024/25
END:VEVENT
BEGIN:VEVENT
DTSTAMP:20260425T003724Z
DTSTART;TZID=Europe/Berlin:20250205T200000
DTEND;TZID=Europe/Berlin:20250205T230000
SUMMARY:HE NLC Gr. 4 Horgen vs Affoltern A/A (11)
UID:4487d10d-d544-4772-8db0-48029756d464
STATUS:CONFIRMED
LAST-MODIFIED:20250210T073926Z
DESCRIPTION:Herren Nationalliga C Gruppe 4\nBegegnungs-Nr: 11\nHeim: Horgen\nGast: Affoltern A/A\n\nAdresse: Seestrasse 110\, 8810 Horgen\n
LOCATION:Seestrasse 110\, 8810 Horgen
CATEGORIES:Saison 2024/25
END:VEVENT
BEGIN:VEVENT
DTSTAMP:20260425T003724Z
DTSTART;TZID=Europe/Berlin:20250312T200000
DTEND;TZID=Europe/Berlin:20250312T230000
SUMMARY:HE NLC Gr. 4 Horgen vs Zürich-Affoltern (20)
UID:5b68cbdd-5b74-45f5-aaff-7db90a106a9f
STATUS:CONFIRMED
LAST-MODIFIED:20250313T143212Z
DESCRIPTION:Herren Nationalliga C Gruppe 4\nBegegnungs-Nr: 20\nHeim: Horgen\nGast: Zürich-Affoltern\n\nAdresse: Seestrasse 110\, 8810 Horgen\n
LOCATION:Seestrasse 110\, 8810 Horgen
CATEGORIES:Saison 2024/25
END:VEVENT
BEGIN:VEVENT
DTSTAMP:20260425T003724Z
DTSTART;TZID=Europe/Berlin:20240918T200000
DTEND;TZID=Europe/Berlin:20240918T230000
SUMMARY:HE NLC Gr. 4 Horgen vs Young Stars ZH III (8)
UID:8fa80487-bc87-4ce2-b7de-6a7d4948f42f
STATUS:CONFIRMED
LAST-MODIFIED:20240926T070826Z
DESCRIPTION:Herren Nationalliga C Gruppe 4\nBegegnungs-Nr: 8\nHeim: Horgen\nGast: Young Stars ZH III\n\nAdresse: Seestrasse 110\, 8810 Horgen\n
LOCATION:Seestrasse 110\, 8810 Horgen
CATEGORIES:Saison 2024/25
END:VEVENT
BEGIN:VEVENT
DTSTAMP:20260425T003724Z
DTSTART;TZID=Europe/Berlin:20241106T200000
DTEND;TZID=Europe/Berlin:20241106T230000
SUMMARY:HE NLC Gr. 4 Horgen vs Wädenswil (20)
UID:7460d260-d132-40aa-873a-6a10f8a95d22
STATUS:CONFIRMED
LAST-MODIFIED:20241108T121905Z
DESCRIPTION:Herren Nationalliga C Gruppe 4\nBegegnungs-Nr: 20\nHeim: Horgen\nGast: Wädenswil\n\nAdresse: Seestrasse 110\, 8810 Horgen\n
LOCATION:Seestrasse 110\, 8810 Horgen
CATEGORIES:Saison 2024/25
END:VEVENT
BEGIN:VEVENT
DTSTAMP:20260425T003724Z
DTSTART;TZID=Europe/Berlin:20241023T200000
DTEND;TZID=Europe/Berlin:20241023T230000
SUMMARY:HE NLC Gr. 4 Horgen vs Rapid Luzern III (14)
UID:6554f175-e191-44bf-8e3a-3afdfd0323e6
STATUS:CONFIRMED
LAST-MODIFIED:20241024T072748Z
DESCRIPTION:Herren Nationalliga C Gruppe 4\nBegegnungs-Nr: 14\nHeim: Horgen\nGast: Rapid Luzern III\n\nAdresse: Seestrasse 110\, 8810 Horgen\n
LOCATION:Seestrasse 110\, 8810 Horgen
CATEGORIES:Saison 2024/25
END:VEVENT
BEGIN:VEVENT
DTSTAMP:20260425T003724Z
DTSTART;TZID=Europe/Berlin:20250406T140000
DTEND;TZID=Europe/Berlin:20250406T170000
SUMMARY:HE NLC Gr. 4 Young Stars ZH III vs Horgen (28)
UID:308ac4e2-b532-4d1a-a7c1-68c362236a98
STATUS:CONFIRMED
LAST-MODIFIED:20250408T102608Z
DESCRIPTION:Herren Nationalliga C Gruppe 4\nBegegnungs-Nr: 28\nHeim: Young Stars ZH III\nGast: Horgen\n\nAdresse: Seefeldstrasse 93\, 8008 Zürich\n
LOCATION:Seefeldstrasse 93\, 8008 Zürich
CATEGORIES:Saison 2024/25
END:VEVENT
BEGIN:VEVENT
DTSTAMP:20260425T003724Z
DTSTART;TZID=Europe/Berlin:20250301T170000
DTEND;TZID=Europe/Berlin:20250301T200000
SUMMARY:HE NLC Gr. 4 Rapid Luzern III vs Horgen (14)
UID:578cd99d-1a74-42cd-9ac6-7f49273e6ae4
STATUS:CONFIRMED
LAST-MODIFIED:20250303T150720Z
DESCRIPTION:Herren Nationalliga C Gruppe 4\nBegegnungs-Nr: 14\nHeim: Rapid Luzern III\nGast: Horgen\n\nAdresse: Kreuzbuchstr. 60\, 6006 Luzern\n
LOCATION:Kreuzbuchstr. 60\, 6006 Luzern
CATEGORIES:Saison 2024/25
END:VEVENT
BEGIN:VEVENT
DTSTAMP:20260425T003724Z
DTSTART;TZID=Europe/Berlin:20250405T180000
DTEND;TZID=Europe/Berlin:20250405T210000
SUMMARY:HE NLC Gr. 4 Wädenswil vs Horgen (24)
UID:722f6de1-fd1f-43d4-bd11-d450f5471068
STATUS:CONFIRMED
LAST-MODIFIED:20250408T102658Z
DESCRIPTION:Herren Nationalliga C Gruppe 4\nBegegnungs-Nr: 24\nHeim: Wädenswil\nGast: Horgen\n\nAdresse: Fuhrstrasse 16b\, 8820 Wädenswil\n
LOCATION:Fuhrstrasse 16b\, 8820 Wädenswil
CATEGORIES:Saison 2024/25
END:VEVENT
BEGIN:VEVENT
DTSTAMP:20260425T003724Z
DTSTART;TZID=Europe/Berlin:20240907T191500
DTEND;TZID=Europe/Berlin:20240907T221500
SUMMARY:HE NLC Gr. 4 Wetzikon vs Horgen (2)
UID:566a4c9f-1885-40bd-bf1c-78e23667914d
STATUS:CONFIRMED
LAST-MODIFIED:20240910T080511Z
DESCRIPTION:Herren Nationalliga C Gruppe 4\nBegegnungs-Nr: 2\nHeim: Wetzikon\nGast: Horgen\n\nAdresse: Bahnhofstrasse 126\, 8620 Wetzikon\n
LOCATION:Bahnhofstrasse 126\, 8620 Wetzikon
CATEGORIES:Saison 2024/25
END:VEVENT
BEGIN:VEVENT
DTSTAMP:20260425T003724Z
DTSTART;TZID=Europe/Berlin:20241207T170000
DTEND;TZID=Europe/Berlin:20241207T200000
SUMMARY:HE NLC Gr. 4 Affoltern A/A vs Horgen (27)
UID:b53de6d0-fd6f-45d4-b9cf-3b282551ff40
STATUS:CONFIRMED
LAST-MODIFIED:20241209T112001Z
DESCRIPTION:Herren Nationalliga C Gruppe 4\nBegegnungs-Nr: 27\nHeim: Affoltern A/A\nGast: Horgen\n\nAdresse: Butzenstrasse 8\, 8910 Affoltern am Albis\n
LOCATION:Butzenstrasse 8\, 8910 Affoltern am Albis
CATEGORIES:Saison 2024/25
END:VEVENT
BEGIN:VEVENT
DTSTAMP:20260425T003724Z
DTSTART;TZID=Europe/Berlin:20241116T180000
DTEND;TZID=Europe/Berlin:20241116T210000
SUMMARY:HE NLC Gr. 4 Zürich-Affoltern vs Horgen (24)
UID:f08d2de2-b612-4fd2-8af4-5161edb3f49b
STATUS:CONFIRMED
LAST-MODIFIED:20241118T112132Z
DESCRIPTION:Herren Nationalliga C Gruppe 4\nBegegnungs-Nr: 24\nHeim: Zürich-Affoltern\nGast: Horgen\n\nAdresse: Rümlangstr. 89\, 8052 Zürich\n
LOCATION:Rümlangstr. 89\, 8052 Zürich
CATEGORIES:Saison 2024/25
END:VEVENT
BEGIN:VEVENT
DTSTAMP:20260425T003724Z
DTSTART;TZID=Europe/Berlin:20241019T140000
DTEND;TZID=Europe/Berlin:20241019T170000
SUMMARY:HE NLC Gr. 4 Neuhausen II vs Horgen (11)
UID:44c6dda3-62ee-43b7-be4d-5c9655431934
STATUS:CONFIRMED
LAST-MODIFIED:20241021T100957Z
DESCRIPTION:Herren Nationalliga C Gruppe 4\nBegegnungs-Nr: 11\nHeim: Neuhausen II\nGast: Horgen\n\nAdresse: Ebnatstrasse 35\, 8200 Schaffhausen\n
LOCATION:Ebnatstrasse 35\, 8200 Schaffhausen
CATEGORIES:Saison 2024/25
END:VEVENT
END:VCALENDAR
