BEGIN:VCALENDAR
PRODID:-//nuDatenautomaten//framework iCal4j //DE
VERSION:2.0
CALSCALE:GREGORIAN
BEGIN:VTIMEZONE
TZID:Europe/Berlin
LAST-MODIFIED:20260306T231828Z
TZURL:https://www.tzurl.org/zoneinfo/Europe/Berlin
X-LIC-LOCATION:Europe/Berlin
X-PROLEPTIC-TZNAME:LMT
BEGIN:STANDARD
TZNAME:CET
TZOFFSETFROM:+005328
TZOFFSETTO:+0100
DTSTART:18930401T000000
END:STANDARD
BEGIN:DAYLIGHT
TZNAME:CEST
TZOFFSETFROM:+0100
TZOFFSETTO:+0200
DTSTART:19160430T230000
RDATE:19400401T020000
RDATE:19430329T020000
RDATE:19460414T020000
RDATE:19470406T030000
RDATE:19480418T020000
RDATE:19490410T020000
RDATE:19800406T020000
END:DAYLIGHT
BEGIN:STANDARD
TZNAME:CET
TZOFFSETFROM:+0200
TZOFFSETTO:+0100
DTSTART:19161001T010000
RDATE:19421102T030000
RDATE:19431004T030000
RDATE:19441002T030000
RDATE:19451118T030000
RDATE:19461007T030000
END:STANDARD
BEGIN:DAYLIGHT
TZNAME:CEST
TZOFFSETFROM:+0100
TZOFFSETTO:+0200
DTSTART:19170416T020000
RRULE:FREQ=YEARLY;UNTIL=19180415T010000Z;BYMONTH=4;BYDAY=3MO
END:DAYLIGHT
BEGIN:STANDARD
TZNAME:CET
TZOFFSETFROM:+0200
TZOFFSETTO:+0100
DTSTART:19170917T030000
RRULE:FREQ=YEARLY;UNTIL=19180916T010000Z;BYMONTH=9;BYDAY=3MO
END:STANDARD
BEGIN:DAYLIGHT
TZNAME:CEST
TZOFFSETFROM:+0100
TZOFFSETTO:+0200
DTSTART:19440403T020000
RRULE:FREQ=YEARLY;UNTIL=19450402T010000Z;BYMONTH=4;BYDAY=1MO
END:DAYLIGHT
BEGIN:DAYLIGHT
TZNAME:CEMT
TZOFFSETFROM:+0200
TZOFFSETTO:+0300
DTSTART:19450524T020000
RDATE:19470511T030000
END:DAYLIGHT
BEGIN:DAYLIGHT
TZNAME:CEST
TZOFFSETFROM:+0300
TZOFFSETTO:+0200
DTSTART:19450924T030000
RDATE:19470629T030000
END:DAYLIGHT
BEGIN:STANDARD
TZNAME:CET
TZOFFSETFROM:+0100
TZOFFSETTO:+0100
DTSTART:19460101T000000
RDATE:19800101T000000
END:STANDARD
BEGIN:STANDARD
TZNAME:CET
TZOFFSETFROM:+0200
TZOFFSETTO:+0100
DTSTART:19471005T030000
RRULE:FREQ=YEARLY;UNTIL=19491002T010000Z;BYMONTH=10;BYDAY=1SU
END:STANDARD
BEGIN:STANDARD
TZNAME:CET
TZOFFSETFROM:+0200
TZOFFSETTO:+0100
DTSTART:19800928T030000
RRULE:FREQ=YEARLY;UNTIL=19950924T010000Z;BYMONTH=9;BYDAY=-1SU
END:STANDARD
BEGIN:DAYLIGHT
TZNAME:CEST
TZOFFSETFROM:+0100
TZOFFSETTO:+0200
DTSTART:19810329T020000
RRULE:FREQ=YEARLY;BYMONTH=3;BYDAY=-1SU
END:DAYLIGHT
BEGIN:STANDARD
TZNAME:CET
TZOFFSETFROM:+0200
TZOFFSETTO:+0100
DTSTART:19961027T030000
RRULE:FREQ=YEARLY;BYMONTH=10;BYDAY=-1SU
END:STANDARD
END:VTIMEZONE
BEGIN:VEVENT
DTSTAMP:20260425T005107Z
DTSTART;TZID=Europe/Berlin:20250507T200000
DTEND;TZID=Europe/Berlin:20250507T230000
SUMMARY:HE 5.Liga Aufstieg 1.Rde. Romanshorn IV vs Steckborn-Homburg IV (511)
UID:93350db8-848e-461f-bb21-0abc5a6ecda5
STATUS:CONFIRMED
LAST-MODIFIED:20250508T082246Z
DESCRIPTION:5. Liga Herren Aufstieg 1.Rde.\nBegegnungs-Nr: 511\nHeim: Romanshorn IV\nGast: Steckborn-Homburg IV\n
LOCATION:
CATEGORIES:Saison 2024/25
END:VEVENT
BEGIN:VEVENT
DTSTAMP:20260425T005107Z
DTSTART;TZID=Europe/Berlin:20241031T201500
DTEND;TZID=Europe/Berlin:20241031T231500
SUMMARY:HE 5. Liga Gr. 1 Romanshorn IV vs Horn II (0)
UID:1942dc9e-6cd8-4c5f-a47a-0ff8ccb98577
STATUS:CONFIRMED
LAST-MODIFIED:20241108T140654Z
DESCRIPTION:5. Liga Herren Gruppe 1\nBegegnungs-Nr: 0\nHeim: Romanshorn IV\nGast: Horn II\n\nAdresse: Florastrasse\, 8590 Romanshorn\n
LOCATION:Florastrasse\, 8590 Romanshorn
CATEGORIES:Saison 2024/25
END:VEVENT
BEGIN:VEVENT
DTSTAMP:20260425T005107Z
DTSTART;TZID=Europe/Berlin:20240926T201500
DTEND;TZID=Europe/Berlin:20240926T231500
SUMMARY:HE 5. Liga Gr. 1 Romanshorn IV vs Rorschach II (0)
UID:c0319448-6d83-46fc-8100-ddd7d65cdfba
STATUS:CONFIRMED
LAST-MODIFIED:20240930T124712Z
DESCRIPTION:5. Liga Herren Gruppe 1\nBegegnungs-Nr: 0\nHeim: Romanshorn IV\nGast: Rorschach II\n\nAdresse: Florastrasse\, 8590 Romanshorn\n
LOCATION:Florastrasse\, 8590 Romanshorn
CATEGORIES:Saison 2024/25
END:VEVENT
BEGIN:VEVENT
DTSTAMP:20260425T005107Z
DTSTART;TZID=Europe/Berlin:20240906T201500
DTEND;TZID=Europe/Berlin:20240906T231500
SUMMARY:HE 5. Liga Gr. 1 Romanshorn IV vs St. Gallen VII (0)
UID:11186f92-2bdb-45cf-ae23-48e2afc7999d
STATUS:CONFIRMED
LAST-MODIFIED:20240912T080359Z
DESCRIPTION:5. Liga Herren Gruppe 1\nBegegnungs-Nr: 0\nHeim: Romanshorn IV\nGast: St. Gallen VII\n\nAdresse: Florastrasse\, 8590 Romanshorn\n
LOCATION:Florastrasse\, 8590 Romanshorn
CATEGORIES:Saison 2024/25
END:VEVENT
BEGIN:VEVENT
DTSTAMP:20260425T005107Z
DTSTART;TZID=Europe/Berlin:20250327T201500
DTEND;TZID=Europe/Berlin:20250327T231500
SUMMARY:HE 5. Liga Gr. 1 Romanshorn IV vs Herisau III (0)
UID:e8ada6de-8f0a-4cce-9de0-8cc6b1b2fdec
STATUS:CONFIRMED
LAST-MODIFIED:20250404T083120Z
DESCRIPTION:5. Liga Herren Gruppe 1\nBegegnungs-Nr: 0\nHeim: Romanshorn IV\nGast: Herisau III\n\nAdresse: Florastrasse\, 8590 Romanshorn\n
LOCATION:Florastrasse\, 8590 Romanshorn
CATEGORIES:Saison 2024/25
END:VEVENT
BEGIN:VEVENT
DTSTAMP:20260425T005107Z
DTSTART;TZID=Europe/Berlin:20250313T201500
DTEND;TZID=Europe/Berlin:20250313T231500
SUMMARY:HE 5. Liga Gr. 1 Romanshorn IV vs Kreuzlingen (0)
UID:920754ce-4771-450a-b67c-e3ec2efbfb23
STATUS:CONFIRMED
LAST-MODIFIED:20250320T080116Z
DESCRIPTION:5. Liga Herren Gruppe 1\nBegegnungs-Nr: 0\nHeim: Romanshorn IV\nGast: Kreuzlingen\n\nAdresse: Florastrasse\, 8590 Romanshorn\n
LOCATION:Florastrasse\, 8590 Romanshorn
CATEGORIES:Saison 2024/25
END:VEVENT
BEGIN:VEVENT
DTSTAMP:20260425T005107Z
DTSTART;TZID=Europe/Berlin:20250206T201500
DTEND;TZID=Europe/Berlin:20250206T231500
SUMMARY:HE 5. Liga Gr. 1 Romanshorn IV vs Arbon (0)
UID:29a188c8-8aea-4e50-b728-988a44305671
STATUS:CONFIRMED
LAST-MODIFIED:20250213T132049Z
DESCRIPTION:5. Liga Herren Gruppe 1\nBegegnungs-Nr: 0\nHeim: Romanshorn IV\nGast: Arbon\n\nAdresse: Florastrasse\, 8590 Romanshorn\n
LOCATION:Florastrasse\, 8590 Romanshorn
CATEGORIES:Saison 2024/25
END:VEVENT
BEGIN:VEVENT
DTSTAMP:20260425T005107Z
DTSTART;TZID=Europe/Berlin:20250116T201500
DTEND;TZID=Europe/Berlin:20250116T231500
SUMMARY:HE 5. Liga Gr. 1 Romanshorn IV vs Gossau St.Gallen III (0)
UID:9c14f99e-068a-4503-b9bb-aa2f52a3ad33
STATUS:CONFIRMED
LAST-MODIFIED:20250123T082852Z
DESCRIPTION:5. Liga Herren Gruppe 1\nBegegnungs-Nr: 0\nHeim: Romanshorn IV\nGast: Gossau St.Gallen III\n\nAdresse: Florastrasse\, 8590 Romanshorn\n
LOCATION:Florastrasse\, 8590 Romanshorn
CATEGORIES:Saison 2024/25
END:VEVENT
BEGIN:VEVENT
DTSTAMP:20260425T005107Z
DTSTART;TZID=Europe/Berlin:20241213T200000
DTEND;TZID=Europe/Berlin:20241213T230000
SUMMARY:HE 5. Liga Gr. 1 Herisau III vs Romanshorn IV (0)
UID:e94cb336-5ab1-4cb9-91ef-4b0b75091fcc
STATUS:CONFIRMED
LAST-MODIFIED:20241217T104213Z
DESCRIPTION:5. Liga Herren Gruppe 1\nBegegnungs-Nr: 0\nHeim: Herisau III\nGast: Romanshorn IV\n\nAdresse: Schwellbrunnerstrasse 29\, 9100 Herisau\n
LOCATION:Schwellbrunnerstrasse 29\, 9100 Herisau
CATEGORIES:Saison 2024/25
END:VEVENT
BEGIN:VEVENT
DTSTAMP:20260425T005107Z
DTSTART;TZID=Europe/Berlin:20241113T200000
DTEND;TZID=Europe/Berlin:20241113T230000
SUMMARY:HE 5. Liga Gr. 1 Kreuzlingen vs Romanshorn IV (0)
UID:8c7beb20-a4e0-4f54-b065-856686e0f4cf
STATUS:CONFIRMED
LAST-MODIFIED:20241122T151158Z
DESCRIPTION:5. Liga Herren Gruppe 1\nBegegnungs-Nr: 0\nHeim: Kreuzlingen\nGast: Romanshorn IV\n\nAdresse: Rothausstrasse 14\, 8280 Kreuzlingen\n
LOCATION:Rothausstrasse 14\, 8280 Kreuzlingen
CATEGORIES:Saison 2024/25
END:VEVENT
BEGIN:VEVENT
DTSTAMP:20260425T005107Z
DTSTART;TZID=Europe/Berlin:20240917T200000
DTEND;TZID=Europe/Berlin:20240917T230000
SUMMARY:HE 5. Liga Gr. 1 Arbon vs Romanshorn IV (0)
UID:795f0b56-53e8-425f-8e8e-651fe2637551
STATUS:CONFIRMED
LAST-MODIFIED:20240918T101837Z
DESCRIPTION:5. Liga Herren Gruppe 1\nBegegnungs-Nr: 0\nHeim: Arbon\nGast: Romanshorn IV\n\nAdresse: Promenadenstrasse 17\, 9320 Arbon\n
LOCATION:Promenadenstrasse 17\, 9320 Arbon
CATEGORIES:Saison 2024/25
END:VEVENT
BEGIN:VEVENT
DTSTAMP:20260425T005107Z
DTSTART;TZID=Europe/Berlin:20240829T201500
DTEND;TZID=Europe/Berlin:20240829T231500
SUMMARY:HE 5. Liga Gr. 1 Gossau St.Gallen III vs Romanshorn IV (0)
UID:37293bac-5bf5-4834-ad1f-4ea25e452b5f
STATUS:CONFIRMED
LAST-MODIFIED:20240904T103700Z
DESCRIPTION:5. Liga Herren Gruppe 1\nBegegnungs-Nr: 0\nHeim: Gossau St.Gallen III\nGast: Romanshorn IV\n\nAdresse: Falkenstrasse 21\, 9200 Gossau\n
LOCATION:Falkenstrasse 21\, 9200 Gossau
CATEGORIES:Saison 2024/25
END:VEVENT
BEGIN:VEVENT
DTSTAMP:20260425T005107Z
DTSTART;TZID=Europe/Berlin:20250304T200000
DTEND;TZID=Europe/Berlin:20250304T230000
SUMMARY:HE 5. Liga Gr. 1 Horn II vs Romanshorn IV (0)
UID:f22b4ca3-c236-4fa5-8cf3-457385e7b43c
STATUS:CONFIRMED
LAST-MODIFIED:20250311T155858Z
DESCRIPTION:5. Liga Herren Gruppe 1\nBegegnungs-Nr: 0\nHeim: Horn II\nGast: Romanshorn IV\n\nAdresse: Feldstrasse 16\, 9326 Horn\n
LOCATION:Feldstrasse 16\, 9326 Horn
CATEGORIES:Saison 2024/25
END:VEVENT
BEGIN:VEVENT
DTSTAMP:20260425T005107Z
DTSTART;TZID=Europe/Berlin:20250214T200000
DTEND;TZID=Europe/Berlin:20250214T230000
SUMMARY:HE 5. Liga Gr. 1 Rorschach II vs Romanshorn IV (0)
UID:c96aa3b0-a510-4e6d-8bf2-a9753a77d4e0
STATUS:CONFIRMED
LAST-MODIFIED:20250219T132852Z
DESCRIPTION:5. Liga Herren Gruppe 1\nBegegnungs-Nr: 0\nHeim: Rorschach II\nGast: Romanshorn IV\n\nAdresse: Mariabergstrasse 33\, 9400 Rorschach\n
LOCATION:Mariabergstrasse 33\, 9400 Rorschach
CATEGORIES:Saison 2024/25
END:VEVENT
BEGIN:VEVENT
DTSTAMP:20260425T005107Z
DTSTART;TZID=Europe/Berlin:20250124T200000
DTEND;TZID=Europe/Berlin:20250124T230000
SUMMARY:HE 5. Liga Gr. 1 St. Gallen VII vs Romanshorn IV (0)
UID:3126016d-cafc-4121-89bf-88a8216fa8de
STATUS:CONFIRMED
LAST-MODIFIED:20250129T124010Z
DESCRIPTION:5. Liga Herren Gruppe 1\nBegegnungs-Nr: 0\nHeim: St. Gallen VII\nGast: Romanshorn IV\n\nAdresse: Zilstrasse 61\, 9016 St.Gallen\n
LOCATION:Zilstrasse 61\, 9016 St.Gallen
CATEGORIES:Saison 2024/25
END:VEVENT
END:VCALENDAR
