BEGIN:VCALENDAR
PRODID:-//nuDatenautomaten//framework iCal4j //DE
VERSION:2.0
CALSCALE:GREGORIAN
BEGIN:VTIMEZONE
TZID:Europe/Berlin
LAST-MODIFIED:20260306T231828Z
TZURL:https://www.tzurl.org/zoneinfo/Europe/Berlin
X-LIC-LOCATION:Europe/Berlin
X-PROLEPTIC-TZNAME:LMT
BEGIN:STANDARD
TZNAME:CET
TZOFFSETFROM:+005328
TZOFFSETTO:+0100
DTSTART:18930401T000000
END:STANDARD
BEGIN:DAYLIGHT
TZNAME:CEST
TZOFFSETFROM:+0100
TZOFFSETTO:+0200
DTSTART:19160430T230000
RDATE:19400401T020000
RDATE:19430329T020000
RDATE:19460414T020000
RDATE:19470406T030000
RDATE:19480418T020000
RDATE:19490410T020000
RDATE:19800406T020000
END:DAYLIGHT
BEGIN:STANDARD
TZNAME:CET
TZOFFSETFROM:+0200
TZOFFSETTO:+0100
DTSTART:19161001T010000
RDATE:19421102T030000
RDATE:19431004T030000
RDATE:19441002T030000
RDATE:19451118T030000
RDATE:19461007T030000
END:STANDARD
BEGIN:DAYLIGHT
TZNAME:CEST
TZOFFSETFROM:+0100
TZOFFSETTO:+0200
DTSTART:19170416T020000
RRULE:FREQ=YEARLY;UNTIL=19180415T010000Z;BYMONTH=4;BYDAY=3MO
END:DAYLIGHT
BEGIN:STANDARD
TZNAME:CET
TZOFFSETFROM:+0200
TZOFFSETTO:+0100
DTSTART:19170917T030000
RRULE:FREQ=YEARLY;UNTIL=19180916T010000Z;BYMONTH=9;BYDAY=3MO
END:STANDARD
BEGIN:DAYLIGHT
TZNAME:CEST
TZOFFSETFROM:+0100
TZOFFSETTO:+0200
DTSTART:19440403T020000
RRULE:FREQ=YEARLY;UNTIL=19450402T010000Z;BYMONTH=4;BYDAY=1MO
END:DAYLIGHT
BEGIN:DAYLIGHT
TZNAME:CEMT
TZOFFSETFROM:+0200
TZOFFSETTO:+0300
DTSTART:19450524T020000
RDATE:19470511T030000
END:DAYLIGHT
BEGIN:DAYLIGHT
TZNAME:CEST
TZOFFSETFROM:+0300
TZOFFSETTO:+0200
DTSTART:19450924T030000
RDATE:19470629T030000
END:DAYLIGHT
BEGIN:STANDARD
TZNAME:CET
TZOFFSETFROM:+0100
TZOFFSETTO:+0100
DTSTART:19460101T000000
RDATE:19800101T000000
END:STANDARD
BEGIN:STANDARD
TZNAME:CET
TZOFFSETFROM:+0200
TZOFFSETTO:+0100
DTSTART:19471005T030000
RRULE:FREQ=YEARLY;UNTIL=19491002T010000Z;BYMONTH=10;BYDAY=1SU
END:STANDARD
BEGIN:STANDARD
TZNAME:CET
TZOFFSETFROM:+0200
TZOFFSETTO:+0100
DTSTART:19800928T030000
RRULE:FREQ=YEARLY;UNTIL=19950924T010000Z;BYMONTH=9;BYDAY=-1SU
END:STANDARD
BEGIN:DAYLIGHT
TZNAME:CEST
TZOFFSETFROM:+0100
TZOFFSETTO:+0200
DTSTART:19810329T020000
RRULE:FREQ=YEARLY;BYMONTH=3;BYDAY=-1SU
END:DAYLIGHT
BEGIN:STANDARD
TZNAME:CET
TZOFFSETFROM:+0200
TZOFFSETTO:+0100
DTSTART:19961027T030000
RRULE:FREQ=YEARLY;BYMONTH=10;BYDAY=-1SU
END:STANDARD
END:VTIMEZONE
BEGIN:VEVENT
DTSTAMP:20260424T192640Z
DTSTART;TZID=Europe/Berlin:20250321T200000
DTEND;TZID=Europe/Berlin:20250321T230000
SUMMARY:J L1 Rossens vs Rolle (0)
UID:f6448bb5-d850-4e08-a833-a38c3537192e
STATUS:CONFIRMED
LAST-MODIFIED:20250322T123752Z
DESCRIPTION:1ère ligue Jeunesse\nBegegnungs-Nr: 0\nHeim: Rossens\nGast: Rolle\n\nAdresse: Route du Jordil 14\, 1728 Rossens\n
LOCATION:Route du Jordil 14\, 1728 Rossens
CATEGORIES:Saison 2024/25
END:VEVENT
BEGIN:VEVENT
DTSTAMP:20260424T192640Z
DTSTART;TZID=Europe/Berlin:20250207T200000
DTEND;TZID=Europe/Berlin:20250207T230000
SUMMARY:J L1 Rossens vs Lausanne (0)
UID:23e477a9-858d-4830-aaf6-a6ad9fdb2128
STATUS:CONFIRMED
LAST-MODIFIED:20250210T162852Z
DESCRIPTION:1ère ligue Jeunesse\nBegegnungs-Nr: 0\nHeim: Rossens\nGast: Lausanne\n\nAdresse: Route du Jordil 14\, 1728 Rossens\n
LOCATION:Route du Jordil 14\, 1728 Rossens
CATEGORIES:Saison 2024/25
END:VEVENT
BEGIN:VEVENT
DTSTAMP:20260424T192640Z
DTSTART;TZID=Europe/Berlin:20250110T200000
DTEND;TZID=Europe/Berlin:20250110T230000
SUMMARY:J L1 Rossens vs Sierre (0)
UID:0454fcc7-7ac9-4a3b-a94d-efa2102b535c
STATUS:CONFIRMED
LAST-MODIFIED:20250111T014145Z
DESCRIPTION:1ère ligue Jeunesse\nBegegnungs-Nr: 0\nHeim: Rossens\nGast: Sierre\n\nAdresse: Route du Jordil 14\, 1728 Rossens\n
LOCATION:Route du Jordil 14\, 1728 Rossens
CATEGORIES:Saison 2024/25
END:VEVENT
BEGIN:VEVENT
DTSTAMP:20260424T192640Z
DTSTART;TZID=Europe/Berlin:20241220T200000
DTEND;TZID=Europe/Berlin:20241220T230000
SUMMARY:J L1 Rossens vs Fribourg (0)
UID:cff6d5fc-449e-44cd-aa8b-9b71bd5b0aba
STATUS:CONFIRMED
LAST-MODIFIED:20241221T110558Z
DESCRIPTION:1ère ligue Jeunesse\nBegegnungs-Nr: 0\nHeim: Rossens\nGast: Fribourg\n\nAdresse: Route du Jordil 14\, 1728 Rossens\n
LOCATION:Route du Jordil 14\, 1728 Rossens
CATEGORIES:Saison 2024/25
END:VEVENT
BEGIN:VEVENT
DTSTAMP:20260424T192640Z
DTSTART;TZID=Europe/Berlin:20250425T200000
DTEND;TZID=Europe/Berlin:20250425T230000
SUMMARY:J L1 Rossens vs Gland (0)
UID:c8dd7f27-02ec-4def-8357-7e9343548953
STATUS:CONFIRMED
LAST-MODIFIED:20250426T105050Z
DESCRIPTION:1ère ligue Jeunesse\nBegegnungs-Nr: 0\nHeim: Rossens\nGast: Gland\n\nAdresse: Route du Jordil 14\, 1728 Rossens\n
LOCATION:Route du Jordil 14\, 1728 Rossens
CATEGORIES:Saison 2024/25
END:VEVENT
BEGIN:VEVENT
DTSTAMP:20260424T192640Z
DTSTART;TZID=Europe/Berlin:20241204T183000
DTEND;TZID=Europe/Berlin:20241204T213000
SUMMARY:J L1 Rolle vs Rossens (0)
UID:703a8725-9f30-48f8-8d27-e94d828fae5c
STATUS:CONFIRMED
LAST-MODIFIED:20241205T225646Z
DESCRIPTION:1ère ligue Jeunesse\nBegegnungs-Nr: 0\nHeim: Rolle\nGast: Rossens\n\nAdresse: Route des Quatre-Communes 7\, 1180 Rolle\n
LOCATION:Route des Quatre-Communes 7\, 1180 Rolle
CATEGORIES:Saison 2024/25
END:VEVENT
BEGIN:VEVENT
DTSTAMP:20260424T192640Z
DTSTART;TZID=Europe/Berlin:20241116T133000
DTEND;TZID=Europe/Berlin:20241116T163000
SUMMARY:J L1 Gland vs Rossens (0)
UID:8cfea2ed-2181-411d-96dd-69c6f475961b
STATUS:CONFIRMED
LAST-MODIFIED:20241116T192620Z
DESCRIPTION:1ère ligue Jeunesse\nBegegnungs-Nr: 0\nHeim: Gland\nGast: Rossens\n\nAdresse: Chemin de la Perroude 1\, 1196 Gland\n
LOCATION:Chemin de la Perroude 1\, 1196 Gland
CATEGORIES:Saison 2024/25
END:VEVENT
BEGIN:VEVENT
DTSTAMP:20260424T192640Z
DTSTART;TZID=Europe/Berlin:20250427T103000
DTEND;TZID=Europe/Berlin:20250427T133000
SUMMARY:J L1 Lausanne vs Rossens (0)
UID:4817b951-918e-4fd9-956c-c21f6a262d9d
STATUS:CONFIRMED
LAST-MODIFIED:20250427T174438Z
DESCRIPTION:1ère ligue Jeunesse\nBegegnungs-Nr: 0\nHeim: Lausanne\nGast: Rossens\nHalle: Route du Jordil 14\, 1728 Rossens\nAdresse: Vaudoise Aréna\, Ch. du Viaduc 14\, 1008 Prilly\n
LOCATION:Route du Jordil 14\, 1728 Rossens Vaudoise Aréna\, Ch. du Viaduc 14\, 1008 Prilly
CATEGORIES:Saison 2024/25
END:VEVENT
BEGIN:VEVENT
DTSTAMP:20260424T192640Z
DTSTART;TZID=Europe/Berlin:20250412T103000
DTEND;TZID=Europe/Berlin:20250412T133000
SUMMARY:J L1 Sierre vs Rossens (0)
UID:f3467877-e4d9-46f7-be78-1b534afed5a6
STATUS:CONFIRMED
LAST-MODIFIED:20250414T154325Z
DESCRIPTION:1ère ligue Jeunesse\nBegegnungs-Nr: 0\nHeim: Sierre\nGast: Rossens\n\nAdresse: Rue de Guillamo 3\, 3960 Sierre\n
LOCATION:Rue de Guillamo 3\, 3960 Sierre
CATEGORIES:Saison 2024/25
END:VEVENT
BEGIN:VEVENT
DTSTAMP:20260424T192640Z
DTSTART;TZID=Europe/Berlin:20250411T191500
DTEND;TZID=Europe/Berlin:20250411T221500
SUMMARY:J L1 Fribourg vs Rossens (0)
UID:6fb50c1d-3768-4acc-b8e2-ced8898a0ea1
STATUS:CONFIRMED
LAST-MODIFIED:20250413T111839Z
DESCRIPTION:1ère ligue Jeunesse\nBegegnungs-Nr: 0\nHeim: Fribourg\nGast: Rossens\n\nAdresse: Avenue Général Guisan 61\, 1700 Fribourg\n
LOCATION:Avenue Général Guisan 61\, 1700 Fribourg
CATEGORIES:Saison 2024/25
END:VEVENT
END:VCALENDAR
