BEGIN:VCALENDAR
PRODID:-//nuDatenautomaten//framework iCal4j //DE
VERSION:2.0
CALSCALE:GREGORIAN
BEGIN:VTIMEZONE
TZID:Europe/Berlin
LAST-MODIFIED:20260306T231828Z
TZURL:https://www.tzurl.org/zoneinfo/Europe/Berlin
X-LIC-LOCATION:Europe/Berlin
X-PROLEPTIC-TZNAME:LMT
BEGIN:STANDARD
TZNAME:CET
TZOFFSETFROM:+005328
TZOFFSETTO:+0100
DTSTART:18930401T000000
END:STANDARD
BEGIN:DAYLIGHT
TZNAME:CEST
TZOFFSETFROM:+0100
TZOFFSETTO:+0200
DTSTART:19160430T230000
RDATE:19400401T020000
RDATE:19430329T020000
RDATE:19460414T020000
RDATE:19470406T030000
RDATE:19480418T020000
RDATE:19490410T020000
RDATE:19800406T020000
END:DAYLIGHT
BEGIN:STANDARD
TZNAME:CET
TZOFFSETFROM:+0200
TZOFFSETTO:+0100
DTSTART:19161001T010000
RDATE:19421102T030000
RDATE:19431004T030000
RDATE:19441002T030000
RDATE:19451118T030000
RDATE:19461007T030000
END:STANDARD
BEGIN:DAYLIGHT
TZNAME:CEST
TZOFFSETFROM:+0100
TZOFFSETTO:+0200
DTSTART:19170416T020000
RRULE:FREQ=YEARLY;UNTIL=19180415T010000Z;BYMONTH=4;BYDAY=3MO
END:DAYLIGHT
BEGIN:STANDARD
TZNAME:CET
TZOFFSETFROM:+0200
TZOFFSETTO:+0100
DTSTART:19170917T030000
RRULE:FREQ=YEARLY;UNTIL=19180916T010000Z;BYMONTH=9;BYDAY=3MO
END:STANDARD
BEGIN:DAYLIGHT
TZNAME:CEST
TZOFFSETFROM:+0100
TZOFFSETTO:+0200
DTSTART:19440403T020000
RRULE:FREQ=YEARLY;UNTIL=19450402T010000Z;BYMONTH=4;BYDAY=1MO
END:DAYLIGHT
BEGIN:DAYLIGHT
TZNAME:CEMT
TZOFFSETFROM:+0200
TZOFFSETTO:+0300
DTSTART:19450524T020000
RDATE:19470511T030000
END:DAYLIGHT
BEGIN:DAYLIGHT
TZNAME:CEST
TZOFFSETFROM:+0300
TZOFFSETTO:+0200
DTSTART:19450924T030000
RDATE:19470629T030000
END:DAYLIGHT
BEGIN:STANDARD
TZNAME:CET
TZOFFSETFROM:+0100
TZOFFSETTO:+0100
DTSTART:19460101T000000
RDATE:19800101T000000
END:STANDARD
BEGIN:STANDARD
TZNAME:CET
TZOFFSETFROM:+0200
TZOFFSETTO:+0100
DTSTART:19471005T030000
RRULE:FREQ=YEARLY;UNTIL=19491002T010000Z;BYMONTH=10;BYDAY=1SU
END:STANDARD
BEGIN:STANDARD
TZNAME:CET
TZOFFSETFROM:+0200
TZOFFSETTO:+0100
DTSTART:19800928T030000
RRULE:FREQ=YEARLY;UNTIL=19950924T010000Z;BYMONTH=9;BYDAY=-1SU
END:STANDARD
BEGIN:DAYLIGHT
TZNAME:CEST
TZOFFSETFROM:+0100
TZOFFSETTO:+0200
DTSTART:19810329T020000
RRULE:FREQ=YEARLY;BYMONTH=3;BYDAY=-1SU
END:DAYLIGHT
BEGIN:STANDARD
TZNAME:CET
TZOFFSETFROM:+0200
TZOFFSETTO:+0100
DTSTART:19961027T030000
RRULE:FREQ=YEARLY;BYMONTH=10;BYDAY=-1SU
END:STANDARD
END:VTIMEZONE
BEGIN:VEVENT
DTSTAMP:20260425T032903Z
DTSTART;TZID=Europe/Berlin:20241206T200000
DTEND;TZID=Europe/Berlin:20241206T230000
SUMMARY:HE 4. Liga Gr. 8 Chur IV vs Rapperswil-Jona VII (0)
UID:86bbc52c-505b-4517-96cc-14027bb1c21a
STATUS:CONFIRMED
LAST-MODIFIED:20241211T093103Z
DESCRIPTION:4. Liga Herren Gruppe 8\nBegegnungs-Nr: 0\nHeim: Chur IV\nGast: Rapperswil-Jona VII\n\nAdresse: Bodmerstrasse 10\, 7000 Chur\n
LOCATION:Bodmerstrasse 10\, 7000 Chur
CATEGORIES:Saison 2024/25
END:VEVENT
BEGIN:VEVENT
DTSTAMP:20260425T032903Z
DTSTART;TZID=Europe/Berlin:20240920T200000
DTEND;TZID=Europe/Berlin:20240920T230000
SUMMARY:HE 4. Liga Gr. 8 Chur IV vs Wädenswil VI (0)
UID:7c676140-0aec-4a50-aa12-6b8b6e1581de
STATUS:CONFIRMED
LAST-MODIFIED:20240930T125208Z
DESCRIPTION:4. Liga Herren Gruppe 8\nBegegnungs-Nr: 0\nHeim: Chur IV\nGast: Wädenswil VI\n\nAdresse: Bodmerstrasse 10\, 7000 Chur\n
LOCATION:Bodmerstrasse 10\, 7000 Chur
CATEGORIES:Saison 2024/25
END:VEVENT
BEGIN:VEVENT
DTSTAMP:20260425T032903Z
DTSTART;TZID=Europe/Berlin:20241115T200000
DTEND;TZID=Europe/Berlin:20241115T230000
SUMMARY:HE 4. Liga Gr. 8 Chur IV vs Triesen III (0)
UID:ad92f46d-6325-4841-87c0-a0052ad00861
STATUS:CONFIRMED
LAST-MODIFIED:20241122T151040Z
DESCRIPTION:4. Liga Herren Gruppe 8\nBegegnungs-Nr: 0\nHeim: Chur IV\nGast: Triesen III\n\nAdresse: Bodmerstrasse 10\, 7000 Chur\n
LOCATION:Bodmerstrasse 10\, 7000 Chur
CATEGORIES:Saison 2024/25
END:VEVENT
BEGIN:VEVENT
DTSTAMP:20260425T032903Z
DTSTART;TZID=Europe/Berlin:20240905T200000
DTEND;TZID=Europe/Berlin:20240905T230000
SUMMARY:HE 4. Liga Gr. 8 Chur IV vs Chur V (0)
UID:29651edc-9e99-45cf-8519-bf441157133d
STATUS:CONFIRMED
LAST-MODIFIED:20240906T095929Z
DESCRIPTION:4. Liga Herren Gruppe 8\nBegegnungs-Nr: 0\nHeim: Chur IV\nGast: Chur V\n\nAdresse: Sandstr. 35\, 7000 Chur\n
LOCATION:Sandstr. 35\, 7000 Chur
CATEGORIES:Saison 2024/25
END:VEVENT
BEGIN:VEVENT
DTSTAMP:20260425T032903Z
DTSTART;TZID=Europe/Berlin:20250214T200000
DTEND;TZID=Europe/Berlin:20250214T230000
SUMMARY:HE 4. Liga Gr. 8 Chur IV vs Oberriet II (0)
UID:330df53d-1930-4f0c-b9b2-e582b8136a3b
STATUS:CONFIRMED
LAST-MODIFIED:20250219T113734Z
DESCRIPTION:4. Liga Herren Gruppe 8\nBegegnungs-Nr: 0\nHeim: Chur IV\nGast: Oberriet II\n\nAdresse: Bodmerstrasse 10\, 7000 Chur\n
LOCATION:Bodmerstrasse 10\, 7000 Chur
CATEGORIES:Saison 2024/25
END:VEVENT
BEGIN:VEVENT
DTSTAMP:20260425T032903Z
DTSTART;TZID=Europe/Berlin:20250124T200000
DTEND;TZID=Europe/Berlin:20250124T230000
SUMMARY:HE 4. Liga Gr. 8 Chur IV vs Horgen IV (0)
UID:f19b4aed-790c-4740-a0b5-92767d3287ba
STATUS:CONFIRMED
LAST-MODIFIED:20250129T123924Z
DESCRIPTION:4. Liga Herren Gruppe 8\nBegegnungs-Nr: 0\nHeim: Chur IV\nGast: Horgen IV\n\nAdresse: Bodmerstrasse 10\, 7000 Chur\n
LOCATION:Bodmerstrasse 10\, 7000 Chur
CATEGORIES:Saison 2024/25
END:VEVENT
BEGIN:VEVENT
DTSTAMP:20260425T032903Z
DTSTART;TZID=Europe/Berlin:20250314T200000
DTEND;TZID=Europe/Berlin:20250314T230000
SUMMARY:HE 4. Liga Gr. 8 Chur IV vs Flums III (0)
UID:8459adaf-54a0-4aef-bfa7-483e01bff3f4
STATUS:CONFIRMED
LAST-MODIFIED:20250319T094407Z
DESCRIPTION:4. Liga Herren Gruppe 8\nBegegnungs-Nr: 0\nHeim: Chur IV\nGast: Flums III\n\nAdresse: Bodmerstrasse 10\, 7000 Chur\n
LOCATION:Bodmerstrasse 10\, 7000 Chur
CATEGORIES:Saison 2024/25
END:VEVENT
BEGIN:VEVENT
DTSTAMP:20260425T032903Z
DTSTART;TZID=Europe/Berlin:20241209T201500
DTEND;TZID=Europe/Berlin:20241209T231500
SUMMARY:HE 4. Liga Gr. 8 Flums III vs Chur IV (0)
UID:b1cd1161-35bc-4ad4-a9d2-e4523f02e533
STATUS:CONFIRMED
LAST-MODIFIED:20241211T093136Z
DESCRIPTION:4. Liga Herren Gruppe 8\nBegegnungs-Nr: 0\nHeim: Flums III\nGast: Chur IV\n\nAdresse: Bergstrasse\, 8890 Flums\n
LOCATION:Bergstrasse\, 8890 Flums
CATEGORIES:Saison 2024/25
END:VEVENT
BEGIN:VEVENT
DTSTAMP:20260425T032903Z
DTSTART;TZID=Europe/Berlin:20241002T200000
DTEND;TZID=Europe/Berlin:20241002T230000
SUMMARY:HE 4. Liga Gr. 8 Oberriet II vs Chur IV (0)
UID:3109f09f-c7bc-484e-8066-cf51edccf496
STATUS:CONFIRMED
LAST-MODIFIED:20241004T080653Z
DESCRIPTION:4. Liga Herren Gruppe 8\nBegegnungs-Nr: 0\nHeim: Oberriet II\nGast: Chur IV\n\nAdresse: Neugutstrasse 2\, 9463 Oberriet SG\n
LOCATION:Neugutstrasse 2\, 9463 Oberriet SG
CATEGORIES:Saison 2024/25
END:VEVENT
BEGIN:VEVENT
DTSTAMP:20260425T032903Z
DTSTART;TZID=Europe/Berlin:20241119T200000
DTEND;TZID=Europe/Berlin:20241119T230000
SUMMARY:HE 4. Liga Gr. 8 Horgen IV vs Chur IV (0)
UID:a4d3e90e-ed8b-4b62-a127-11155510a7bc
STATUS:CONFIRMED
LAST-MODIFIED:20241122T151122Z
DESCRIPTION:4. Liga Herren Gruppe 8\nBegegnungs-Nr: 0\nHeim: Horgen IV\nGast: Chur IV\n\nAdresse: Seestrasse 110\, 8810 Horgen\n
LOCATION:Seestrasse 110\, 8810 Horgen
CATEGORIES:Saison 2024/25
END:VEVENT
BEGIN:VEVENT
DTSTAMP:20260425T032903Z
DTSTART;TZID=Europe/Berlin:20250130T200000
DTEND;TZID=Europe/Berlin:20250130T230000
SUMMARY:HE 4. Liga Gr. 8 Wädenswil VI vs Chur IV (0)
UID:dbe437e9-88dc-4994-b893-8167ac5e5d82
STATUS:CONFIRMED
LAST-MODIFIED:20250204T135045Z
DESCRIPTION:4. Liga Herren Gruppe 8\nBegegnungs-Nr: 0\nHeim: Wädenswil VI\nGast: Chur IV\n\nAdresse: Fuhrstrasse 16b\, 8820 Wädenswil\n
LOCATION:Fuhrstrasse 16b\, 8820 Wädenswil
CATEGORIES:Saison 2024/25
END:VEVENT
BEGIN:VEVENT
DTSTAMP:20260425T032903Z
DTSTART;TZID=Europe/Berlin:20250329T130000
DTEND;TZID=Europe/Berlin:20250329T160000
SUMMARY:HE 4. Liga Gr. 8 Rapperswil-Jona VII vs Chur IV (0)
UID:40da4f75-6b51-4097-a837-9b7e534f2594
STATUS:CONFIRMED
LAST-MODIFIED:20250404T083111Z
DESCRIPTION:4. Liga Herren Gruppe 8\nBegegnungs-Nr: 0\nHeim: Rapperswil-Jona VII\nGast: Chur IV\n\nAdresse: Kreuzstrasse 43\, 8640 Rapperswil\n
LOCATION:Kreuzstrasse 43\, 8640 Rapperswil
CATEGORIES:Saison 2024/25
END:VEVENT
BEGIN:VEVENT
DTSTAMP:20260425T032903Z
DTSTART;TZID=Europe/Berlin:20250218T194500
DTEND;TZID=Europe/Berlin:20250218T224500
SUMMARY:HE 4. Liga Gr. 8 Triesen III vs Chur IV (0)
UID:a1e1295c-d63f-4f75-b824-ea48c4375993
STATUS:CONFIRMED
LAST-MODIFIED:20250219T115843Z
DESCRIPTION:4. Liga Herren Gruppe 8\nBegegnungs-Nr: 0\nHeim: Triesen III\nGast: Chur IV\n\nAdresse: Gässle 12\, 9495 Triesen\n
LOCATION:Gässle 12\, 9495 Triesen
CATEGORIES:Saison 2024/25
END:VEVENT
BEGIN:VEVENT
DTSTAMP:20260425T032903Z
DTSTART;TZID=Europe/Berlin:20250109T200000
DTEND;TZID=Europe/Berlin:20250109T230000
SUMMARY:HE 4. Liga Gr. 8 Chur V vs Chur IV (0)
UID:6ac902a0-abab-46d6-80e2-f58e7080d65f
STATUS:CONFIRMED
LAST-MODIFIED:20250110T151301Z
DESCRIPTION:4. Liga Herren Gruppe 8\nBegegnungs-Nr: 0\nHeim: Chur V\nGast: Chur IV\n\nAdresse: Sandstr. 35\, 7000 Chur\n
LOCATION:Sandstr. 35\, 7000 Chur
CATEGORIES:Saison 2024/25
END:VEVENT
END:VCALENDAR
