BEGIN:VCALENDAR
PRODID:-//nuDatenautomaten//framework iCal4j //DE
VERSION:2.0
CALSCALE:GREGORIAN
BEGIN:VTIMEZONE
TZID:Europe/Berlin
LAST-MODIFIED:20260306T231828Z
TZURL:https://www.tzurl.org/zoneinfo/Europe/Berlin
X-LIC-LOCATION:Europe/Berlin
X-PROLEPTIC-TZNAME:LMT
BEGIN:STANDARD
TZNAME:CET
TZOFFSETFROM:+005328
TZOFFSETTO:+0100
DTSTART:18930401T000000
END:STANDARD
BEGIN:DAYLIGHT
TZNAME:CEST
TZOFFSETFROM:+0100
TZOFFSETTO:+0200
DTSTART:19160430T230000
RDATE:19400401T020000
RDATE:19430329T020000
RDATE:19460414T020000
RDATE:19470406T030000
RDATE:19480418T020000
RDATE:19490410T020000
RDATE:19800406T020000
END:DAYLIGHT
BEGIN:STANDARD
TZNAME:CET
TZOFFSETFROM:+0200
TZOFFSETTO:+0100
DTSTART:19161001T010000
RDATE:19421102T030000
RDATE:19431004T030000
RDATE:19441002T030000
RDATE:19451118T030000
RDATE:19461007T030000
END:STANDARD
BEGIN:DAYLIGHT
TZNAME:CEST
TZOFFSETFROM:+0100
TZOFFSETTO:+0200
DTSTART:19170416T020000
RRULE:FREQ=YEARLY;UNTIL=19180415T010000Z;BYMONTH=4;BYDAY=3MO
END:DAYLIGHT
BEGIN:STANDARD
TZNAME:CET
TZOFFSETFROM:+0200
TZOFFSETTO:+0100
DTSTART:19170917T030000
RRULE:FREQ=YEARLY;UNTIL=19180916T010000Z;BYMONTH=9;BYDAY=3MO
END:STANDARD
BEGIN:DAYLIGHT
TZNAME:CEST
TZOFFSETFROM:+0100
TZOFFSETTO:+0200
DTSTART:19440403T020000
RRULE:FREQ=YEARLY;UNTIL=19450402T010000Z;BYMONTH=4;BYDAY=1MO
END:DAYLIGHT
BEGIN:DAYLIGHT
TZNAME:CEMT
TZOFFSETFROM:+0200
TZOFFSETTO:+0300
DTSTART:19450524T020000
RDATE:19470511T030000
END:DAYLIGHT
BEGIN:DAYLIGHT
TZNAME:CEST
TZOFFSETFROM:+0300
TZOFFSETTO:+0200
DTSTART:19450924T030000
RDATE:19470629T030000
END:DAYLIGHT
BEGIN:STANDARD
TZNAME:CET
TZOFFSETFROM:+0100
TZOFFSETTO:+0100
DTSTART:19460101T000000
RDATE:19800101T000000
END:STANDARD
BEGIN:STANDARD
TZNAME:CET
TZOFFSETFROM:+0200
TZOFFSETTO:+0100
DTSTART:19471005T030000
RRULE:FREQ=YEARLY;UNTIL=19491002T010000Z;BYMONTH=10;BYDAY=1SU
END:STANDARD
BEGIN:STANDARD
TZNAME:CET
TZOFFSETFROM:+0200
TZOFFSETTO:+0100
DTSTART:19800928T030000
RRULE:FREQ=YEARLY;UNTIL=19950924T010000Z;BYMONTH=9;BYDAY=-1SU
END:STANDARD
BEGIN:DAYLIGHT
TZNAME:CEST
TZOFFSETFROM:+0100
TZOFFSETTO:+0200
DTSTART:19810329T020000
RRULE:FREQ=YEARLY;BYMONTH=3;BYDAY=-1SU
END:DAYLIGHT
BEGIN:STANDARD
TZNAME:CET
TZOFFSETFROM:+0200
TZOFFSETTO:+0100
DTSTART:19961027T030000
RRULE:FREQ=YEARLY;BYMONTH=10;BYDAY=-1SU
END:STANDARD
END:VTIMEZONE
BEGIN:VEVENT
DTSTAMP:20260424T231841Z
DTSTART;TZID=Europe/Berlin:20250622T131500
DTEND;TZID=Europe/Berlin:20250622T161500
SUMMARY:Final U15\, Final (3/4) Neuhausen vs Ostermundigen (0)
UID:0d4ca4e5-3fa1-47a4-bc4b-d6b248e32aa6
STATUS:CONFIRMED
LAST-MODIFIED:20250624T153230Z
DESCRIPTION:STT Finalrunde U15\, Final (3/4 Rang)\nBegegnungs-Nr: 0\nHeim: Neuhausen\nGast: Ostermundigen\n
LOCATION:
CATEGORIES:Saison 2024/25
END:VEVENT
BEGIN:VEVENT
DTSTAMP:20260424T231841Z
DTSTART;TZID=Europe/Berlin:20250308T143000
DTEND;TZID=Europe/Berlin:20250308T173000
SUMMARY:Qualifikation U15 Neuhausen vs Affoltern A/A (3)
UID:71a81db4-e7ac-4bc9-bad7-f96b90ce9d2f
STATUS:CONFIRMED
LAST-MODIFIED:20250313T104654Z
DESCRIPTION:Qualifikation U15\nBegegnungs-Nr: 3\nHeim: Neuhausen\nGast: Affoltern A/A\n
LOCATION:
CATEGORIES:Saison 2024/25
END:VEVENT
BEGIN:VEVENT
DTSTAMP:20260424T231841Z
DTSTART;TZID=Europe/Berlin:20250621T113000
DTEND;TZID=Europe/Berlin:20250621T143000
SUMMARY:Final U15\, Vorrunde\, Gr. B Neuhausen vs Lugano (2)
UID:2df73519-ff75-4bb2-b01e-ea7c57829cc4
STATUS:CONFIRMED
LAST-MODIFIED:20250624T153014Z
DESCRIPTION:STT Finalrunde U15\, Vorrunde\, Gruppe B\nBegegnungs-Nr: 2\nHeim: Neuhausen\nGast: Lugano\n
LOCATION:
CATEGORIES:Saison 2024/25
END:VEVENT
BEGIN:VEVENT
DTSTAMP:20260424T231841Z
DTSTART;TZID=Europe/Berlin:20250621T160000
DTEND;TZID=Europe/Berlin:20250621T190000
SUMMARY:Final U15\, Vorrunde\, Gr. B Neuhausen vs Entente Pongiste Neuchâteloise (6)
UID:0c47b5ce-efb3-42e4-84f4-68b1a4b97dcc
STATUS:CONFIRMED
LAST-MODIFIED:20250624T153048Z
DESCRIPTION:STT Finalrunde U15\, Vorrunde\, Gruppe B\nBegegnungs-Nr: 6\nHeim: Neuhausen\nGast: Entente Pongiste Neuchâteloise\n
LOCATION:
CATEGORIES:Saison 2024/25
END:VEVENT
BEGIN:VEVENT
DTSTAMP:20260424T231841Z
DTSTART;TZID=Europe/Berlin:20250622T090000
DTEND;TZID=Europe/Berlin:20250622T120000
SUMMARY:Final U15\, Halbfinal (1-4) Rapid Luzern vs Neuhausen (0)
UID:a4ee9d10-bfa3-4c17-9c67-ae2b9f704358
STATUS:CONFIRMED
LAST-MODIFIED:20250624T153153Z
DESCRIPTION:STT Finalrunde U15\, Halbfinal (1-4 Rang)\nBegegnungs-Nr: 0\nHeim: Rapid Luzern\nGast: Neuhausen\n
LOCATION:
CATEGORIES:Saison 2024/25
END:VEVENT
BEGIN:VEVENT
DTSTAMP:20260424T231841Z
DTSTART;TZID=Europe/Berlin:20250308T160000
DTEND;TZID=Europe/Berlin:20250308T190000
SUMMARY:Qualifikation U15 St. Gallen vs Neuhausen (5)
UID:6c966fec-ed0d-4e61-bb91-bf2e463072a4
STATUS:CONFIRMED
LAST-MODIFIED:20250312T150554Z
DESCRIPTION:Qualifikation U15\nBegegnungs-Nr: 5\nHeim: St. Gallen\nGast: Neuhausen\n
LOCATION:
CATEGORIES:Saison 2024/25
END:VEVENT
BEGIN:VEVENT
DTSTAMP:20260424T231841Z
DTSTART;TZID=Europe/Berlin:20250308T130000
DTEND;TZID=Europe/Berlin:20250308T160000
SUMMARY:Qualifikation U15 Young Stars ZH vs Neuhausen (1)
UID:8d0896ad-8beb-430e-889c-948c576251f4
STATUS:CONFIRMED
LAST-MODIFIED:20250312T150516Z
DESCRIPTION:Qualifikation U15\nBegegnungs-Nr: 1\nHeim: Young Stars ZH\nGast: Neuhausen\n
LOCATION:
CATEGORIES:Saison 2024/25
END:VEVENT
BEGIN:VEVENT
DTSTAMP:20260424T231841Z
DTSTART;TZID=Europe/Berlin:20250621T134500
DTEND;TZID=Europe/Berlin:20250621T164500
SUMMARY:Final U15\, Vorrunde\, Gr. B UGS-Chênois vs Neuhausen (3)
UID:3ace9c6d-6ba3-4aba-ab5d-9529e3c6cff9
STATUS:CONFIRMED
LAST-MODIFIED:20250624T153024Z
DESCRIPTION:STT Finalrunde U15\, Vorrunde\, Gruppe B\nBegegnungs-Nr: 3\nHeim: UGS-Chênois\nGast: Neuhausen\n
LOCATION:
CATEGORIES:Saison 2024/25
END:VEVENT
END:VCALENDAR
