BEGIN:VCALENDAR
PRODID:-//nuDatenautomaten//framework iCal4j //DE
VERSION:2.0
CALSCALE:GREGORIAN
BEGIN:VTIMEZONE
TZID:Europe/Berlin
LAST-MODIFIED:20260306T231828Z
TZURL:https://www.tzurl.org/zoneinfo/Europe/Berlin
X-LIC-LOCATION:Europe/Berlin
X-PROLEPTIC-TZNAME:LMT
BEGIN:STANDARD
TZNAME:CET
TZOFFSETFROM:+005328
TZOFFSETTO:+0100
DTSTART:18930401T000000
END:STANDARD
BEGIN:DAYLIGHT
TZNAME:CEST
TZOFFSETFROM:+0100
TZOFFSETTO:+0200
DTSTART:19160430T230000
RDATE:19400401T020000
RDATE:19430329T020000
RDATE:19460414T020000
RDATE:19470406T030000
RDATE:19480418T020000
RDATE:19490410T020000
RDATE:19800406T020000
END:DAYLIGHT
BEGIN:STANDARD
TZNAME:CET
TZOFFSETFROM:+0200
TZOFFSETTO:+0100
DTSTART:19161001T010000
RDATE:19421102T030000
RDATE:19431004T030000
RDATE:19441002T030000
RDATE:19451118T030000
RDATE:19461007T030000
END:STANDARD
BEGIN:DAYLIGHT
TZNAME:CEST
TZOFFSETFROM:+0100
TZOFFSETTO:+0200
DTSTART:19170416T020000
RRULE:FREQ=YEARLY;UNTIL=19180415T010000Z;BYMONTH=4;BYDAY=3MO
END:DAYLIGHT
BEGIN:STANDARD
TZNAME:CET
TZOFFSETFROM:+0200
TZOFFSETTO:+0100
DTSTART:19170917T030000
RRULE:FREQ=YEARLY;UNTIL=19180916T010000Z;BYMONTH=9;BYDAY=3MO
END:STANDARD
BEGIN:DAYLIGHT
TZNAME:CEST
TZOFFSETFROM:+0100
TZOFFSETTO:+0200
DTSTART:19440403T020000
RRULE:FREQ=YEARLY;UNTIL=19450402T010000Z;BYMONTH=4;BYDAY=1MO
END:DAYLIGHT
BEGIN:DAYLIGHT
TZNAME:CEMT
TZOFFSETFROM:+0200
TZOFFSETTO:+0300
DTSTART:19450524T020000
RDATE:19470511T030000
END:DAYLIGHT
BEGIN:DAYLIGHT
TZNAME:CEST
TZOFFSETFROM:+0300
TZOFFSETTO:+0200
DTSTART:19450924T030000
RDATE:19470629T030000
END:DAYLIGHT
BEGIN:STANDARD
TZNAME:CET
TZOFFSETFROM:+0100
TZOFFSETTO:+0100
DTSTART:19460101T000000
RDATE:19800101T000000
END:STANDARD
BEGIN:STANDARD
TZNAME:CET
TZOFFSETFROM:+0200
TZOFFSETTO:+0100
DTSTART:19471005T030000
RRULE:FREQ=YEARLY;UNTIL=19491002T010000Z;BYMONTH=10;BYDAY=1SU
END:STANDARD
BEGIN:STANDARD
TZNAME:CET
TZOFFSETFROM:+0200
TZOFFSETTO:+0100
DTSTART:19800928T030000
RRULE:FREQ=YEARLY;UNTIL=19950924T010000Z;BYMONTH=9;BYDAY=-1SU
END:STANDARD
BEGIN:DAYLIGHT
TZNAME:CEST
TZOFFSETFROM:+0100
TZOFFSETTO:+0200
DTSTART:19810329T020000
RRULE:FREQ=YEARLY;BYMONTH=3;BYDAY=-1SU
END:DAYLIGHT
BEGIN:STANDARD
TZNAME:CET
TZOFFSETFROM:+0200
TZOFFSETTO:+0100
DTSTART:19961027T030000
RRULE:FREQ=YEARLY;BYMONTH=10;BYDAY=-1SU
END:STANDARD
END:VTIMEZONE
BEGIN:VEVENT
DTSTAMP:20260425T005109Z
DTSTART;TZID=Europe/Berlin:20240923T193000
DTEND;TZID=Europe/Berlin:20240923T223000
SUMMARY:HE 5. Liga Gr. 3 Schaffhausen vs Imperial Winterthur II (0)
UID:aee5b384-10fa-4c48-826d-6618c3dad432
STATUS:CONFIRMED
LAST-MODIFIED:20240926T114256Z
DESCRIPTION:5. Liga Herren Gruppe 3\nBegegnungs-Nr: 0\nHeim: Schaffhausen\nGast: Imperial Winterthur II\n\nAdresse: Grünaustieg 30\, 8200 Schaffhausen\n
LOCATION:Grünaustieg 30\, 8200 Schaffhausen
CATEGORIES:Saison 2024/25
END:VEVENT
BEGIN:VEVENT
DTSTAMP:20260425T005109Z
DTSTART;TZID=Europe/Berlin:20240826T193000
DTEND;TZID=Europe/Berlin:20240826T223000
SUMMARY:HE 5. Liga Gr. 3 Schaffhausen vs Bülach IV (0)
UID:3ef393a3-0978-4559-bf24-d552d04754aa
STATUS:CONFIRMED
LAST-MODIFIED:20240828T083926Z
DESCRIPTION:5. Liga Herren Gruppe 3\nBegegnungs-Nr: 0\nHeim: Schaffhausen\nGast: Bülach IV\n\nAdresse: Grünaustieg 30\, 8200 Schaffhausen\n
LOCATION:Grünaustieg 30\, 8200 Schaffhausen
CATEGORIES:Saison 2024/25
END:VEVENT
BEGIN:VEVENT
DTSTAMP:20260425T005109Z
DTSTART;TZID=Europe/Berlin:20250324T193000
DTEND;TZID=Europe/Berlin:20250324T223000
SUMMARY:HE 5. Liga Gr. 3 Schaffhausen vs Neuhausen VI (0)
UID:6d5a5e62-7cde-4765-ac76-d914747a862c
STATUS:CONFIRMED
LAST-MODIFIED:20250327T134045Z
DESCRIPTION:5. Liga Herren Gruppe 3\nBegegnungs-Nr: 0\nHeim: Schaffhausen\nGast: Neuhausen VI\n\nAdresse: Grünaustieg 30\, 8200 Schaffhausen\n
LOCATION:Grünaustieg 30\, 8200 Schaffhausen
CATEGORIES:Saison 2024/25
END:VEVENT
BEGIN:VEVENT
DTSTAMP:20260425T005109Z
DTSTART;TZID=Europe/Berlin:20250310T193000
DTEND;TZID=Europe/Berlin:20250310T223000
SUMMARY:HE 5. Liga Gr. 3 Schaffhausen vs Winterthur V (0)
UID:a18b76ae-95ec-434b-bfaf-ca3ee69cfccd
STATUS:CONFIRMED
LAST-MODIFIED:20250311T160201Z
DESCRIPTION:5. Liga Herren Gruppe 3\nBegegnungs-Nr: 0\nHeim: Schaffhausen\nGast: Winterthur V\n\nAdresse: Grünaustieg 30\, 8200 Schaffhausen\n
LOCATION:Grünaustieg 30\, 8200 Schaffhausen
CATEGORIES:Saison 2024/25
END:VEVENT
BEGIN:VEVENT
DTSTAMP:20260425T005109Z
DTSTART;TZID=Europe/Berlin:20250210T193000
DTEND;TZID=Europe/Berlin:20250210T223000
SUMMARY:HE 5. Liga Gr. 3 Schaffhausen vs Steckborn-Homburg V (0)
UID:4d01bce3-d1bf-423e-ac55-d522c7f9fcef
STATUS:CONFIRMED
LAST-MODIFIED:20250213T132158Z
DESCRIPTION:5. Liga Herren Gruppe 3\nBegegnungs-Nr: 0\nHeim: Schaffhausen\nGast: Steckborn-Homburg V\n\nAdresse: Grünaustieg 30\, 8200 Schaffhausen\n
LOCATION:Grünaustieg 30\, 8200 Schaffhausen
CATEGORIES:Saison 2024/25
END:VEVENT
BEGIN:VEVENT
DTSTAMP:20260425T005109Z
DTSTART;TZID=Europe/Berlin:20250120T193000
DTEND;TZID=Europe/Berlin:20250120T223000
SUMMARY:HE 5. Liga Gr. 3 Schaffhausen vs Neuhausen VII (0)
UID:a59b1dc6-5ef8-4363-bc18-80d8509d948e
STATUS:CONFIRMED
LAST-MODIFIED:20250123T083030Z
DESCRIPTION:5. Liga Herren Gruppe 3\nBegegnungs-Nr: 0\nHeim: Schaffhausen\nGast: Neuhausen VII\n\nAdresse: Grünaustieg 30\, 8200 Schaffhausen\n
LOCATION:Grünaustieg 30\, 8200 Schaffhausen
CATEGORIES:Saison 2024/25
END:VEVENT
BEGIN:VEVENT
DTSTAMP:20260425T005109Z
DTSTART;TZID=Europe/Berlin:20241028T193000
DTEND;TZID=Europe/Berlin:20241028T223000
SUMMARY:HE 5. Liga Gr. 3 Schaffhausen vs Embrachertal IV (0)
UID:ada41fcc-91f0-4e8c-937d-d1ecd0f2ea0b
STATUS:CONFIRMED
LAST-MODIFIED:20241030T122829Z
DESCRIPTION:5. Liga Herren Gruppe 3\nBegegnungs-Nr: 0\nHeim: Schaffhausen\nGast: Embrachertal IV\n\nAdresse: Grünaustieg 30\, 8200 Schaffhausen\n
LOCATION:Grünaustieg 30\, 8200 Schaffhausen
CATEGORIES:Saison 2024/25
END:VEVENT
BEGIN:VEVENT
DTSTAMP:20260425T005109Z
DTSTART;TZID=Europe/Berlin:20240911T200000
DTEND;TZID=Europe/Berlin:20240911T230000
SUMMARY:HE 5. Liga Gr. 3 Neuhausen VII vs Schaffhausen (0)
UID:8850a58a-6549-4f18-a5b4-690c7d1a013b
STATUS:CONFIRMED
LAST-MODIFIED:20240913T112813Z
DESCRIPTION:5. Liga Herren Gruppe 3\nBegegnungs-Nr: 0\nHeim: Neuhausen VII\nGast: Schaffhausen\n\nAdresse: Ebnatstrasse 35\, 8200 Schaffhausen\n
LOCATION:Ebnatstrasse 35\, 8200 Schaffhausen
CATEGORIES:Saison 2024/25
END:VEVENT
BEGIN:VEVENT
DTSTAMP:20260425T005109Z
DTSTART;TZID=Europe/Berlin:20250304T193000
DTEND;TZID=Europe/Berlin:20250304T223000
SUMMARY:HE 5. Liga Gr. 3 Embrachertal IV vs Schaffhausen (0)
UID:505379d9-a4b2-45fa-a250-b319dfa4b8dc
STATUS:CONFIRMED
LAST-MODIFIED:20250306T142622Z
DESCRIPTION:5. Liga Herren Gruppe 3\nBegegnungs-Nr: 0\nHeim: Embrachertal IV\nGast: Schaffhausen\n\nAdresse: Hintermarchlenstrasse 31 + 33\, 8426 Lufingen\n
LOCATION:Hintermarchlenstrasse 31 + 33\, 8426 Lufingen
CATEGORIES:Saison 2024/25
END:VEVENT
BEGIN:VEVENT
DTSTAMP:20260425T005109Z
DTSTART;TZID=Europe/Berlin:20250130T200000
DTEND;TZID=Europe/Berlin:20250130T230000
SUMMARY:HE 5. Liga Gr. 3 Imperial Winterthur II vs Schaffhausen (0)
UID:d3f2bb2d-5b30-4d09-bcaf-15fdbd6cef0d
STATUS:CONFIRMED
LAST-MODIFIED:20250131T143857Z
DESCRIPTION:5. Liga Herren Gruppe 3\nBegegnungs-Nr: 0\nHeim: Imperial Winterthur II\nGast: Schaffhausen\n\nAdresse: Büelhofstrasse 25a\, 8405 Winterthur\n
LOCATION:Büelhofstrasse 25a\, 8405 Winterthur
CATEGORIES:Saison 2024/25
END:VEVENT
BEGIN:VEVENT
DTSTAMP:20260425T005109Z
DTSTART;TZID=Europe/Berlin:20250110T193000
DTEND;TZID=Europe/Berlin:20250110T223000
SUMMARY:HE 5. Liga Gr. 3 Bülach IV vs Schaffhausen (0)
UID:f38fd6e9-5808-4128-82f1-d132833cc517
STATUS:CONFIRMED
LAST-MODIFIED:20250113T123420Z
DESCRIPTION:5. Liga Herren Gruppe 3\nBegegnungs-Nr: 0\nHeim: Bülach IV\nGast: Schaffhausen\n\nAdresse: Schwerzgruebstrasse 28\, 8180 Bülach\n
LOCATION:Schwerzgruebstrasse 28\, 8180 Bülach
CATEGORIES:Saison 2024/25
END:VEVENT
BEGIN:VEVENT
DTSTAMP:20260425T005109Z
DTSTART;TZID=Europe/Berlin:20241204T200000
DTEND;TZID=Europe/Berlin:20241204T230000
SUMMARY:HE 5. Liga Gr. 3 Neuhausen VI vs Schaffhausen (0)
UID:70c7185e-5e58-45ea-b95b-03c15cca69b3
STATUS:CONFIRMED
LAST-MODIFIED:20241205T125548Z
DESCRIPTION:5. Liga Herren Gruppe 3\nBegegnungs-Nr: 0\nHeim: Neuhausen VI\nGast: Schaffhausen\n\nAdresse: Ebnatstrasse 35\, 8200 Schaffhausen\n
LOCATION:Ebnatstrasse 35\, 8200 Schaffhausen
CATEGORIES:Saison 2024/25
END:VEVENT
BEGIN:VEVENT
DTSTAMP:20260425T005109Z
DTSTART;TZID=Europe/Berlin:20241115T201500
DTEND;TZID=Europe/Berlin:20241115T231500
SUMMARY:HE 5. Liga Gr. 3 Winterthur V vs Schaffhausen (0)
UID:f3a2f681-1891-447b-b080-d326c913a983
STATUS:CONFIRMED
LAST-MODIFIED:20241122T151243Z
DESCRIPTION:5. Liga Herren Gruppe 3\nBegegnungs-Nr: 0\nHeim: Winterthur V\nGast: Schaffhausen\n\nAdresse: Buchackerstrasse 54\, 8400 Winterthur\n
LOCATION:Buchackerstrasse 54\, 8400 Winterthur
CATEGORIES:Saison 2024/25
END:VEVENT
BEGIN:VEVENT
DTSTAMP:20260425T005109Z
DTSTART;TZID=Europe/Berlin:20240926T201500
DTEND;TZID=Europe/Berlin:20240926T231500
SUMMARY:HE 5. Liga Gr. 3 Steckborn-Homburg V vs Schaffhausen (0)
UID:01d88b6d-f27c-4492-aa16-78050d1f0cad
STATUS:CONFIRMED
LAST-MODIFIED:20240930T125019Z
DESCRIPTION:5. Liga Herren Gruppe 3\nBegegnungs-Nr: 0\nHeim: Steckborn-Homburg V\nGast: Schaffhausen\n\nAdresse: Feldbach\, 8266 Steckborn\n
LOCATION:Feldbach\, 8266 Steckborn
CATEGORIES:Saison 2024/25
END:VEVENT
END:VCALENDAR
