BEGIN:VCALENDAR
PRODID:-//nuDatenautomaten//framework iCal4j //DE
VERSION:2.0
CALSCALE:GREGORIAN
BEGIN:VTIMEZONE
TZID:Europe/Berlin
LAST-MODIFIED:20260306T231828Z
TZURL:https://www.tzurl.org/zoneinfo/Europe/Berlin
X-LIC-LOCATION:Europe/Berlin
X-PROLEPTIC-TZNAME:LMT
BEGIN:STANDARD
TZNAME:CET
TZOFFSETFROM:+005328
TZOFFSETTO:+0100
DTSTART:18930401T000000
END:STANDARD
BEGIN:DAYLIGHT
TZNAME:CEST
TZOFFSETFROM:+0100
TZOFFSETTO:+0200
DTSTART:19160430T230000
RDATE:19400401T020000
RDATE:19430329T020000
RDATE:19460414T020000
RDATE:19470406T030000
RDATE:19480418T020000
RDATE:19490410T020000
RDATE:19800406T020000
END:DAYLIGHT
BEGIN:STANDARD
TZNAME:CET
TZOFFSETFROM:+0200
TZOFFSETTO:+0100
DTSTART:19161001T010000
RDATE:19421102T030000
RDATE:19431004T030000
RDATE:19441002T030000
RDATE:19451118T030000
RDATE:19461007T030000
END:STANDARD
BEGIN:DAYLIGHT
TZNAME:CEST
TZOFFSETFROM:+0100
TZOFFSETTO:+0200
DTSTART:19170416T020000
RRULE:FREQ=YEARLY;UNTIL=19180415T010000Z;BYMONTH=4;BYDAY=3MO
END:DAYLIGHT
BEGIN:STANDARD
TZNAME:CET
TZOFFSETFROM:+0200
TZOFFSETTO:+0100
DTSTART:19170917T030000
RRULE:FREQ=YEARLY;UNTIL=19180916T010000Z;BYMONTH=9;BYDAY=3MO
END:STANDARD
BEGIN:DAYLIGHT
TZNAME:CEST
TZOFFSETFROM:+0100
TZOFFSETTO:+0200
DTSTART:19440403T020000
RRULE:FREQ=YEARLY;UNTIL=19450402T010000Z;BYMONTH=4;BYDAY=1MO
END:DAYLIGHT
BEGIN:DAYLIGHT
TZNAME:CEMT
TZOFFSETFROM:+0200
TZOFFSETTO:+0300
DTSTART:19450524T020000
RDATE:19470511T030000
END:DAYLIGHT
BEGIN:DAYLIGHT
TZNAME:CEST
TZOFFSETFROM:+0300
TZOFFSETTO:+0200
DTSTART:19450924T030000
RDATE:19470629T030000
END:DAYLIGHT
BEGIN:STANDARD
TZNAME:CET
TZOFFSETFROM:+0100
TZOFFSETTO:+0100
DTSTART:19460101T000000
RDATE:19800101T000000
END:STANDARD
BEGIN:STANDARD
TZNAME:CET
TZOFFSETFROM:+0200
TZOFFSETTO:+0100
DTSTART:19471005T030000
RRULE:FREQ=YEARLY;UNTIL=19491002T010000Z;BYMONTH=10;BYDAY=1SU
END:STANDARD
BEGIN:STANDARD
TZNAME:CET
TZOFFSETFROM:+0200
TZOFFSETTO:+0100
DTSTART:19800928T030000
RRULE:FREQ=YEARLY;UNTIL=19950924T010000Z;BYMONTH=9;BYDAY=-1SU
END:STANDARD
BEGIN:DAYLIGHT
TZNAME:CEST
TZOFFSETFROM:+0100
TZOFFSETTO:+0200
DTSTART:19810329T020000
RRULE:FREQ=YEARLY;BYMONTH=3;BYDAY=-1SU
END:DAYLIGHT
BEGIN:STANDARD
TZNAME:CET
TZOFFSETFROM:+0200
TZOFFSETTO:+0100
DTSTART:19961027T030000
RRULE:FREQ=YEARLY;BYMONTH=10;BYDAY=-1SU
END:STANDARD
END:VTIMEZONE
BEGIN:VEVENT
DTSTAMP:20260425T005110Z
DTSTART;TZID=Europe/Berlin:20240831T143000
DTEND;TZID=Europe/Berlin:20240831T173000
SUMMARY:JUG\, 2.Liga\, Gr.2\, Vorrunde Wädenswil II vs Winterthur II (3)
UID:ee25443b-8699-486e-9b7f-05462f7d96e1
STATUS:CONFIRMED
LAST-MODIFIED:20240904T122106Z
DESCRIPTION:Jugend\, 2. Liga\, Gruppe 2\, Vorrunde\nBegegnungs-Nr: 3\nHeim: Wädenswil II\nGast: Winterthur II\n\nAdresse: Fuhrstrasse 16b\, 8820 Wädenswil\n
LOCATION:Fuhrstrasse 16b\, 8820 Wädenswil
CATEGORIES:Saison 2024/25
END:VEVENT
BEGIN:VEVENT
DTSTAMP:20260425T005110Z
DTSTART;TZID=Europe/Berlin:20241116T143000
DTEND;TZID=Europe/Berlin:20241116T173000
SUMMARY:JUG. 2.Liga\, Gr.6\, Zw-Runde Wädenswil II vs Herisau (3)
UID:9b0a4ad1-d73e-4e1a-80af-8cec74ae89f3
STATUS:CONFIRMED
LAST-MODIFIED:20241027T200356Z
DESCRIPTION:Jugend\, 2. Liga\, Gruppe 6\, Zw-Runde\nBegegnungs-Nr: 3\nHeim: Wädenswil II\nGast: Herisau\n
LOCATION:
CATEGORIES:Saison 2024/25
END:VEVENT
BEGIN:VEVENT
DTSTAMP:20260425T005110Z
DTSTART;TZID=Europe/Berlin:20250329T160000
DTEND;TZID=Europe/Berlin:20250329T190000
SUMMARY:JUG\, 2.Liga\, Gr.6\, Final Wädenswil II vs Young Stars ZH V (6)
UID:90af1a3f-465d-438b-8238-fb77a88dd407
STATUS:CONFIRMED
LAST-MODIFIED:20250404T085010Z
DESCRIPTION:Jugend\, 2. Liga\, Gruppe 6\, Final\nBegegnungs-Nr: 6\nHeim: Wädenswil II\nGast: Young Stars ZH V\n\nAdresse: Fuhrstrasse 16b\, 8820 Wädenswil\n
LOCATION:Fuhrstrasse 16b\, 8820 Wädenswil
CATEGORIES:Saison 2024/25
END:VEVENT
BEGIN:VEVENT
DTSTAMP:20260425T005110Z
DTSTART;TZID=Europe/Berlin:20240831T160000
DTEND;TZID=Europe/Berlin:20240831T190000
SUMMARY:JUG\, 2.Liga\, Gr.2\, Vorrunde Affoltern A/A II vs Wädenswil II (5)
UID:ff8ab7ac-b460-4d6c-9650-10faa946eba9
STATUS:CONFIRMED
LAST-MODIFIED:20240904T122131Z
DESCRIPTION:Jugend\, 2. Liga\, Gruppe 2\, Vorrunde\nBegegnungs-Nr: 5\nHeim: Affoltern A/A II\nGast: Wädenswil II\n\nAdresse: Butzenstrasse 8\, 8910 Affoltern am Albis\n
LOCATION:Butzenstrasse 8\, 8910 Affoltern am Albis
CATEGORIES:Saison 2024/25
END:VEVENT
BEGIN:VEVENT
DTSTAMP:20260425T005110Z
DTSTART;TZID=Europe/Berlin:20240831T130000
DTEND;TZID=Europe/Berlin:20240831T160000
SUMMARY:JUG\, 2.Liga\, Gr.2\, Vorrunde Young Stars ZH III vs Wädenswil II (1)
UID:d1343679-105e-47c1-8961-cebafd4c2cf0
STATUS:CONFIRMED
LAST-MODIFIED:20240904T122033Z
DESCRIPTION:Jugend\, 2. Liga\, Gruppe 2\, Vorrunde\nBegegnungs-Nr: 1\nHeim: Young Stars ZH III\nGast: Wädenswil II\nHalle: Poule in Zürich\, TH Balgrist\nAdresse: Balgriststrasse 55\, 8008 Zürich\n
LOCATION:Poule in Zürich\, TH Balgrist Balgriststrasse 55\, 8008 Zürich
CATEGORIES:Saison 2024/25
END:VEVENT
BEGIN:VEVENT
DTSTAMP:20260425T005110Z
DTSTART;TZID=Europe/Berlin:20241116T130000
DTEND;TZID=Europe/Berlin:20241116T160000
SUMMARY:JUG. 2.Liga\, Gr.6\, Zw-Runde Uster II vs Wädenswil II (1)
UID:17e8cf5d-d825-47b0-8606-a406bfa3c88d
STATUS:CONFIRMED
LAST-MODIFIED:20241027T200319Z
DESCRIPTION:Jugend\, 2. Liga\, Gruppe 6\, Zw-Runde\nBegegnungs-Nr: 1\nHeim: Uster II\nGast: Wädenswil II\n
LOCATION:
CATEGORIES:Saison 2024/25
END:VEVENT
BEGIN:VEVENT
DTSTAMP:20260425T005110Z
DTSTART;TZID=Europe/Berlin:20241116T160000
DTEND;TZID=Europe/Berlin:20241116T190000
SUMMARY:JUG. 2.Liga\, Gr.6\, Zw-Runde Höngg vs Wädenswil II (5)
UID:ec6265d6-2ae0-4f91-a06f-dbb93d4b8e68
STATUS:CONFIRMED
LAST-MODIFIED:20241027T200425Z
DESCRIPTION:Jugend\, 2. Liga\, Gruppe 6\, Zw-Runde\nBegegnungs-Nr: 5\nHeim: Höngg\nGast: Wädenswil II\n
LOCATION:
CATEGORIES:Saison 2024/25
END:VEVENT
BEGIN:VEVENT
DTSTAMP:20260425T005110Z
DTSTART;TZID=Europe/Berlin:20250329T130000
DTEND;TZID=Europe/Berlin:20250329T160000
SUMMARY:JUG\, 2.Liga\, Gr.6\, Final St. Gallen III vs Wädenswil II (2)
UID:a4d453d6-dcac-44ed-a553-15fda75f42ef
STATUS:CONFIRMED
LAST-MODIFIED:20250404T084931Z
DESCRIPTION:Jugend\, 2. Liga\, Gruppe 6\, Final\nBegegnungs-Nr: 2\nHeim: St. Gallen III\nGast: Wädenswil II\n\nAdresse: Zilstrasse 61\, 9016 St.Gallen\n
LOCATION:Zilstrasse 61\, 9016 St.Gallen
CATEGORIES:Saison 2024/25
END:VEVENT
BEGIN:VEVENT
DTSTAMP:20260425T005110Z
DTSTART;TZID=Europe/Berlin:20250329T143000
DTEND;TZID=Europe/Berlin:20250329T173000
SUMMARY:JUG\, 2.Liga\, Gr.6\, Final Libera Zürich vs Wädenswil II (3)
UID:3b335161-35d9-4143-8119-9f13633cbc3e
STATUS:CONFIRMED
LAST-MODIFIED:20250404T084940Z
DESCRIPTION:Jugend\, 2. Liga\, Gruppe 6\, Final\nBegegnungs-Nr: 3\nHeim: Libera Zürich\nGast: Wädenswil II\n\nAdresse: Sperletweg 71\, 8052 Zürich\n
LOCATION:Sperletweg 71\, 8052 Zürich
CATEGORIES:Saison 2024/25
END:VEVENT
END:VCALENDAR
