BEGIN:VCALENDAR
PRODID:-//nuDatenautomaten//framework iCal4j //DE
VERSION:2.0
CALSCALE:GREGORIAN
BEGIN:VTIMEZONE
TZID:Europe/Berlin
LAST-MODIFIED:20260306T231828Z
TZURL:https://www.tzurl.org/zoneinfo/Europe/Berlin
X-LIC-LOCATION:Europe/Berlin
X-PROLEPTIC-TZNAME:LMT
BEGIN:STANDARD
TZNAME:CET
TZOFFSETFROM:+005328
TZOFFSETTO:+0100
DTSTART:18930401T000000
END:STANDARD
BEGIN:DAYLIGHT
TZNAME:CEST
TZOFFSETFROM:+0100
TZOFFSETTO:+0200
DTSTART:19160430T230000
RDATE:19400401T020000
RDATE:19430329T020000
RDATE:19460414T020000
RDATE:19470406T030000
RDATE:19480418T020000
RDATE:19490410T020000
RDATE:19800406T020000
END:DAYLIGHT
BEGIN:STANDARD
TZNAME:CET
TZOFFSETFROM:+0200
TZOFFSETTO:+0100
DTSTART:19161001T010000
RDATE:19421102T030000
RDATE:19431004T030000
RDATE:19441002T030000
RDATE:19451118T030000
RDATE:19461007T030000
END:STANDARD
BEGIN:DAYLIGHT
TZNAME:CEST
TZOFFSETFROM:+0100
TZOFFSETTO:+0200
DTSTART:19170416T020000
RRULE:FREQ=YEARLY;UNTIL=19180415T010000Z;BYMONTH=4;BYDAY=3MO
END:DAYLIGHT
BEGIN:STANDARD
TZNAME:CET
TZOFFSETFROM:+0200
TZOFFSETTO:+0100
DTSTART:19170917T030000
RRULE:FREQ=YEARLY;UNTIL=19180916T010000Z;BYMONTH=9;BYDAY=3MO
END:STANDARD
BEGIN:DAYLIGHT
TZNAME:CEST
TZOFFSETFROM:+0100
TZOFFSETTO:+0200
DTSTART:19440403T020000
RRULE:FREQ=YEARLY;UNTIL=19450402T010000Z;BYMONTH=4;BYDAY=1MO
END:DAYLIGHT
BEGIN:DAYLIGHT
TZNAME:CEMT
TZOFFSETFROM:+0200
TZOFFSETTO:+0300
DTSTART:19450524T020000
RDATE:19470511T030000
END:DAYLIGHT
BEGIN:DAYLIGHT
TZNAME:CEST
TZOFFSETFROM:+0300
TZOFFSETTO:+0200
DTSTART:19450924T030000
RDATE:19470629T030000
END:DAYLIGHT
BEGIN:STANDARD
TZNAME:CET
TZOFFSETFROM:+0100
TZOFFSETTO:+0100
DTSTART:19460101T000000
RDATE:19800101T000000
END:STANDARD
BEGIN:STANDARD
TZNAME:CET
TZOFFSETFROM:+0200
TZOFFSETTO:+0100
DTSTART:19471005T030000
RRULE:FREQ=YEARLY;UNTIL=19491002T010000Z;BYMONTH=10;BYDAY=1SU
END:STANDARD
BEGIN:STANDARD
TZNAME:CET
TZOFFSETFROM:+0200
TZOFFSETTO:+0100
DTSTART:19800928T030000
RRULE:FREQ=YEARLY;UNTIL=19950924T010000Z;BYMONTH=9;BYDAY=-1SU
END:STANDARD
BEGIN:DAYLIGHT
TZNAME:CEST
TZOFFSETFROM:+0100
TZOFFSETTO:+0200
DTSTART:19810329T020000
RRULE:FREQ=YEARLY;BYMONTH=3;BYDAY=-1SU
END:DAYLIGHT
BEGIN:STANDARD
TZNAME:CET
TZOFFSETFROM:+0200
TZOFFSETTO:+0100
DTSTART:19961027T030000
RRULE:FREQ=YEARLY;BYMONTH=10;BYDAY=-1SU
END:STANDARD
END:VTIMEZONE
BEGIN:VEVENT
DTSTAMP:20260425T004946Z
DTSTART;TZID=Europe/Berlin:20240831T160000
DTEND;TZID=Europe/Berlin:20240831T190000
SUMMARY:JUG\, 3.Liga\, Gr.5\, Vorrunde Wetzikon II vs Meilen-Männedorf II (5)
UID:e7f175f6-d5cb-40f8-ad3b-13bf586bb781
STATUS:CONFIRMED
LAST-MODIFIED:20240904T133305Z
DESCRIPTION:Jugend\, 3. Liga\,Gruppe 5\, Vorrunde\nBegegnungs-Nr: 5\nHeim: Wetzikon II\nGast: Meilen-Männedorf II\n\nAdresse: Usterstrasse 37\, 8620 Wetzikon\n
LOCATION:Usterstrasse 37\, 8620 Wetzikon
CATEGORIES:Saison 2024/25
END:VEVENT
BEGIN:VEVENT
DTSTAMP:20260425T004946Z
DTSTART;TZID=Europe/Berlin:20240831T130000
DTEND;TZID=Europe/Berlin:20240831T160000
SUMMARY:JUG\, 3.Liga\, Gr.5\, Vorrunde Wetzikon II vs TSV Zumikon (2)
UID:78430f98-eb35-4ac5-8b52-7ebaeaa2ea7d
STATUS:CONFIRMED
LAST-MODIFIED:20240905T080421Z
DESCRIPTION:Jugend\, 3. Liga\,Gruppe 5\, Vorrunde\nBegegnungs-Nr: 2\nHeim: Wetzikon II\nGast: TSV Zumikon\n\nAdresse: Usterstrasse 37\, 8620 Wetzikon\n
LOCATION:Usterstrasse 37\, 8620 Wetzikon
CATEGORIES:Saison 2024/25
END:VEVENT
BEGIN:VEVENT
DTSTAMP:20260425T004946Z
DTSTART;TZID=Europe/Berlin:20241116T160000
DTEND;TZID=Europe/Berlin:20241116T190000
SUMMARY:JUG\, 3.Liga\, Gr.2\, Zw-Runde Wetzikon II vs Buchs Zürich (5)
UID:5f1495ea-6f31-4e7f-a0f2-552af82e148f
STATUS:CONFIRMED
LAST-MODIFIED:20241122T152947Z
DESCRIPTION:Jugend\, 3. Liga\, Gruppe 2\, Zw-Runde\nBegegnungs-Nr: 5\nHeim: Wetzikon II\nGast: Buchs Zürich\n
LOCATION:
CATEGORIES:Saison 2024/25
END:VEVENT
BEGIN:VEVENT
DTSTAMP:20260425T004946Z
DTSTART;TZID=Europe/Berlin:20241116T130000
DTEND;TZID=Europe/Berlin:20241116T160000
SUMMARY:JUG\, 3.Liga\, Gr.2\, Zw-Runde Wetzikon II vs Wil SG (2)
UID:b6392827-cf74-4d5c-b954-7bfcce8da873
STATUS:CONFIRMED
LAST-MODIFIED:20241122T152919Z
DESCRIPTION:Jugend\, 3. Liga\, Gruppe 2\, Zw-Runde\nBegegnungs-Nr: 2\nHeim: Wetzikon II\nGast: Wil SG\n
LOCATION:
CATEGORIES:Saison 2024/25
END:VEVENT
BEGIN:VEVENT
DTSTAMP:20260425T004946Z
DTSTART;TZID=Europe/Berlin:20250329T130000
DTEND;TZID=Europe/Berlin:20250329T160000
SUMMARY:JUG\, 3.Liga\, Gr.4\, Final Wetzikon II vs Rapperswil-Jona III (1)
UID:199537de-4bac-47a8-8c24-a676a98f0e01
STATUS:CONFIRMED
LAST-MODIFIED:20250404T085342Z
DESCRIPTION:Jugend\, 3. Liga\, Gruppe 4\, Final\nBegegnungs-Nr: 1\nHeim: Wetzikon II\nGast: Rapperswil-Jona III\nHalle: Poule in Wetzikon\, TH Berufsschulen\nAdresse: Usterstrasse 37\, 8620 Wetzikon\n
LOCATION:Poule in Wetzikon\, TH Berufsschulen Usterstrasse 37\, 8620 Wetzikon
CATEGORIES:Saison 2024/25
END:VEVENT
BEGIN:VEVENT
DTSTAMP:20260425T004946Z
DTSTART;TZID=Europe/Berlin:20250329T143000
DTEND;TZID=Europe/Berlin:20250329T173000
SUMMARY:JUG\, 3.Liga\, Gr.4\, Final Wetzikon II vs Ettenhausen (4)
UID:d3088283-36a0-4075-a26e-db28279bdfe9
STATUS:CONFIRMED
LAST-MODIFIED:20250404T085405Z
DESCRIPTION:Jugend\, 3. Liga\, Gruppe 4\, Final\nBegegnungs-Nr: 4\nHeim: Wetzikon II\nGast: Ettenhausen\n\nAdresse: Usterstrasse 37\, 8620 Wetzikon\n
LOCATION:Usterstrasse 37\, 8620 Wetzikon
CATEGORIES:Saison 2024/25
END:VEVENT
BEGIN:VEVENT
DTSTAMP:20260425T004946Z
DTSTART;TZID=Europe/Berlin:20240831T143000
DTEND;TZID=Europe/Berlin:20240831T173000
SUMMARY:JUG\, 3.Liga\, Gr.5\, Vorrunde Rapperswil-Jona III vs Wetzikon II (4)
UID:5752dff4-0860-4bd5-90ce-50d022554657
STATUS:CONFIRMED
LAST-MODIFIED:20240901T094444Z
DESCRIPTION:Jugend\, 3. Liga\,Gruppe 5\, Vorrunde\nBegegnungs-Nr: 4\nHeim: Rapperswil-Jona III\nGast: Wetzikon II\n\nAdresse: Kreuzstrasse 43\, 8640 Rapperswil\n
LOCATION:Kreuzstrasse 43\, 8640 Rapperswil
CATEGORIES:Saison 2024/25
END:VEVENT
BEGIN:VEVENT
DTSTAMP:20260425T004946Z
DTSTART;TZID=Europe/Berlin:20241116T143000
DTEND;TZID=Europe/Berlin:20241116T173000
SUMMARY:JUG\, 3.Liga\, Gr.2\, Zw-Runde Bülach vs Wetzikon II (4)
UID:4569a9fa-d5ed-41ed-a1e9-38a0050ba41b
STATUS:CONFIRMED
LAST-MODIFIED:20241122T152939Z
DESCRIPTION:Jugend\, 3. Liga\, Gruppe 2\, Zw-Runde\nBegegnungs-Nr: 4\nHeim: Bülach\nGast: Wetzikon II\n
LOCATION:
CATEGORIES:Saison 2024/25
END:VEVENT
BEGIN:VEVENT
DTSTAMP:20260425T004946Z
DTSTART;TZID=Europe/Berlin:20250329T160000
DTEND;TZID=Europe/Berlin:20250329T190000
SUMMARY:JUG\, 3.Liga\, Gr.4\, Final Bülach II vs Wetzikon II (6)
UID:2756ab04-82de-4ccb-a374-626f7ce0e017
STATUS:CONFIRMED
LAST-MODIFIED:20250404T085413Z
DESCRIPTION:Jugend\, 3. Liga\, Gruppe 4\, Final\nBegegnungs-Nr: 6\nHeim: Bülach II\nGast: Wetzikon II\n\nAdresse: Schwerzgruebstrasse 28\, 8180 Bülach\n
LOCATION:Schwerzgruebstrasse 28\, 8180 Bülach
CATEGORIES:Saison 2024/25
END:VEVENT
END:VCALENDAR
