BEGIN:VCALENDAR
PRODID:-//nuDatenautomaten//framework iCal4j //DE
VERSION:2.0
CALSCALE:GREGORIAN
BEGIN:VTIMEZONE
TZID:Europe/Berlin
LAST-MODIFIED:20260306T231828Z
TZURL:https://www.tzurl.org/zoneinfo/Europe/Berlin
X-LIC-LOCATION:Europe/Berlin
X-PROLEPTIC-TZNAME:LMT
BEGIN:STANDARD
TZNAME:CET
TZOFFSETFROM:+005328
TZOFFSETTO:+0100
DTSTART:18930401T000000
END:STANDARD
BEGIN:DAYLIGHT
TZNAME:CEST
TZOFFSETFROM:+0100
TZOFFSETTO:+0200
DTSTART:19160430T230000
RDATE:19400401T020000
RDATE:19430329T020000
RDATE:19460414T020000
RDATE:19470406T030000
RDATE:19480418T020000
RDATE:19490410T020000
RDATE:19800406T020000
END:DAYLIGHT
BEGIN:STANDARD
TZNAME:CET
TZOFFSETFROM:+0200
TZOFFSETTO:+0100
DTSTART:19161001T010000
RDATE:19421102T030000
RDATE:19431004T030000
RDATE:19441002T030000
RDATE:19451118T030000
RDATE:19461007T030000
END:STANDARD
BEGIN:DAYLIGHT
TZNAME:CEST
TZOFFSETFROM:+0100
TZOFFSETTO:+0200
DTSTART:19170416T020000
RRULE:FREQ=YEARLY;UNTIL=19180415T010000Z;BYMONTH=4;BYDAY=3MO
END:DAYLIGHT
BEGIN:STANDARD
TZNAME:CET
TZOFFSETFROM:+0200
TZOFFSETTO:+0100
DTSTART:19170917T030000
RRULE:FREQ=YEARLY;UNTIL=19180916T010000Z;BYMONTH=9;BYDAY=3MO
END:STANDARD
BEGIN:DAYLIGHT
TZNAME:CEST
TZOFFSETFROM:+0100
TZOFFSETTO:+0200
DTSTART:19440403T020000
RRULE:FREQ=YEARLY;UNTIL=19450402T010000Z;BYMONTH=4;BYDAY=1MO
END:DAYLIGHT
BEGIN:DAYLIGHT
TZNAME:CEMT
TZOFFSETFROM:+0200
TZOFFSETTO:+0300
DTSTART:19450524T020000
RDATE:19470511T030000
END:DAYLIGHT
BEGIN:DAYLIGHT
TZNAME:CEST
TZOFFSETFROM:+0300
TZOFFSETTO:+0200
DTSTART:19450924T030000
RDATE:19470629T030000
END:DAYLIGHT
BEGIN:STANDARD
TZNAME:CET
TZOFFSETFROM:+0100
TZOFFSETTO:+0100
DTSTART:19460101T000000
RDATE:19800101T000000
END:STANDARD
BEGIN:STANDARD
TZNAME:CET
TZOFFSETFROM:+0200
TZOFFSETTO:+0100
DTSTART:19471005T030000
RRULE:FREQ=YEARLY;UNTIL=19491002T010000Z;BYMONTH=10;BYDAY=1SU
END:STANDARD
BEGIN:STANDARD
TZNAME:CET
TZOFFSETFROM:+0200
TZOFFSETTO:+0100
DTSTART:19800928T030000
RRULE:FREQ=YEARLY;UNTIL=19950924T010000Z;BYMONTH=9;BYDAY=-1SU
END:STANDARD
BEGIN:DAYLIGHT
TZNAME:CEST
TZOFFSETFROM:+0100
TZOFFSETTO:+0200
DTSTART:19810329T020000
RRULE:FREQ=YEARLY;BYMONTH=3;BYDAY=-1SU
END:DAYLIGHT
BEGIN:STANDARD
TZNAME:CET
TZOFFSETFROM:+0200
TZOFFSETTO:+0100
DTSTART:19961027T030000
RRULE:FREQ=YEARLY;BYMONTH=10;BYDAY=-1SU
END:STANDARD
END:VTIMEZONE
BEGIN:VEVENT
DTSTAMP:20260425T021332Z
DTSTART;TZID=Europe/Berlin:20241125T193000
DTEND;TZID=Europe/Berlin:20241125T223000
SUMMARY:HE 6. Liga Gr. 3 Schlatt II vs Weinfelden III (0)
UID:54cb9c68-c1f0-4770-bfd0-94cf65fe81ec
STATUS:CONFIRMED
LAST-MODIFIED:20241211T095121Z
DESCRIPTION:6. Liga Herren Gruppe 3\nBegegnungs-Nr: 0\nHeim: Schlatt II\nGast: Weinfelden III\n\nAdresse: Waltersteinerstrasse 79\, 8418 Schlatt ZH\n
LOCATION:Waltersteinerstrasse 79\, 8418 Schlatt ZH
CATEGORIES:Saison 2024/25
END:VEVENT
BEGIN:VEVENT
DTSTAMP:20260425T021332Z
DTSTART;TZID=Europe/Berlin:20241118T193000
DTEND;TZID=Europe/Berlin:20241118T223000
SUMMARY:HE 6. Liga Gr. 3 Schlatt II vs Wallenwil IV (0)
UID:c4362d9d-b87b-49ba-a337-deed5447a0bd
STATUS:CONFIRMED
LAST-MODIFIED:20241122T151403Z
DESCRIPTION:6. Liga Herren Gruppe 3\nBegegnungs-Nr: 0\nHeim: Schlatt II\nGast: Wallenwil IV\n\nAdresse: Waltersteinerstrasse 79\, 8418 Schlatt ZH\n
LOCATION:Waltersteinerstrasse 79\, 8418 Schlatt ZH
CATEGORIES:Saison 2024/25
END:VEVENT
BEGIN:VEVENT
DTSTAMP:20260425T021332Z
DTSTART;TZID=Europe/Berlin:20241216T193000
DTEND;TZID=Europe/Berlin:20241216T223000
SUMMARY:HE 6. Liga Gr. 3 Schlatt II vs Bronschhofen IV (0)
UID:f447cfe2-a02a-4a8b-8b0b-42c749b2f531
STATUS:CONFIRMED
LAST-MODIFIED:20241217T104234Z
DESCRIPTION:6. Liga Herren Gruppe 3\nBegegnungs-Nr: 0\nHeim: Schlatt II\nGast: Bronschhofen IV\n\nAdresse: Waltersteinerstrasse 79\, 8418 Schlatt ZH\n
LOCATION:Waltersteinerstrasse 79\, 8418 Schlatt ZH
CATEGORIES:Saison 2024/25
END:VEVENT
BEGIN:VEVENT
DTSTAMP:20260425T021332Z
DTSTART;TZID=Europe/Berlin:20250324T193000
DTEND;TZID=Europe/Berlin:20250324T223000
SUMMARY:HE 6. Liga Gr. 3 Schlatt II vs Steckborn-Homburg VI (0)
UID:2b5d1ba9-3421-475f-8ac0-87239a9cb972
STATUS:CONFIRMED
LAST-MODIFIED:20250327T134426Z
DESCRIPTION:6. Liga Herren Gruppe 3\nBegegnungs-Nr: 0\nHeim: Schlatt II\nGast: Steckborn-Homburg VI\n\nAdresse: Waltersteinerstrasse 79\, 8418 Schlatt ZH\n
LOCATION:Waltersteinerstrasse 79\, 8418 Schlatt ZH
CATEGORIES:Saison 2024/25
END:VEVENT
BEGIN:VEVENT
DTSTAMP:20260425T021332Z
DTSTART;TZID=Europe/Berlin:20250217T193000
DTEND;TZID=Europe/Berlin:20250217T223000
SUMMARY:HE 6. Liga Gr. 3 Schlatt II vs Weinfelden V (0)
UID:b53868f9-eac1-4b0c-8c09-f102c74f6003
STATUS:CONFIRMED
LAST-MODIFIED:20250219T133154Z
DESCRIPTION:6. Liga Herren Gruppe 3\nBegegnungs-Nr: 0\nHeim: Schlatt II\nGast: Weinfelden V\n\nAdresse: Waltersteinerstrasse 79\, 8418 Schlatt ZH\n
LOCATION:Waltersteinerstrasse 79\, 8418 Schlatt ZH
CATEGORIES:Saison 2024/25
END:VEVENT
BEGIN:VEVENT
DTSTAMP:20260425T021332Z
DTSTART;TZID=Europe/Berlin:20250106T193000
DTEND;TZID=Europe/Berlin:20250106T223000
SUMMARY:HE 6. Liga Gr. 3 Schlatt II vs Imperial Winterthur III (0)
UID:f00a526c-212c-4935-8659-91e309de2470
STATUS:CONFIRMED
LAST-MODIFIED:20250110T151708Z
DESCRIPTION:6. Liga Herren Gruppe 3\nBegegnungs-Nr: 0\nHeim: Schlatt II\nGast: Imperial Winterthur III\n\nAdresse: Waltersteinerstrasse 79\, 8418 Schlatt ZH\n
LOCATION:Waltersteinerstrasse 79\, 8418 Schlatt ZH
CATEGORIES:Saison 2024/25
END:VEVENT
BEGIN:VEVENT
DTSTAMP:20260425T021332Z
DTSTART;TZID=Europe/Berlin:20241206T194500
DTEND;TZID=Europe/Berlin:20241206T224500
SUMMARY:HE 6. Liga Gr. 3 Steckborn-Homburg VI vs Schlatt II (0)
UID:339a4750-e50c-4183-92a4-5d9db0b1cabc
STATUS:CONFIRMED
LAST-MODIFIED:20241211T103024Z
DESCRIPTION:6. Liga Herren Gruppe 3\nBegegnungs-Nr: 0\nHeim: Steckborn-Homburg VI\nGast: Schlatt II\n\nAdresse: Schulstrasse 4\, 8508 Unterhörstetten\n
LOCATION:Schulstrasse 4\, 8508 Unterhörstetten
CATEGORIES:Saison 2024/25
END:VEVENT
BEGIN:VEVENT
DTSTAMP:20260425T021332Z
DTSTART;TZID=Europe/Berlin:20241108T200000
DTEND;TZID=Europe/Berlin:20241108T230000
SUMMARY:HE 6. Liga Gr. 3 Wuppenau III vs Schlatt II (0)
UID:f3b26598-b25c-4bda-b548-6ca50bb81a29
STATUS:CONFIRMED
LAST-MODIFIED:20241114T075810Z
DESCRIPTION:6. Liga Herren Gruppe 3\nBegegnungs-Nr: 0\nHeim: Wuppenau III\nGast: Schlatt II\n\nAdresse: Nollenstrasse\, 9514 Wuppenau\n
LOCATION:Nollenstrasse\, 9514 Wuppenau
CATEGORIES:Saison 2024/25
END:VEVENT
BEGIN:VEVENT
DTSTAMP:20260425T021332Z
DTSTART;TZID=Europe/Berlin:20240917T200000
DTEND;TZID=Europe/Berlin:20240917T230000
SUMMARY:HE 6. Liga Gr. 3 Weinfelden V vs Schlatt II (0)
UID:13665bd8-4c5f-4526-ade7-e799294f8596
STATUS:CONFIRMED
LAST-MODIFIED:20240918T102128Z
DESCRIPTION:6. Liga Herren Gruppe 3\nBegegnungs-Nr: 0\nHeim: Weinfelden V\nGast: Schlatt II\n\nAdresse: Bleichestrasse 3 (neben Hallenbad)\, 8570 Weinfelden\n
LOCATION:Bleichestrasse 3 (neben Hallenbad)\, 8570 Weinfelden
CATEGORIES:Saison 2024/25
END:VEVENT
BEGIN:VEVENT
DTSTAMP:20260425T021332Z
DTSTART;TZID=Europe/Berlin:20240826T200000
DTEND;TZID=Europe/Berlin:20240826T230000
SUMMARY:HE 6. Liga Gr. 3 Imperial Winterthur III vs Schlatt II (0)
UID:16b4690f-c2b7-4974-8916-573f8a00936e
STATUS:CONFIRMED
LAST-MODIFIED:20240828T084155Z
DESCRIPTION:6. Liga Herren Gruppe 3\nBegegnungs-Nr: 0\nHeim: Imperial Winterthur III\nGast: Schlatt II\n\nAdresse: Büelhofstrasse 25a\, 8405 Winterthur\n
LOCATION:Büelhofstrasse 25a\, 8405 Winterthur
CATEGORIES:Saison 2024/25
END:VEVENT
BEGIN:VEVENT
DTSTAMP:20260425T021332Z
DTSTART;TZID=Europe/Berlin:20250407T201500
DTEND;TZID=Europe/Berlin:20250407T231500
SUMMARY:HE 6. Liga Gr. 3 Wuppenau III vs Schlatt II (0)
UID:3cb98343-3e56-4abd-965a-0bf13931121b
STATUS:CONFIRMED
LAST-MODIFIED:20250408T053843Z
DESCRIPTION:6. Liga Herren Gruppe 3\nBegegnungs-Nr: 0\nHeim: Wuppenau III\nGast: Schlatt II\n\nAdresse: Nollenstrasse\, 9514 Wuppenau\n
LOCATION:Nollenstrasse\, 9514 Wuppenau
CATEGORIES:Saison 2024/25
END:VEVENT
BEGIN:VEVENT
DTSTAMP:20260425T021332Z
DTSTART;TZID=Europe/Berlin:20250307T200000
DTEND;TZID=Europe/Berlin:20250307T230000
SUMMARY:HE 6. Liga Gr. 3 Weinfelden III vs Schlatt II (0)
UID:282f9813-5e00-4b48-809b-1cd5406b709f
STATUS:CONFIRMED
LAST-MODIFIED:20250312T145912Z
DESCRIPTION:6. Liga Herren Gruppe 3\nBegegnungs-Nr: 0\nHeim: Weinfelden III\nGast: Schlatt II\n\nAdresse: Bleichestrasse 3 (neben Hallenbad)\, 8570 Weinfelden\n
LOCATION:Bleichestrasse 3 (neben Hallenbad)\, 8570 Weinfelden
CATEGORIES:Saison 2024/25
END:VEVENT
BEGIN:VEVENT
DTSTAMP:20260425T021332Z
DTSTART;TZID=Europe/Berlin:20250220T201500
DTEND;TZID=Europe/Berlin:20250220T231500
SUMMARY:HE 6. Liga Gr. 3 Wallenwil IV vs Schlatt II (0)
UID:39f2dfac-4ed3-463a-8313-f83e4c33a251
STATUS:CONFIRMED
LAST-MODIFIED:20250227T113016Z
DESCRIPTION:6. Liga Herren Gruppe 3\nBegegnungs-Nr: 0\nHeim: Wallenwil IV\nGast: Schlatt II\n\nAdresse: Stationsstrasse 29\, 8360 Wallenwil\n
LOCATION:Stationsstrasse 29\, 8360 Wallenwil
CATEGORIES:Saison 2024/25
END:VEVENT
BEGIN:VEVENT
DTSTAMP:20260425T021332Z
DTSTART;TZID=Europe/Berlin:20250122T200000
DTEND;TZID=Europe/Berlin:20250122T230000
SUMMARY:HE 6. Liga Gr. 3 Bronschhofen IV vs Schlatt II (0)
UID:318e4015-e153-449c-b8eb-aba80620c6b6
STATUS:CONFIRMED
LAST-MODIFIED:20250123T083958Z
DESCRIPTION:6. Liga Herren Gruppe 3\nBegegnungs-Nr: 0\nHeim: Bronschhofen IV\nGast: Schlatt II\n\nAdresse: Industriestrasse 4\, 9552 Bronschhofen\n
LOCATION:Industriestrasse 4\, 9552 Bronschhofen
CATEGORIES:Saison 2024/25
END:VEVENT
END:VCALENDAR
