BEGIN:VCALENDAR
PRODID:-//nuDatenautomaten//framework iCal4j //DE
VERSION:2.0
CALSCALE:GREGORIAN
BEGIN:VTIMEZONE
TZID:Europe/Berlin
LAST-MODIFIED:20260306T231828Z
TZURL:https://www.tzurl.org/zoneinfo/Europe/Berlin
X-LIC-LOCATION:Europe/Berlin
X-PROLEPTIC-TZNAME:LMT
BEGIN:STANDARD
TZNAME:CET
TZOFFSETFROM:+005328
TZOFFSETTO:+0100
DTSTART:18930401T000000
END:STANDARD
BEGIN:DAYLIGHT
TZNAME:CEST
TZOFFSETFROM:+0100
TZOFFSETTO:+0200
DTSTART:19160430T230000
RDATE:19400401T020000
RDATE:19430329T020000
RDATE:19460414T020000
RDATE:19470406T030000
RDATE:19480418T020000
RDATE:19490410T020000
RDATE:19800406T020000
END:DAYLIGHT
BEGIN:STANDARD
TZNAME:CET
TZOFFSETFROM:+0200
TZOFFSETTO:+0100
DTSTART:19161001T010000
RDATE:19421102T030000
RDATE:19431004T030000
RDATE:19441002T030000
RDATE:19451118T030000
RDATE:19461007T030000
END:STANDARD
BEGIN:DAYLIGHT
TZNAME:CEST
TZOFFSETFROM:+0100
TZOFFSETTO:+0200
DTSTART:19170416T020000
RRULE:FREQ=YEARLY;UNTIL=19180415T010000Z;BYMONTH=4;BYDAY=3MO
END:DAYLIGHT
BEGIN:STANDARD
TZNAME:CET
TZOFFSETFROM:+0200
TZOFFSETTO:+0100
DTSTART:19170917T030000
RRULE:FREQ=YEARLY;UNTIL=19180916T010000Z;BYMONTH=9;BYDAY=3MO
END:STANDARD
BEGIN:DAYLIGHT
TZNAME:CEST
TZOFFSETFROM:+0100
TZOFFSETTO:+0200
DTSTART:19440403T020000
RRULE:FREQ=YEARLY;UNTIL=19450402T010000Z;BYMONTH=4;BYDAY=1MO
END:DAYLIGHT
BEGIN:DAYLIGHT
TZNAME:CEMT
TZOFFSETFROM:+0200
TZOFFSETTO:+0300
DTSTART:19450524T020000
RDATE:19470511T030000
END:DAYLIGHT
BEGIN:DAYLIGHT
TZNAME:CEST
TZOFFSETFROM:+0300
TZOFFSETTO:+0200
DTSTART:19450924T030000
RDATE:19470629T030000
END:DAYLIGHT
BEGIN:STANDARD
TZNAME:CET
TZOFFSETFROM:+0100
TZOFFSETTO:+0100
DTSTART:19460101T000000
RDATE:19800101T000000
END:STANDARD
BEGIN:STANDARD
TZNAME:CET
TZOFFSETFROM:+0200
TZOFFSETTO:+0100
DTSTART:19471005T030000
RRULE:FREQ=YEARLY;UNTIL=19491002T010000Z;BYMONTH=10;BYDAY=1SU
END:STANDARD
BEGIN:STANDARD
TZNAME:CET
TZOFFSETFROM:+0200
TZOFFSETTO:+0100
DTSTART:19800928T030000
RRULE:FREQ=YEARLY;UNTIL=19950924T010000Z;BYMONTH=9;BYDAY=-1SU
END:STANDARD
BEGIN:DAYLIGHT
TZNAME:CEST
TZOFFSETFROM:+0100
TZOFFSETTO:+0200
DTSTART:19810329T020000
RRULE:FREQ=YEARLY;BYMONTH=3;BYDAY=-1SU
END:DAYLIGHT
BEGIN:STANDARD
TZNAME:CET
TZOFFSETFROM:+0200
TZOFFSETTO:+0100
DTSTART:19961027T030000
RRULE:FREQ=YEARLY;BYMONTH=10;BYDAY=-1SU
END:STANDARD
END:VTIMEZONE
BEGIN:VEVENT
DTSTAMP:20260419T214336Z
DTSTART;TZID=Europe/Berlin:20241203T194500
DTEND;TZID=Europe/Berlin:20241203T224500
SUMMARY:L3P1 Tavannes vs Hauterive (0)
UID:93555ae4-531b-49aa-8f0c-1658f0078e9b
STATUS:CONFIRMED
LAST-MODIFIED:20241204T081814Z
DESCRIPTION:3ème ligue phase 1\nBegegnungs-Nr: 0\nHeim: Tavannes\nGast: Hauterive\n\nAdresse: Sources 1\, 2710 Tavannes\n
LOCATION:Sources 1\, 2710 Tavannes
CATEGORIES:Saison 2024/25
END:VEVENT
BEGIN:VEVENT
DTSTAMP:20260419T214336Z
DTSTART;TZID=Europe/Berlin:20241105T194500
DTEND;TZID=Europe/Berlin:20241105T224500
SUMMARY:L3P1 Tavannes vs Delémont III (0)
UID:14431262-e90d-4d5e-a8bd-0e5ce3298a57
STATUS:CONFIRMED
LAST-MODIFIED:20241106T170337Z
DESCRIPTION:3ème ligue phase 1\nBegegnungs-Nr: 0\nHeim: Tavannes\nGast: Delémont III\n\nAdresse: Sources 1\, 2710 Tavannes\n
LOCATION:Sources 1\, 2710 Tavannes
CATEGORIES:Saison 2024/25
END:VEVENT
BEGIN:VEVENT
DTSTAMP:20260419T214336Z
DTSTART;TZID=Europe/Berlin:20241001T194500
DTEND;TZID=Europe/Berlin:20241001T224500
SUMMARY:L3P1 Tavannes vs La Chaux-de-Fonds III (0)
UID:9fbd7c84-c495-4694-9cfe-26667d034ebb
STATUS:CONFIRMED
LAST-MODIFIED:20241003T090109Z
DESCRIPTION:3ème ligue phase 1\nBegegnungs-Nr: 0\nHeim: Tavannes\nGast: La Chaux-de-Fonds III\n\nAdresse: Sources 1\, 2710 Tavannes\n
LOCATION:Sources 1\, 2710 Tavannes
CATEGORIES:Saison 2024/25
END:VEVENT
BEGIN:VEVENT
DTSTAMP:20260419T214336Z
DTSTART;TZID=Europe/Berlin:20240903T194500
DTEND;TZID=Europe/Berlin:20240903T224500
SUMMARY:L3P1 Tavannes vs Val-de-Ruz III (0)
UID:cb68932a-834b-4304-9451-45aad74e683c
STATUS:CONFIRMED
LAST-MODIFIED:20240924T155957Z
DESCRIPTION:3ème ligue phase 1\nBegegnungs-Nr: 0\nHeim: Tavannes\nGast: Val-de-Ruz III\n\nAdresse: Sources 1\, 2710 Tavannes\n
LOCATION:Sources 1\, 2710 Tavannes
CATEGORIES:Saison 2024/25
END:VEVENT
BEGIN:VEVENT
DTSTAMP:20260419T214336Z
DTSTART;TZID=Europe/Berlin:20250128T194500
DTEND;TZID=Europe/Berlin:20250128T224500
SUMMARY:L4P2 Tavannes vs Omega III (0)
UID:a386c3f3-d586-4586-8a6e-3673ef470142
STATUS:CONFIRMED
LAST-MODIFIED:20250130T063742Z
DESCRIPTION:4ème ligue phase 2\nBegegnungs-Nr: 0\nHeim: Tavannes\nGast: Omega III\n\nAdresse: Sources 1\, 2710 Tavannes\n
LOCATION:Sources 1\, 2710 Tavannes
CATEGORIES:Saison 2024/25
END:VEVENT
BEGIN:VEVENT
DTSTAMP:20260419T214336Z
DTSTART;TZID=Europe/Berlin:20250311T194500
DTEND;TZID=Europe/Berlin:20250311T224500
SUMMARY:L4P2 Tavannes vs Val-de-Ruz V (0)
UID:ab55dda8-9cbc-4d70-8f1a-316c58ba1f3a
STATUS:CONFIRMED
LAST-MODIFIED:20250313T074844Z
DESCRIPTION:4ème ligue phase 2\nBegegnungs-Nr: 0\nHeim: Tavannes\nGast: Val-de-Ruz V\n\nAdresse: Sources 1\, 2710 Tavannes\n
LOCATION:Sources 1\, 2710 Tavannes
CATEGORIES:Saison 2024/25
END:VEVENT
BEGIN:VEVENT
DTSTAMP:20260419T214336Z
DTSTART;TZID=Europe/Berlin:20250325T194500
DTEND;TZID=Europe/Berlin:20250325T224500
SUMMARY:L4P2 Tavannes vs Delémont III (0)
UID:4b4b5c0d-a231-4d26-924c-69748a5422ee
STATUS:CONFIRMED
LAST-MODIFIED:20250404T042838Z
DESCRIPTION:4ème ligue phase 2\nBegegnungs-Nr: 0\nHeim: Tavannes\nGast: Delémont III\n\nAdresse: Sources 1\, 2710 Tavannes\n
LOCATION:Sources 1\, 2710 Tavannes
CATEGORIES:Saison 2024/25
END:VEVENT
BEGIN:VEVENT
DTSTAMP:20260419T214336Z
DTSTART;TZID=Europe/Berlin:20241113T200000
DTEND;TZID=Europe/Berlin:20241113T230000
SUMMARY:L3P1 Entente Pongiste Neuchâteloise IV vs Tavannes (0)
UID:84c229d4-6f8e-47fb-b3bb-793df4a3f893
STATUS:CONFIRMED
LAST-MODIFIED:20241122T115238Z
DESCRIPTION:3ème ligue phase 1\nBegegnungs-Nr: 0\nHeim: Entente Pongiste Neuchâteloise IV\nGast: Tavannes\n\nAdresse: Allée du 700e\, 2525 Le Landeron\n
LOCATION:Allée du 700e\, 2525 Le Landeron
CATEGORIES:Saison 2024/25
END:VEVENT
BEGIN:VEVENT
DTSTAMP:20260419T214336Z
DTSTART;TZID=Europe/Berlin:20241021T200000
DTEND;TZID=Europe/Berlin:20241021T230000
SUMMARY:L3P1 Omega II vs Tavannes (0)
UID:0b8e5c6f-9294-437c-a849-cd793ef8e699
STATUS:CONFIRMED
LAST-MODIFIED:20241023T152732Z
DESCRIPTION:3ème ligue phase 1\nBegegnungs-Nr: 0\nHeim: Omega II\nGast: Tavannes\n\nAdresse: Tennisweg 1\, 2504 Biel-Bienne\n
LOCATION:Tennisweg 1\, 2504 Biel-Bienne
CATEGORIES:Saison 2024/25
END:VEVENT
BEGIN:VEVENT
DTSTAMP:20260419T214336Z
DTSTART;TZID=Europe/Berlin:20240920T200000
DTEND;TZID=Europe/Berlin:20240920T230000
SUMMARY:L3P1 Le Locle II vs Tavannes (0)
UID:43df0c72-721a-4a52-9c80-38be2b5b3175
STATUS:CONFIRMED
LAST-MODIFIED:20240924T160349Z
DESCRIPTION:3ème ligue phase 1\nBegegnungs-Nr: 0\nHeim: Le Locle II\nGast: Tavannes\n\nAdresse: Avenue du Collège 1\, 2400 Le Locle\n
LOCATION:Avenue du Collège 1\, 2400 Le Locle
CATEGORIES:Saison 2024/25
END:VEVENT
BEGIN:VEVENT
DTSTAMP:20260419T214336Z
DTSTART;TZID=Europe/Berlin:20250124T200000
DTEND;TZID=Europe/Berlin:20250124T230000
SUMMARY:L4P2 Cortaillod IV vs Tavannes (0)
UID:6530b5b6-5312-410f-b880-47bb1b1ca7e8
STATUS:CONFIRMED
LAST-MODIFIED:20250128T152146Z
DESCRIPTION:4ème ligue phase 2\nBegegnungs-Nr: 0\nHeim: Cortaillod IV\nGast: Tavannes\n\nAdresse: Coteaux 1\, 2016 Cortaillod\n
LOCATION:Coteaux 1\, 2016 Cortaillod
CATEGORIES:Saison 2024/25
END:VEVENT
BEGIN:VEVENT
DTSTAMP:20260419T214336Z
DTSTART;TZID=Europe/Berlin:20250218T193000
DTEND;TZID=Europe/Berlin:20250218T223000
SUMMARY:L4P2 Delémont IV vs Tavannes (0)
UID:75554845-016a-4a0c-b9df-29361ff359ad
STATUS:CONFIRMED
LAST-MODIFIED:20250220T044144Z
DESCRIPTION:4ème ligue phase 2\nBegegnungs-Nr: 0\nHeim: Delémont IV\nGast: Tavannes\n\nAdresse: Rue de la Blancherie 4\, 2800 Delémont\n
LOCATION:Rue de la Blancherie 4\, 2800 Delémont
CATEGORIES:Saison 2024/25
END:VEVENT
BEGIN:VEVENT
DTSTAMP:20260419T214336Z
DTSTART;TZID=Europe/Berlin:20250416T193000
DTEND;TZID=Europe/Berlin:20250416T223000
SUMMARY:L4P2 Hauterive vs Tavannes (0)
UID:a5e1856f-cfe3-40fa-aab1-780a260036bc
STATUS:CONFIRMED
LAST-MODIFIED:20250418T065007Z
DESCRIPTION:4ème ligue phase 2\nBegegnungs-Nr: 0\nHeim: Hauterive\nGast: Tavannes\n\nAdresse: Rue des Longschamps 10\, 2068 Hauterive NE\n
LOCATION:Rue des Longschamps 10\, 2068 Hauterive NE
CATEGORIES:Saison 2024/25
END:VEVENT
BEGIN:VEVENT
DTSTAMP:20260419T214336Z
DTSTART;TZID=Europe/Berlin:20250502T200000
DTEND;TZID=Europe/Berlin:20250502T230000
SUMMARY:L4P2 Entente Pongiste Neuchâteloise V vs Tavannes (0)
UID:c40c13f7-80c0-425f-9256-91acae4355da
STATUS:CONFIRMED
LAST-MODIFIED:20250512T090559Z
DESCRIPTION:4ème ligue phase 2\nBegegnungs-Nr: 0\nHeim: Entente Pongiste Neuchâteloise V\nGast: Tavannes\n\nAdresse: Allée du 700e\, 2525 Le Landeron\n
LOCATION:Allée du 700e\, 2525 Le Landeron
CATEGORIES:Saison 2024/25
END:VEVENT
END:VCALENDAR
