BEGIN:VCALENDAR
PRODID:-//nuDatenautomaten//framework iCal4j //DE
VERSION:2.0
CALSCALE:GREGORIAN
BEGIN:VTIMEZONE
TZID:Europe/Berlin
LAST-MODIFIED:20260306T231828Z
TZURL:https://www.tzurl.org/zoneinfo/Europe/Berlin
X-LIC-LOCATION:Europe/Berlin
X-PROLEPTIC-TZNAME:LMT
BEGIN:STANDARD
TZNAME:CET
TZOFFSETFROM:+005328
TZOFFSETTO:+0100
DTSTART:18930401T000000
END:STANDARD
BEGIN:DAYLIGHT
TZNAME:CEST
TZOFFSETFROM:+0100
TZOFFSETTO:+0200
DTSTART:19160430T230000
RDATE:19400401T020000
RDATE:19430329T020000
RDATE:19460414T020000
RDATE:19470406T030000
RDATE:19480418T020000
RDATE:19490410T020000
RDATE:19800406T020000
END:DAYLIGHT
BEGIN:STANDARD
TZNAME:CET
TZOFFSETFROM:+0200
TZOFFSETTO:+0100
DTSTART:19161001T010000
RDATE:19421102T030000
RDATE:19431004T030000
RDATE:19441002T030000
RDATE:19451118T030000
RDATE:19461007T030000
END:STANDARD
BEGIN:DAYLIGHT
TZNAME:CEST
TZOFFSETFROM:+0100
TZOFFSETTO:+0200
DTSTART:19170416T020000
RRULE:FREQ=YEARLY;UNTIL=19180415T010000Z;BYMONTH=4;BYDAY=3MO
END:DAYLIGHT
BEGIN:STANDARD
TZNAME:CET
TZOFFSETFROM:+0200
TZOFFSETTO:+0100
DTSTART:19170917T030000
RRULE:FREQ=YEARLY;UNTIL=19180916T010000Z;BYMONTH=9;BYDAY=3MO
END:STANDARD
BEGIN:DAYLIGHT
TZNAME:CEST
TZOFFSETFROM:+0100
TZOFFSETTO:+0200
DTSTART:19440403T020000
RRULE:FREQ=YEARLY;UNTIL=19450402T010000Z;BYMONTH=4;BYDAY=1MO
END:DAYLIGHT
BEGIN:DAYLIGHT
TZNAME:CEMT
TZOFFSETFROM:+0200
TZOFFSETTO:+0300
DTSTART:19450524T020000
RDATE:19470511T030000
END:DAYLIGHT
BEGIN:DAYLIGHT
TZNAME:CEST
TZOFFSETFROM:+0300
TZOFFSETTO:+0200
DTSTART:19450924T030000
RDATE:19470629T030000
END:DAYLIGHT
BEGIN:STANDARD
TZNAME:CET
TZOFFSETFROM:+0100
TZOFFSETTO:+0100
DTSTART:19460101T000000
RDATE:19800101T000000
END:STANDARD
BEGIN:STANDARD
TZNAME:CET
TZOFFSETFROM:+0200
TZOFFSETTO:+0100
DTSTART:19471005T030000
RRULE:FREQ=YEARLY;UNTIL=19491002T010000Z;BYMONTH=10;BYDAY=1SU
END:STANDARD
BEGIN:STANDARD
TZNAME:CET
TZOFFSETFROM:+0200
TZOFFSETTO:+0100
DTSTART:19800928T030000
RRULE:FREQ=YEARLY;UNTIL=19950924T010000Z;BYMONTH=9;BYDAY=-1SU
END:STANDARD
BEGIN:DAYLIGHT
TZNAME:CEST
TZOFFSETFROM:+0100
TZOFFSETTO:+0200
DTSTART:19810329T020000
RRULE:FREQ=YEARLY;BYMONTH=3;BYDAY=-1SU
END:DAYLIGHT
BEGIN:STANDARD
TZNAME:CET
TZOFFSETFROM:+0200
TZOFFSETTO:+0100
DTSTART:19961027T030000
RRULE:FREQ=YEARLY;BYMONTH=10;BYDAY=-1SU
END:STANDARD
END:VTIMEZONE
BEGIN:VEVENT
DTSTAMP:20260425T005106Z
DTSTART;TZID=Europe/Berlin:20240831T143000
DTEND;TZID=Europe/Berlin:20240831T173000
SUMMARY:JUG\, 2.Liga\, Gr.4\, Vorrunde Meilen-Männedorf vs Höngg (3)
UID:76ce3032-c8c1-498f-92f5-f505ecb79764
STATUS:CONFIRMED
LAST-MODIFIED:20240904T124100Z
DESCRIPTION:Jugend\, 2. Liga\, Gruppe 4\, Vorrunde\nBegegnungs-Nr: 3\nHeim: Meilen-Männedorf\nGast: Höngg\n\nAdresse: Schulstrasse 10\, 8708 Männedorf\n
LOCATION:Schulstrasse 10\, 8708 Männedorf
CATEGORIES:Saison 2024/25
END:VEVENT
BEGIN:VEVENT
DTSTAMP:20260425T005106Z
DTSTART;TZID=Europe/Berlin:20241116T143000
DTEND;TZID=Europe/Berlin:20241116T173000
SUMMARY:JUG. 2.Liga\, Gr.4\, Zw-Runde Meilen-Männedorf vs Steckborn-Homburg (3)
UID:34aa0bc7-b122-400c-b8a6-18ef5c2a4b31
STATUS:CONFIRMED
LAST-MODIFIED:20241126T094457Z
DESCRIPTION:Jugend\, 2. Liga\, Gruppe 4\, Zw-Runde\nBegegnungs-Nr: 3\nHeim: Meilen-Männedorf\nGast: Steckborn-Homburg\n
LOCATION:
CATEGORIES:Saison 2024/25
END:VEVENT
BEGIN:VEVENT
DTSTAMP:20260425T005106Z
DTSTART;TZID=Europe/Berlin:20240831T163000
DTEND;TZID=Europe/Berlin:20240831T193000
SUMMARY:JUG\, 2.Liga\, Gr.4\, Vorrunde Zürich-Affoltern vs Meilen-Männedorf (5)
UID:544841bc-8bd0-44c6-8967-af38c9a8af28
STATUS:CONFIRMED
LAST-MODIFIED:20240904T124134Z
DESCRIPTION:Jugend\, 2. Liga\, Gruppe 4\, Vorrunde\nBegegnungs-Nr: 5\nHeim: Zürich-Affoltern\nGast: Meilen-Männedorf\n
LOCATION:
CATEGORIES:Saison 2024/25
END:VEVENT
BEGIN:VEVENT
DTSTAMP:20260425T005106Z
DTSTART;TZID=Europe/Berlin:20240831T130000
DTEND;TZID=Europe/Berlin:20240831T160000
SUMMARY:JUG\, 2.Liga\, Gr.4\, Vorrunde Winterthur vs Meilen-Männedorf (1)
UID:2447cc58-8399-47a2-ba96-6dd313b964f0
STATUS:CONFIRMED
LAST-MODIFIED:20240904T124038Z
DESCRIPTION:Jugend\, 2. Liga\, Gruppe 4\, Vorrunde\nBegegnungs-Nr: 1\nHeim: Winterthur\nGast: Meilen-Männedorf\n
LOCATION:
CATEGORIES:Saison 2024/25
END:VEVENT
BEGIN:VEVENT
DTSTAMP:20260425T005106Z
DTSTART;TZID=Europe/Berlin:20241116T130000
DTEND;TZID=Europe/Berlin:20241116T160000
SUMMARY:JUG. 2.Liga\, Gr.4\, Zw-Runde Wädenswil vs Meilen-Männedorf (1)
UID:15b0060c-2389-4563-a59d-f9154b5bbee0
STATUS:CONFIRMED
LAST-MODIFIED:20241122T152548Z
DESCRIPTION:Jugend\, 2. Liga\, Gruppe 4\, Zw-Runde\nBegegnungs-Nr: 1\nHeim: Wädenswil\nGast: Meilen-Männedorf\n
LOCATION:
CATEGORIES:Saison 2024/25
END:VEVENT
BEGIN:VEVENT
DTSTAMP:20260425T005106Z
DTSTART;TZID=Europe/Berlin:20241116T160000
DTEND;TZID=Europe/Berlin:20241116T190000
SUMMARY:JUG. 2.Liga\, Gr.4\, Zw-Runde St. Gallen III vs Meilen-Männedorf (5)
UID:a376c641-b5c3-4696-ae8a-6603302392f1
STATUS:CONFIRMED
LAST-MODIFIED:20241126T094507Z
DESCRIPTION:Jugend\, 2. Liga\, Gruppe 4\, Zw-Runde\nBegegnungs-Nr: 5\nHeim: St. Gallen III\nGast: Meilen-Männedorf\n
LOCATION:
CATEGORIES:Saison 2024/25
END:VEVENT
BEGIN:VEVENT
DTSTAMP:20260425T005106Z
DTSTART;TZID=Europe/Berlin:20250329T130000
DTEND;TZID=Europe/Berlin:20250329T160000
SUMMARY:JUG\, 2.Liga\, Gr.5\, Final Wädenswil vs Meilen-Männedorf (2)
UID:d3364272-ec87-4297-9622-8a129ed70ce4
STATUS:CONFIRMED
LAST-MODIFIED:20250320T094011Z
DESCRIPTION:Jugend\, 2. Liga\, Gruppe 5\, Final\nBegegnungs-Nr: 2\nHeim: Wädenswil\nGast: Meilen-Männedorf\n\nAdresse: Fuhrstrasse 16b\, 8820 Wädenswil\n
LOCATION:Fuhrstrasse 16b\, 8820 Wädenswil
CATEGORIES:Saison 2024/25
END:VEVENT
BEGIN:VEVENT
DTSTAMP:20260425T005106Z
DTSTART;TZID=Europe/Berlin:20250329T160000
DTEND;TZID=Europe/Berlin:20250329T190000
SUMMARY:JUG\, 2.Liga\, Gr.5\, Final Herisau vs Meilen-Männedorf (3)
UID:d7b29e36-dbae-4b1d-9ffd-58c335a336d3
STATUS:CONFIRMED
LAST-MODIFIED:20250407T134536Z
DESCRIPTION:Jugend\, 2. Liga\, Gruppe 5\, Final\nBegegnungs-Nr: 3\nHeim: Herisau\nGast: Meilen-Männedorf\n\nAdresse: Schwellbrunnerstrasse 29\, 9100 Herisau\n
LOCATION:Schwellbrunnerstrasse 29\, 9100 Herisau
CATEGORIES:Saison 2024/25
END:VEVENT
BEGIN:VEVENT
DTSTAMP:20260425T005106Z
DTSTART;TZID=Europe/Berlin:20250329T143000
DTEND;TZID=Europe/Berlin:20250329T173000
SUMMARY:JUG\, 2.Liga\, Gr.5\, Final Winterthur II vs Meilen-Männedorf (5)
UID:68f1bb40-4750-497d-af07-477ab364cdb2
STATUS:CONFIRMED
LAST-MODIFIED:20250404T084859Z
DESCRIPTION:Jugend\, 2. Liga\, Gruppe 5\, Final\nBegegnungs-Nr: 5\nHeim: Winterthur II\nGast: Meilen-Männedorf\n\nAdresse: Buchackerstrasse 54\, 8400 Winterthur\n
LOCATION:Buchackerstrasse 54\, 8400 Winterthur
CATEGORIES:Saison 2024/25
END:VEVENT
END:VCALENDAR
