BEGIN:VCALENDAR
PRODID:-//nuDatenautomaten//framework iCal4j //DE
VERSION:2.0
CALSCALE:GREGORIAN
BEGIN:VTIMEZONE
TZID:Europe/Berlin
LAST-MODIFIED:20260306T231828Z
TZURL:https://www.tzurl.org/zoneinfo/Europe/Berlin
X-LIC-LOCATION:Europe/Berlin
X-PROLEPTIC-TZNAME:LMT
BEGIN:STANDARD
TZNAME:CET
TZOFFSETFROM:+005328
TZOFFSETTO:+0100
DTSTART:18930401T000000
END:STANDARD
BEGIN:DAYLIGHT
TZNAME:CEST
TZOFFSETFROM:+0100
TZOFFSETTO:+0200
DTSTART:19160430T230000
RDATE:19400401T020000
RDATE:19430329T020000
RDATE:19460414T020000
RDATE:19470406T030000
RDATE:19480418T020000
RDATE:19490410T020000
RDATE:19800406T020000
END:DAYLIGHT
BEGIN:STANDARD
TZNAME:CET
TZOFFSETFROM:+0200
TZOFFSETTO:+0100
DTSTART:19161001T010000
RDATE:19421102T030000
RDATE:19431004T030000
RDATE:19441002T030000
RDATE:19451118T030000
RDATE:19461007T030000
END:STANDARD
BEGIN:DAYLIGHT
TZNAME:CEST
TZOFFSETFROM:+0100
TZOFFSETTO:+0200
DTSTART:19170416T020000
RRULE:FREQ=YEARLY;UNTIL=19180415T010000Z;BYMONTH=4;BYDAY=3MO
END:DAYLIGHT
BEGIN:STANDARD
TZNAME:CET
TZOFFSETFROM:+0200
TZOFFSETTO:+0100
DTSTART:19170917T030000
RRULE:FREQ=YEARLY;UNTIL=19180916T010000Z;BYMONTH=9;BYDAY=3MO
END:STANDARD
BEGIN:DAYLIGHT
TZNAME:CEST
TZOFFSETFROM:+0100
TZOFFSETTO:+0200
DTSTART:19440403T020000
RRULE:FREQ=YEARLY;UNTIL=19450402T010000Z;BYMONTH=4;BYDAY=1MO
END:DAYLIGHT
BEGIN:DAYLIGHT
TZNAME:CEMT
TZOFFSETFROM:+0200
TZOFFSETTO:+0300
DTSTART:19450524T020000
RDATE:19470511T030000
END:DAYLIGHT
BEGIN:DAYLIGHT
TZNAME:CEST
TZOFFSETFROM:+0300
TZOFFSETTO:+0200
DTSTART:19450924T030000
RDATE:19470629T030000
END:DAYLIGHT
BEGIN:STANDARD
TZNAME:CET
TZOFFSETFROM:+0100
TZOFFSETTO:+0100
DTSTART:19460101T000000
RDATE:19800101T000000
END:STANDARD
BEGIN:STANDARD
TZNAME:CET
TZOFFSETFROM:+0200
TZOFFSETTO:+0100
DTSTART:19471005T030000
RRULE:FREQ=YEARLY;UNTIL=19491002T010000Z;BYMONTH=10;BYDAY=1SU
END:STANDARD
BEGIN:STANDARD
TZNAME:CET
TZOFFSETFROM:+0200
TZOFFSETTO:+0100
DTSTART:19800928T030000
RRULE:FREQ=YEARLY;UNTIL=19950924T010000Z;BYMONTH=9;BYDAY=-1SU
END:STANDARD
BEGIN:DAYLIGHT
TZNAME:CEST
TZOFFSETFROM:+0100
TZOFFSETTO:+0200
DTSTART:19810329T020000
RRULE:FREQ=YEARLY;BYMONTH=3;BYDAY=-1SU
END:DAYLIGHT
BEGIN:STANDARD
TZNAME:CET
TZOFFSETFROM:+0200
TZOFFSETTO:+0100
DTSTART:19961027T030000
RRULE:FREQ=YEARLY;BYMONTH=10;BYDAY=-1SU
END:STANDARD
END:VTIMEZONE
BEGIN:VEVENT
DTSTAMP:20260425T021330Z
DTSTART;TZID=Europe/Berlin:20250106T200000
DTEND;TZID=Europe/Berlin:20250106T230000
SUMMARY:HE 2. Liga Gr. 1 Chur II vs Gaiserwald (0)
UID:6a21c257-1c2b-4190-a7ce-578d1edaddfd
STATUS:CONFIRMED
LAST-MODIFIED:20250110T150456Z
DESCRIPTION:2. Liga Herren Gruppe 1\nBegegnungs-Nr: 0\nHeim: Chur II\nGast: Gaiserwald\n\nAdresse: Sandstr. 35\, 7000 Chur\n
LOCATION:Sandstr. 35\, 7000 Chur
CATEGORIES:Saison 2024/25
END:VEVENT
BEGIN:VEVENT
DTSTAMP:20260425T021330Z
DTSTART;TZID=Europe/Berlin:20241104T200000
DTEND;TZID=Europe/Berlin:20241104T230000
SUMMARY:HE 2. Liga Gr. 1 Chur II vs Bronschhofen (0)
UID:8a9c9604-fe43-4bd3-9cc1-c750c11fc8bc
STATUS:CONFIRMED
LAST-MODIFIED:20241106T080300Z
DESCRIPTION:2. Liga Herren Gruppe 1\nBegegnungs-Nr: 0\nHeim: Chur II\nGast: Bronschhofen\n\nAdresse: Sandstr. 35\, 7000 Chur\n
LOCATION:Sandstr. 35\, 7000 Chur
CATEGORIES:Saison 2024/25
END:VEVENT
BEGIN:VEVENT
DTSTAMP:20260425T021330Z
DTSTART;TZID=Europe/Berlin:20241125T200000
DTEND;TZID=Europe/Berlin:20241125T230000
SUMMARY:HE 2. Liga Gr. 1 Chur II vs Triesen II (0)
UID:a3805fe9-ede2-460c-82b7-7aa97d48335b
STATUS:CONFIRMED
LAST-MODIFIED:20241127T073200Z
DESCRIPTION:2. Liga Herren Gruppe 1\nBegegnungs-Nr: 0\nHeim: Chur II\nGast: Triesen II\n\nAdresse: Sandstr. 35\, 7000 Chur\n
LOCATION:Sandstr. 35\, 7000 Chur
CATEGORIES:Saison 2024/25
END:VEVENT
BEGIN:VEVENT
DTSTAMP:20260425T021330Z
DTSTART;TZID=Europe/Berlin:20240923T200000
DTEND;TZID=Europe/Berlin:20240923T230000
SUMMARY:HE 2. Liga Gr. 1 Chur II vs Wil SG II (0)
UID:6fd942ac-6aaf-4de7-9b37-c5a865aa4780
STATUS:CONFIRMED
LAST-MODIFIED:20240926T113123Z
DESCRIPTION:2. Liga Herren Gruppe 1\nBegegnungs-Nr: 0\nHeim: Chur II\nGast: Wil SG II\n\nAdresse: Sandstr. 35\, 7000 Chur\n
LOCATION:Sandstr. 35\, 7000 Chur
CATEGORIES:Saison 2024/25
END:VEVENT
BEGIN:VEVENT
DTSTAMP:20260425T021330Z
DTSTART;TZID=Europe/Berlin:20240902T200000
DTEND;TZID=Europe/Berlin:20240902T230000
SUMMARY:HE 2. Liga Gr. 1 Chur II vs St. Gallen III (0)
UID:1cbf0429-be11-459b-a5c7-e30b910f4f87
STATUS:CONFIRMED
LAST-MODIFIED:20240903T152639Z
DESCRIPTION:2. Liga Herren Gruppe 1\nBegegnungs-Nr: 0\nHeim: Chur II\nGast: St. Gallen III\n\nAdresse: Sandstr. 35\, 7000 Chur\n
LOCATION:Sandstr. 35\, 7000 Chur
CATEGORIES:Saison 2024/25
END:VEVENT
BEGIN:VEVENT
DTSTAMP:20260425T021330Z
DTSTART;TZID=Europe/Berlin:20250324T200000
DTEND;TZID=Europe/Berlin:20250324T230000
SUMMARY:HE 2. Liga Gr. 1 Chur II vs Muolen II (0)
UID:256febb9-d810-4184-bfdd-6335cbd35fb1
STATUS:CONFIRMED
LAST-MODIFIED:20250326T140529Z
DESCRIPTION:2. Liga Herren Gruppe 1\nBegegnungs-Nr: 0\nHeim: Chur II\nGast: Muolen II\n\nAdresse: Sandstr. 35\, 7000 Chur\n
LOCATION:Sandstr. 35\, 7000 Chur
CATEGORIES:Saison 2024/25
END:VEVENT
BEGIN:VEVENT
DTSTAMP:20260425T021330Z
DTSTART;TZID=Europe/Berlin:20250127T200000
DTEND;TZID=Europe/Berlin:20250127T230000
SUMMARY:HE 2. Liga Gr. 1 Chur II vs Romanshorn (0)
UID:276166d2-5660-4dc9-aa8e-c088e27c6e7e
STATUS:CONFIRMED
LAST-MODIFIED:20250128T104818Z
DESCRIPTION:2. Liga Herren Gruppe 1\nBegegnungs-Nr: 0\nHeim: Chur II\nGast: Romanshorn\n\nAdresse: Sandstr. 35\, 7000 Chur\n
LOCATION:Sandstr. 35\, 7000 Chur
CATEGORIES:Saison 2024/25
END:VEVENT
BEGIN:VEVENT
DTSTAMP:20260425T021330Z
DTSTART;TZID=Europe/Berlin:20250204T200000
DTEND;TZID=Europe/Berlin:20250204T230000
SUMMARY:HE 2. Liga Gr. 1 St. Gallen III vs Chur II (0)
UID:2a058fd3-b0d4-4bb0-9902-f8d273acd41f
STATUS:CONFIRMED
LAST-MODIFIED:20250206T140134Z
DESCRIPTION:2. Liga Herren Gruppe 1\nBegegnungs-Nr: 0\nHeim: St. Gallen III\nGast: Chur II\n\nAdresse: Zilstrasse 61\, 9016 St.Gallen\n
LOCATION:Zilstrasse 61\, 9016 St.Gallen
CATEGORIES:Saison 2024/25
END:VEVENT
BEGIN:VEVENT
DTSTAMP:20260425T021330Z
DTSTART;TZID=Europe/Berlin:20241209T201500
DTEND;TZID=Europe/Berlin:20241209T231500
SUMMARY:HE 2. Liga Gr. 1 Muolen II vs Chur II (0)
UID:0e6ef7e9-873d-40e9-acaf-7619532d76f6
STATUS:CONFIRMED
LAST-MODIFIED:20241211T083726Z
DESCRIPTION:2. Liga Herren Gruppe 1\nBegegnungs-Nr: 0\nHeim: Muolen II\nGast: Chur II\n\nAdresse: Olmishauserstrasse 3\, 9314 Steinebrunn\n
LOCATION:Olmishauserstrasse 3\, 9314 Steinebrunn
CATEGORIES:Saison 2024/25
END:VEVENT
BEGIN:VEVENT
DTSTAMP:20260425T021330Z
DTSTART;TZID=Europe/Berlin:20240920T201500
DTEND;TZID=Europe/Berlin:20240920T231500
SUMMARY:HE 2. Liga Gr. 1 Romanshorn vs Chur II (0)
UID:689d36f8-7e18-49e2-81a4-9b61f2c35ba4
STATUS:CONFIRMED
LAST-MODIFIED:20240926T112919Z
DESCRIPTION:2. Liga Herren Gruppe 1\nBegegnungs-Nr: 0\nHeim: Romanshorn\nGast: Chur II\n\nAdresse: Florastrasse\, 8590 Romanshorn\n
LOCATION:Florastrasse\, 8590 Romanshorn
CATEGORIES:Saison 2024/25
END:VEVENT
BEGIN:VEVENT
DTSTAMP:20260425T021330Z
DTSTART;TZID=Europe/Berlin:20241119T200000
DTEND;TZID=Europe/Berlin:20241119T230000
SUMMARY:HE 2. Liga Gr. 1 Gaiserwald vs Chur II (0)
UID:89ddc5eb-b97f-46e8-bb54-d0684c2a2ce6
STATUS:CONFIRMED
LAST-MODIFIED:20241122T150552Z
DESCRIPTION:2. Liga Herren Gruppe 1\nBegegnungs-Nr: 0\nHeim: Gaiserwald\nGast: Chur II\n\nAdresse: Sonnenbergstrasse 15\, 9030 Abtwil\n
LOCATION:Sonnenbergstrasse 15\, 9030 Abtwil
CATEGORIES:Saison 2024/25
END:VEVENT
BEGIN:VEVENT
DTSTAMP:20260425T021330Z
DTSTART;TZID=Europe/Berlin:20250312T200000
DTEND;TZID=Europe/Berlin:20250312T230000
SUMMARY:HE 2. Liga Gr. 1 Bronschhofen vs Chur II (0)
UID:d332f6f0-2527-4e3b-8d6c-e3abcc77c774
STATUS:CONFIRMED
LAST-MODIFIED:20250313T100724Z
DESCRIPTION:2. Liga Herren Gruppe 1\nBegegnungs-Nr: 0\nHeim: Bronschhofen\nGast: Chur II\n\nAdresse: Industriestrasse 4\, 9552 Bronschhofen\n
LOCATION:Industriestrasse 4\, 9552 Bronschhofen
CATEGORIES:Saison 2024/25
END:VEVENT
BEGIN:VEVENT
DTSTAMP:20260425T021330Z
DTSTART;TZID=Europe/Berlin:20250225T194500
DTEND;TZID=Europe/Berlin:20250225T224500
SUMMARY:HE 2. Liga Gr. 1 Triesen II vs Chur II (0)
UID:19a03405-d9fc-4f94-89b0-5e471c3ffd44
STATUS:CONFIRMED
LAST-MODIFIED:20250227T112256Z
DESCRIPTION:2. Liga Herren Gruppe 1\nBegegnungs-Nr: 0\nHeim: Triesen II\nGast: Chur II\n\nAdresse: Gässle 12\, 9495 Triesen\n
LOCATION:Gässle 12\, 9495 Triesen
CATEGORIES:Saison 2024/25
END:VEVENT
BEGIN:VEVENT
DTSTAMP:20260425T021330Z
DTSTART;TZID=Europe/Berlin:20250211T201500
DTEND;TZID=Europe/Berlin:20250211T231500
SUMMARY:HE 2. Liga Gr. 1 Wil SG II vs Chur II (0)
UID:373d6509-b618-4959-af4a-461f2d0b3942
STATUS:CONFIRMED
LAST-MODIFIED:20250219T135053Z
DESCRIPTION:2. Liga Herren Gruppe 1\nBegegnungs-Nr: 0\nHeim: Wil SG II\nGast: Chur II\n\nAdresse: Lindenhofstr. 23\, 9500 Wil\n
LOCATION:Lindenhofstr. 23\, 9500 Wil
CATEGORIES:Saison 2024/25
END:VEVENT
END:VCALENDAR
