BEGIN:VCALENDAR
PRODID:-//nuDatenautomaten//framework iCal4j //DE
VERSION:2.0
CALSCALE:GREGORIAN
BEGIN:VTIMEZONE
TZID:Europe/Berlin
LAST-MODIFIED:20260306T231828Z
TZURL:https://www.tzurl.org/zoneinfo/Europe/Berlin
X-LIC-LOCATION:Europe/Berlin
X-PROLEPTIC-TZNAME:LMT
BEGIN:STANDARD
TZNAME:CET
TZOFFSETFROM:+005328
TZOFFSETTO:+0100
DTSTART:18930401T000000
END:STANDARD
BEGIN:DAYLIGHT
TZNAME:CEST
TZOFFSETFROM:+0100
TZOFFSETTO:+0200
DTSTART:19160430T230000
RDATE:19400401T020000
RDATE:19430329T020000
RDATE:19460414T020000
RDATE:19470406T030000
RDATE:19480418T020000
RDATE:19490410T020000
RDATE:19800406T020000
END:DAYLIGHT
BEGIN:STANDARD
TZNAME:CET
TZOFFSETFROM:+0200
TZOFFSETTO:+0100
DTSTART:19161001T010000
RDATE:19421102T030000
RDATE:19431004T030000
RDATE:19441002T030000
RDATE:19451118T030000
RDATE:19461007T030000
END:STANDARD
BEGIN:DAYLIGHT
TZNAME:CEST
TZOFFSETFROM:+0100
TZOFFSETTO:+0200
DTSTART:19170416T020000
RRULE:FREQ=YEARLY;UNTIL=19180415T010000Z;BYMONTH=4;BYDAY=3MO
END:DAYLIGHT
BEGIN:STANDARD
TZNAME:CET
TZOFFSETFROM:+0200
TZOFFSETTO:+0100
DTSTART:19170917T030000
RRULE:FREQ=YEARLY;UNTIL=19180916T010000Z;BYMONTH=9;BYDAY=3MO
END:STANDARD
BEGIN:DAYLIGHT
TZNAME:CEST
TZOFFSETFROM:+0100
TZOFFSETTO:+0200
DTSTART:19440403T020000
RRULE:FREQ=YEARLY;UNTIL=19450402T010000Z;BYMONTH=4;BYDAY=1MO
END:DAYLIGHT
BEGIN:DAYLIGHT
TZNAME:CEMT
TZOFFSETFROM:+0200
TZOFFSETTO:+0300
DTSTART:19450524T020000
RDATE:19470511T030000
END:DAYLIGHT
BEGIN:DAYLIGHT
TZNAME:CEST
TZOFFSETFROM:+0300
TZOFFSETTO:+0200
DTSTART:19450924T030000
RDATE:19470629T030000
END:DAYLIGHT
BEGIN:STANDARD
TZNAME:CET
TZOFFSETFROM:+0100
TZOFFSETTO:+0100
DTSTART:19460101T000000
RDATE:19800101T000000
END:STANDARD
BEGIN:STANDARD
TZNAME:CET
TZOFFSETFROM:+0200
TZOFFSETTO:+0100
DTSTART:19471005T030000
RRULE:FREQ=YEARLY;UNTIL=19491002T010000Z;BYMONTH=10;BYDAY=1SU
END:STANDARD
BEGIN:STANDARD
TZNAME:CET
TZOFFSETFROM:+0200
TZOFFSETTO:+0100
DTSTART:19800928T030000
RRULE:FREQ=YEARLY;UNTIL=19950924T010000Z;BYMONTH=9;BYDAY=-1SU
END:STANDARD
BEGIN:DAYLIGHT
TZNAME:CEST
TZOFFSETFROM:+0100
TZOFFSETTO:+0200
DTSTART:19810329T020000
RRULE:FREQ=YEARLY;BYMONTH=3;BYDAY=-1SU
END:DAYLIGHT
BEGIN:STANDARD
TZNAME:CET
TZOFFSETFROM:+0200
TZOFFSETTO:+0100
DTSTART:19961027T030000
RRULE:FREQ=YEARLY;BYMONTH=10;BYDAY=-1SU
END:STANDARD
END:VTIMEZONE
BEGIN:VEVENT
DTSTAMP:20260425T021421Z
DTSTART;TZID=Europe/Berlin:20250508T200000
DTEND;TZID=Europe/Berlin:20250508T230000
SUMMARY:HE 4.Liga Abstieg Ettenhausen III vs Seebach-Kügeliloo (412)
UID:9acf4fcf-5944-41d6-bc52-fc73c0999f40
STATUS:CONFIRMED
LAST-MODIFIED:20250513T095222Z
DESCRIPTION:4. Liga Herren Abstieg\nBegegnungs-Nr: 412\nHeim: Ettenhausen III\nGast: Seebach-Kügeliloo\n
LOCATION:
CATEGORIES:Saison 2024/25
END:VEVENT
BEGIN:VEVENT
DTSTAMP:20260425T021421Z
DTSTART;TZID=Europe/Berlin:20241204T201500
DTEND;TZID=Europe/Berlin:20241204T231500
SUMMARY:HE 4. Liga Gr. 3 Ettenhausen III vs Winterthur III (0)
UID:1b632925-5de2-48a9-bc92-03f8d40277c2
STATUS:CONFIRMED
LAST-MODIFIED:20241205T124536Z
DESCRIPTION:4. Liga Herren Gruppe 3\nBegegnungs-Nr: 0\nHeim: Ettenhausen III\nGast: Winterthur III\n\nAdresse: Weidlistrasse 12\, 8356 Ettenhausen\n
LOCATION:Weidlistrasse 12\, 8356 Ettenhausen
CATEGORIES:Saison 2024/25
END:VEVENT
BEGIN:VEVENT
DTSTAMP:20260425T021421Z
DTSTART;TZID=Europe/Berlin:20240918T201500
DTEND;TZID=Europe/Berlin:20240918T231500
SUMMARY:HE 4. Liga Gr. 3 Ettenhausen III vs Neuhausen IV (0)
UID:66c7288d-f17d-4df1-b975-01be41a5bd1e
STATUS:CONFIRMED
LAST-MODIFIED:20240920T135846Z
DESCRIPTION:4. Liga Herren Gruppe 3\nBegegnungs-Nr: 0\nHeim: Ettenhausen III\nGast: Neuhausen IV\n\nAdresse: Weidlistrasse 12\, 8356 Ettenhausen\n
LOCATION:Weidlistrasse 12\, 8356 Ettenhausen
CATEGORIES:Saison 2024/25
END:VEVENT
BEGIN:VEVENT
DTSTAMP:20260425T021421Z
DTSTART;TZID=Europe/Berlin:20240828T201500
DTEND;TZID=Europe/Berlin:20240828T231500
SUMMARY:HE 4. Liga Gr. 3 Ettenhausen III vs Frauenfeld (0)
UID:f2473aaa-348c-4283-a38e-6068eccb0f1f
STATUS:CONFIRMED
LAST-MODIFIED:20240904T102118Z
DESCRIPTION:4. Liga Herren Gruppe 3\nBegegnungs-Nr: 0\nHeim: Ettenhausen III\nGast: Frauenfeld\n\nAdresse: Weidlistrasse 12\, 8356 Ettenhausen\n
LOCATION:Weidlistrasse 12\, 8356 Ettenhausen
CATEGORIES:Saison 2024/25
END:VEVENT
BEGIN:VEVENT
DTSTAMP:20260425T021421Z
DTSTART;TZID=Europe/Berlin:20250326T201500
DTEND;TZID=Europe/Berlin:20250326T231500
SUMMARY:HE 4. Liga Gr. 3 Ettenhausen III vs Diessenhofen (0)
UID:8b41a8d1-18b5-48bb-8a63-258bc1f795fe
STATUS:CONFIRMED
LAST-MODIFIED:20250327T133624Z
DESCRIPTION:4. Liga Herren Gruppe 3\nBegegnungs-Nr: 0\nHeim: Ettenhausen III\nGast: Diessenhofen\n\nAdresse: Weidlistrasse 12\, 8356 Ettenhausen\n
LOCATION:Weidlistrasse 12\, 8356 Ettenhausen
CATEGORIES:Saison 2024/25
END:VEVENT
BEGIN:VEVENT
DTSTAMP:20260425T021421Z
DTSTART;TZID=Europe/Berlin:20250312T201500
DTEND;TZID=Europe/Berlin:20250312T231500
SUMMARY:HE 4. Liga Gr. 3 Ettenhausen III vs Weinfelden (0)
UID:8c185558-9659-4911-96a2-49859e72dcc2
STATUS:CONFIRMED
LAST-MODIFIED:20250407T114423Z
DESCRIPTION:4. Liga Herren Gruppe 3\nBegegnungs-Nr: 0\nHeim: Ettenhausen III\nGast: Weinfelden\n\nAdresse: Weidlistrasse 12\, 8356 Ettenhausen\n
LOCATION:Weidlistrasse 12\, 8356 Ettenhausen
CATEGORIES:Saison 2024/25
END:VEVENT
BEGIN:VEVENT
DTSTAMP:20260425T021421Z
DTSTART;TZID=Europe/Berlin:20250212T201500
DTEND;TZID=Europe/Berlin:20250212T231500
SUMMARY:HE 4. Liga Gr. 3 Ettenhausen III vs Embrachertal III (0)
UID:fee7768b-a7fb-4694-96c8-4578e5658a6c
STATUS:CONFIRMED
LAST-MODIFIED:20250213T131754Z
DESCRIPTION:4. Liga Herren Gruppe 3\nBegegnungs-Nr: 0\nHeim: Ettenhausen III\nGast: Embrachertal III\n\nAdresse: Weidlistrasse 12\, 8356 Ettenhausen\n
LOCATION:Weidlistrasse 12\, 8356 Ettenhausen
CATEGORIES:Saison 2024/25
END:VEVENT
BEGIN:VEVENT
DTSTAMP:20260425T021421Z
DTSTART;TZID=Europe/Berlin:20250122T201500
DTEND;TZID=Europe/Berlin:20250122T231500
SUMMARY:HE 4. Liga Gr. 3 Ettenhausen III vs Imperial Winterthur (0)
UID:d6a99949-a24e-4451-a484-f237cf8836c5
STATUS:CONFIRMED
LAST-MODIFIED:20250129T123314Z
DESCRIPTION:4. Liga Herren Gruppe 3\nBegegnungs-Nr: 0\nHeim: Ettenhausen III\nGast: Imperial Winterthur\n\nAdresse: Weidlistrasse 12\, 8356 Ettenhausen\n
LOCATION:Weidlistrasse 12\, 8356 Ettenhausen
CATEGORIES:Saison 2024/25
END:VEVENT
BEGIN:VEVENT
DTSTAMP:20260425T021421Z
DTSTART;TZID=Europe/Berlin:20241119T200000
DTEND;TZID=Europe/Berlin:20241119T230000
SUMMARY:HE 4. Liga Gr. 3 Diessenhofen vs Ettenhausen III (0)
UID:caa98ea9-4c49-445f-9749-0d476265c96f
STATUS:CONFIRMED
LAST-MODIFIED:20241122T151001Z
DESCRIPTION:4. Liga Herren Gruppe 3\nBegegnungs-Nr: 0\nHeim: Diessenhofen\nGast: Ettenhausen III\n\nAdresse: alte Basadingerstrasse 10\, 8253 Diessenhofen\n
LOCATION:alte Basadingerstrasse 10\, 8253 Diessenhofen
CATEGORIES:Saison 2024/25
END:VEVENT
BEGIN:VEVENT
DTSTAMP:20260425T021421Z
DTSTART;TZID=Europe/Berlin:20241105T200000
DTEND;TZID=Europe/Berlin:20241105T230000
SUMMARY:HE 4. Liga Gr. 3 Weinfelden vs Ettenhausen III (0)
UID:f3396406-5da1-49a5-a612-e84913242d1c
STATUS:CONFIRMED
LAST-MODIFIED:20241108T134620Z
DESCRIPTION:4. Liga Herren Gruppe 3\nBegegnungs-Nr: 0\nHeim: Weinfelden\nGast: Ettenhausen III\n\nAdresse: Bleichestrasse 3 (neben Hallenbad)\, 8570 Weinfelden\n
LOCATION:Bleichestrasse 3 (neben Hallenbad)\, 8570 Weinfelden
CATEGORIES:Saison 2024/25
END:VEVENT
BEGIN:VEVENT
DTSTAMP:20260425T021421Z
DTSTART;TZID=Europe/Berlin:20240926T200000
DTEND;TZID=Europe/Berlin:20240926T230000
SUMMARY:HE 4. Liga Gr. 3 Embrachertal III vs Ettenhausen III (0)
UID:d28a95e9-8f8c-4cc2-a59d-3b52fc435644
STATUS:CONFIRMED
LAST-MODIFIED:20240930T123948Z
DESCRIPTION:4. Liga Herren Gruppe 3\nBegegnungs-Nr: 0\nHeim: Embrachertal III\nGast: Ettenhausen III\n\nAdresse: Schützenhausstrasse 20\, 8424 Embrach\n
LOCATION:Schützenhausstrasse 20\, 8424 Embrach
CATEGORIES:Saison 2024/25
END:VEVENT
BEGIN:VEVENT
DTSTAMP:20260425T021421Z
DTSTART;TZID=Europe/Berlin:20240905T200000
DTEND;TZID=Europe/Berlin:20240905T230000
SUMMARY:HE 4. Liga Gr. 3 Imperial Winterthur vs Ettenhausen III (0)
UID:4f7d3597-b75d-44f2-b68c-ff806af7cbe0
STATUS:CONFIRMED
LAST-MODIFIED:20240906T095728Z
DESCRIPTION:4. Liga Herren Gruppe 3\nBegegnungs-Nr: 0\nHeim: Imperial Winterthur\nGast: Ettenhausen III\n\nAdresse: Büelhofstrasse 25a\, 8405 Winterthur\n
LOCATION:Büelhofstrasse 25a\, 8405 Winterthur
CATEGORIES:Saison 2024/25
END:VEVENT
BEGIN:VEVENT
DTSTAMP:20260425T021421Z
DTSTART;TZID=Europe/Berlin:20250307T201500
DTEND;TZID=Europe/Berlin:20250307T231500
SUMMARY:HE 4. Liga Gr. 3 Winterthur III vs Ettenhausen III (0)
UID:bec3c0ed-d7d5-4e56-88dc-0bc5b51b5e53
STATUS:CONFIRMED
LAST-MODIFIED:20250311T152027Z
DESCRIPTION:4. Liga Herren Gruppe 3\nBegegnungs-Nr: 0\nHeim: Winterthur III\nGast: Ettenhausen III\n\nAdresse: Buchackerstrasse 54\, 8400 Winterthur\n
LOCATION:Buchackerstrasse 54\, 8400 Winterthur
CATEGORIES:Saison 2024/25
END:VEVENT
BEGIN:VEVENT
DTSTAMP:20260425T021421Z
DTSTART;TZID=Europe/Berlin:20250128T193000
DTEND;TZID=Europe/Berlin:20250128T223000
SUMMARY:HE 4. Liga Gr. 3 Neuhausen IV vs Ettenhausen III (0)
UID:b65a1b7c-a14b-4e19-83b1-ad4fee69e736
STATUS:CONFIRMED
LAST-MODIFIED:20250131T143606Z
DESCRIPTION:4. Liga Herren Gruppe 3\nBegegnungs-Nr: 0\nHeim: Neuhausen IV\nGast: Ettenhausen III\n\nAdresse: Ebnatstrasse 35\, 8200 Schaffhausen\n
LOCATION:Ebnatstrasse 35\, 8200 Schaffhausen
CATEGORIES:Saison 2024/25
END:VEVENT
BEGIN:VEVENT
DTSTAMP:20260425T021421Z
DTSTART;TZID=Europe/Berlin:20250106T200000
DTEND;TZID=Europe/Berlin:20250106T230000
SUMMARY:HE 4. Liga Gr. 3 Frauenfeld vs Ettenhausen III (0)
UID:b6a6b72f-c4de-46a0-8416-a53fe750420c
STATUS:CONFIRMED
LAST-MODIFIED:20250110T150954Z
DESCRIPTION:4. Liga Herren Gruppe 3\nBegegnungs-Nr: 0\nHeim: Frauenfeld\nGast: Ettenhausen III\n\nAdresse: Scheuchenstrasse\, 8500 Frauenfeld\n
LOCATION:Scheuchenstrasse\, 8500 Frauenfeld
CATEGORIES:Saison 2024/25
END:VEVENT
END:VCALENDAR
