BEGIN:VCALENDAR
PRODID:-//nuDatenautomaten//framework iCal4j //DE
VERSION:2.0
CALSCALE:GREGORIAN
BEGIN:VTIMEZONE
TZID:Europe/Berlin
LAST-MODIFIED:20260306T231828Z
TZURL:https://www.tzurl.org/zoneinfo/Europe/Berlin
X-LIC-LOCATION:Europe/Berlin
X-PROLEPTIC-TZNAME:LMT
BEGIN:STANDARD
TZNAME:CET
TZOFFSETFROM:+005328
TZOFFSETTO:+0100
DTSTART:18930401T000000
END:STANDARD
BEGIN:DAYLIGHT
TZNAME:CEST
TZOFFSETFROM:+0100
TZOFFSETTO:+0200
DTSTART:19160430T230000
RDATE:19400401T020000
RDATE:19430329T020000
RDATE:19460414T020000
RDATE:19470406T030000
RDATE:19480418T020000
RDATE:19490410T020000
RDATE:19800406T020000
END:DAYLIGHT
BEGIN:STANDARD
TZNAME:CET
TZOFFSETFROM:+0200
TZOFFSETTO:+0100
DTSTART:19161001T010000
RDATE:19421102T030000
RDATE:19431004T030000
RDATE:19441002T030000
RDATE:19451118T030000
RDATE:19461007T030000
END:STANDARD
BEGIN:DAYLIGHT
TZNAME:CEST
TZOFFSETFROM:+0100
TZOFFSETTO:+0200
DTSTART:19170416T020000
RRULE:FREQ=YEARLY;UNTIL=19180415T010000Z;BYMONTH=4;BYDAY=3MO
END:DAYLIGHT
BEGIN:STANDARD
TZNAME:CET
TZOFFSETFROM:+0200
TZOFFSETTO:+0100
DTSTART:19170917T030000
RRULE:FREQ=YEARLY;UNTIL=19180916T010000Z;BYMONTH=9;BYDAY=3MO
END:STANDARD
BEGIN:DAYLIGHT
TZNAME:CEST
TZOFFSETFROM:+0100
TZOFFSETTO:+0200
DTSTART:19440403T020000
RRULE:FREQ=YEARLY;UNTIL=19450402T010000Z;BYMONTH=4;BYDAY=1MO
END:DAYLIGHT
BEGIN:DAYLIGHT
TZNAME:CEMT
TZOFFSETFROM:+0200
TZOFFSETTO:+0300
DTSTART:19450524T020000
RDATE:19470511T030000
END:DAYLIGHT
BEGIN:DAYLIGHT
TZNAME:CEST
TZOFFSETFROM:+0300
TZOFFSETTO:+0200
DTSTART:19450924T030000
RDATE:19470629T030000
END:DAYLIGHT
BEGIN:STANDARD
TZNAME:CET
TZOFFSETFROM:+0100
TZOFFSETTO:+0100
DTSTART:19460101T000000
RDATE:19800101T000000
END:STANDARD
BEGIN:STANDARD
TZNAME:CET
TZOFFSETFROM:+0200
TZOFFSETTO:+0100
DTSTART:19471005T030000
RRULE:FREQ=YEARLY;UNTIL=19491002T010000Z;BYMONTH=10;BYDAY=1SU
END:STANDARD
BEGIN:STANDARD
TZNAME:CET
TZOFFSETFROM:+0200
TZOFFSETTO:+0100
DTSTART:19800928T030000
RRULE:FREQ=YEARLY;UNTIL=19950924T010000Z;BYMONTH=9;BYDAY=-1SU
END:STANDARD
BEGIN:DAYLIGHT
TZNAME:CEST
TZOFFSETFROM:+0100
TZOFFSETTO:+0200
DTSTART:19810329T020000
RRULE:FREQ=YEARLY;BYMONTH=3;BYDAY=-1SU
END:DAYLIGHT
BEGIN:STANDARD
TZNAME:CET
TZOFFSETFROM:+0200
TZOFFSETTO:+0100
DTSTART:19961027T030000
RRULE:FREQ=YEARLY;BYMONTH=10;BYDAY=-1SU
END:STANDARD
END:VTIMEZONE
BEGIN:VEVENT
DTSTAMP:20260425T021420Z
DTSTART;TZID=Europe/Berlin:20241204T200000
DTEND;TZID=Europe/Berlin:20241204T230000
SUMMARY:HE 4. Liga Gr. 6 BW-Wollishofen II vs Flums IV (0)
UID:8aabde33-3955-49fc-812b-fdd2801be1b7
STATUS:CONFIRMED
LAST-MODIFIED:20241205T124632Z
DESCRIPTION:4. Liga Herren Gruppe 6\nBegegnungs-Nr: 0\nHeim: BW-Wollishofen II\nGast: Flums IV\n\nAdresse: Kilchbergstr. 28\, 8038 Zürich\n
LOCATION:Kilchbergstr. 28\, 8038 Zürich
CATEGORIES:Saison 2024/25
END:VEVENT
BEGIN:VEVENT
DTSTAMP:20260425T021420Z
DTSTART;TZID=Europe/Berlin:20241106T200000
DTEND;TZID=Europe/Berlin:20241106T230000
SUMMARY:HE 4. Liga Gr. 6 BW-Wollishofen II vs Wettswil (0)
UID:37aab58c-667a-4429-bd8d-c542f0920191
STATUS:CONFIRMED
LAST-MODIFIED:20241108T134847Z
DESCRIPTION:4. Liga Herren Gruppe 6\nBegegnungs-Nr: 0\nHeim: BW-Wollishofen II\nGast: Wettswil\n\nAdresse: Kilchbergstr. 28\, 8038 Zürich\n
LOCATION:Kilchbergstr. 28\, 8038 Zürich
CATEGORIES:Saison 2024/25
END:VEVENT
BEGIN:VEVENT
DTSTAMP:20260425T021420Z
DTSTART;TZID=Europe/Berlin:20240911T200000
DTEND;TZID=Europe/Berlin:20240911T230000
SUMMARY:HE 4. Liga Gr. 6 BW-Wollishofen II vs Urdorf II (0)
UID:1bbfef75-7149-460f-8117-27424bb1d98e
STATUS:CONFIRMED
LAST-MODIFIED:20240912T201418Z
DESCRIPTION:4. Liga Herren Gruppe 6\nBegegnungs-Nr: 0\nHeim: BW-Wollishofen II\nGast: Urdorf II\n\nAdresse: Kilchbergstr. 28\, 8038 Zürich\n
LOCATION:Kilchbergstr. 28\, 8038 Zürich
CATEGORIES:Saison 2024/25
END:VEVENT
BEGIN:VEVENT
DTSTAMP:20260425T021420Z
DTSTART;TZID=Europe/Berlin:20240828T200000
DTEND;TZID=Europe/Berlin:20240828T230000
SUMMARY:HE 4. Liga Gr. 6 BW-Wollishofen II vs Wädenswil V (0)
UID:e3021bc1-323e-4222-8596-f384e895a279
STATUS:CONFIRMED
LAST-MODIFIED:20240904T103429Z
DESCRIPTION:4. Liga Herren Gruppe 6\nBegegnungs-Nr: 0\nHeim: BW-Wollishofen II\nGast: Wädenswil V\n\nAdresse: Kilchbergstr. 28\, 8038 Zürich\n
LOCATION:Kilchbergstr. 28\, 8038 Zürich
CATEGORIES:Saison 2024/25
END:VEVENT
BEGIN:VEVENT
DTSTAMP:20260425T021420Z
DTSTART;TZID=Europe/Berlin:20250305T200000
DTEND;TZID=Europe/Berlin:20250305T230000
SUMMARY:HE 4. Liga Gr. 6 BW-Wollishofen II vs Affoltern A/A IV (0)
UID:281129b6-1baa-4545-b6e8-b5abb337490f
STATUS:CONFIRMED
LAST-MODIFIED:20250307T080749Z
DESCRIPTION:4. Liga Herren Gruppe 6\nBegegnungs-Nr: 0\nHeim: BW-Wollishofen II\nGast: Affoltern A/A IV\n\nAdresse: Kilchbergstr. 28\, 8038 Zürich\n
LOCATION:Kilchbergstr. 28\, 8038 Zürich
CATEGORIES:Saison 2024/25
END:VEVENT
BEGIN:VEVENT
DTSTAMP:20260425T021420Z
DTSTART;TZID=Europe/Berlin:20250205T200000
DTEND;TZID=Europe/Berlin:20250205T230000
SUMMARY:HE 4. Liga Gr. 6 BW-Wollishofen II vs Thalwil II (0)
UID:0dbaca91-afe8-447e-8da6-c5b022dd9535
STATUS:CONFIRMED
LAST-MODIFIED:20250206T140747Z
DESCRIPTION:4. Liga Herren Gruppe 6\nBegegnungs-Nr: 0\nHeim: BW-Wollishofen II\nGast: Thalwil II\n\nAdresse: Kilchbergstr. 28\, 8038 Zürich\n
LOCATION:Kilchbergstr. 28\, 8038 Zürich
CATEGORIES:Saison 2024/25
END:VEVENT
BEGIN:VEVENT
DTSTAMP:20260425T021420Z
DTSTART;TZID=Europe/Berlin:20250115T200000
DTEND;TZID=Europe/Berlin:20250115T230000
SUMMARY:HE 4. Liga Gr. 6 BW-Wollishofen II vs Sihltal (0)
UID:01f44499-a26b-4599-b3a1-dce485a2b75a
STATUS:CONFIRMED
LAST-MODIFIED:20250116T101404Z
DESCRIPTION:4. Liga Herren Gruppe 6\nBegegnungs-Nr: 0\nHeim: BW-Wollishofen II\nGast: Sihltal\n\nAdresse: Kilchbergstr. 28\, 8038 Zürich\n
LOCATION:Kilchbergstr. 28\, 8038 Zürich
CATEGORIES:Saison 2024/25
END:VEVENT
BEGIN:VEVENT
DTSTAMP:20260425T021420Z
DTSTART;TZID=Europe/Berlin:20241101T200000
DTEND;TZID=Europe/Berlin:20241101T230000
SUMMARY:HE 4. Liga Gr. 6 Affoltern A/A IV vs BW-Wollishofen II (0)
UID:aa6d915e-dfd2-45d5-ba71-3d024ca49efd
STATUS:CONFIRMED
LAST-MODIFIED:20241108T134830Z
DESCRIPTION:4. Liga Herren Gruppe 6\nBegegnungs-Nr: 0\nHeim: Affoltern A/A IV\nGast: BW-Wollishofen II\n\nAdresse: Butzenstr. 2\, 8910 Affoltern am Albis\n
LOCATION:Butzenstr. 2\, 8910 Affoltern am Albis
CATEGORIES:Saison 2024/25
END:VEVENT
BEGIN:VEVENT
DTSTAMP:20260425T021420Z
DTSTART;TZID=Europe/Berlin:20240925T201500
DTEND;TZID=Europe/Berlin:20240925T231500
SUMMARY:HE 4. Liga Gr. 6 Thalwil II vs BW-Wollishofen II (0)
UID:92d0c812-07ef-446d-b8e1-ea25c4815fd6
STATUS:CONFIRMED
LAST-MODIFIED:20240926T114025Z
DESCRIPTION:4. Liga Herren Gruppe 6\nBegegnungs-Nr: 0\nHeim: Thalwil II\nGast: BW-Wollishofen II\n\nAdresse: Bergstrasse 2\, 8800 Thalwil\n
LOCATION:Bergstrasse 2\, 8800 Thalwil
CATEGORIES:Saison 2024/25
END:VEVENT
BEGIN:VEVENT
DTSTAMP:20260425T021420Z
DTSTART;TZID=Europe/Berlin:20241001T201500
DTEND;TZID=Europe/Berlin:20241001T231500
SUMMARY:HE 4. Liga Gr. 6 Sihltal vs BW-Wollishofen II (0)
UID:8840e6d5-6cc2-4554-82ee-f4f2a29d3ce1
STATUS:CONFIRMED
LAST-MODIFIED:20241004T080624Z
DESCRIPTION:4. Liga Herren Gruppe 6\nBegegnungs-Nr: 0\nHeim: Sihltal\nGast: BW-Wollishofen II\n\nAdresse: In der Schwerzi 4\, 8135 Langnau a/A\n
LOCATION:In der Schwerzi 4\, 8135 Langnau a/A
CATEGORIES:Saison 2024/25
END:VEVENT
BEGIN:VEVENT
DTSTAMP:20260425T021420Z
DTSTART;TZID=Europe/Berlin:20250328T201500
DTEND;TZID=Europe/Berlin:20250328T231500
SUMMARY:HE 4. Liga Gr. 6 Flums IV vs BW-Wollishofen II (0)
UID:96d08db5-6f5f-41dc-9c15-dbbae194440a
STATUS:CONFIRMED
LAST-MODIFIED:20250404T083041Z
DESCRIPTION:4. Liga Herren Gruppe 6\nBegegnungs-Nr: 0\nHeim: Flums IV\nGast: BW-Wollishofen II\n\nAdresse: Bahnhofstrasse 23\, 8890 Flums\n
LOCATION:Bahnhofstrasse 23\, 8890 Flums
CATEGORIES:Saison 2024/25
END:VEVENT
BEGIN:VEVENT
DTSTAMP:20260425T021420Z
DTSTART;TZID=Europe/Berlin:20250311T194500
DTEND;TZID=Europe/Berlin:20250311T224500
SUMMARY:HE 4. Liga Gr. 6 Wettswil vs BW-Wollishofen II (0)
UID:df48ef1f-c82e-4bbc-ac30-7e9e8b40bdf4
STATUS:CONFIRMED
LAST-MODIFIED:20250312T145534Z
DESCRIPTION:4. Liga Herren Gruppe 6\nBegegnungs-Nr: 0\nHeim: Wettswil\nGast: BW-Wollishofen II\n\nAdresse: Hirsächersteig\, 8907 Wettswil\n
LOCATION:Hirsächersteig\, 8907 Wettswil
CATEGORIES:Saison 2024/25
END:VEVENT
BEGIN:VEVENT
DTSTAMP:20260425T021420Z
DTSTART;TZID=Europe/Berlin:20250129T201500
DTEND;TZID=Europe/Berlin:20250129T231500
SUMMARY:HE 4. Liga Gr. 6 Urdorf II vs BW-Wollishofen II (0)
UID:567f6a97-7780-41fd-993f-48b76edb7620
STATUS:CONFIRMED
LAST-MODIFIED:20250131T143738Z
DESCRIPTION:4. Liga Herren Gruppe 6\nBegegnungs-Nr: 0\nHeim: Urdorf II\nGast: BW-Wollishofen II\n\nAdresse: Weihermattstrasse 50\, 8902 Urdorf\n
LOCATION:Weihermattstrasse 50\, 8902 Urdorf
CATEGORIES:Saison 2024/25
END:VEVENT
BEGIN:VEVENT
DTSTAMP:20260425T021420Z
DTSTART;TZID=Europe/Berlin:20250109T200000
DTEND;TZID=Europe/Berlin:20250109T230000
SUMMARY:HE 4. Liga Gr. 6 Wädenswil V vs BW-Wollishofen II (0)
UID:c24ecb68-4fa0-4ea1-a60f-4f709b134f47
STATUS:CONFIRMED
LAST-MODIFIED:20250113T122809Z
DESCRIPTION:4. Liga Herren Gruppe 6\nBegegnungs-Nr: 0\nHeim: Wädenswil V\nGast: BW-Wollishofen II\n\nAdresse: Fuhrstrasse 16b\, 8820 Wädenswil\n
LOCATION:Fuhrstrasse 16b\, 8820 Wädenswil
CATEGORIES:Saison 2024/25
END:VEVENT
END:VCALENDAR
