BEGIN:VCALENDAR
PRODID:-//nuDatenautomaten//framework iCal4j //DE
VERSION:2.0
CALSCALE:GREGORIAN
BEGIN:VTIMEZONE
TZID:Europe/Berlin
LAST-MODIFIED:20260306T231828Z
TZURL:https://www.tzurl.org/zoneinfo/Europe/Berlin
X-LIC-LOCATION:Europe/Berlin
X-PROLEPTIC-TZNAME:LMT
BEGIN:STANDARD
TZNAME:CET
TZOFFSETFROM:+005328
TZOFFSETTO:+0100
DTSTART:18930401T000000
END:STANDARD
BEGIN:DAYLIGHT
TZNAME:CEST
TZOFFSETFROM:+0100
TZOFFSETTO:+0200
DTSTART:19160430T230000
RDATE:19400401T020000
RDATE:19430329T020000
RDATE:19460414T020000
RDATE:19470406T030000
RDATE:19480418T020000
RDATE:19490410T020000
RDATE:19800406T020000
END:DAYLIGHT
BEGIN:STANDARD
TZNAME:CET
TZOFFSETFROM:+0200
TZOFFSETTO:+0100
DTSTART:19161001T010000
RDATE:19421102T030000
RDATE:19431004T030000
RDATE:19441002T030000
RDATE:19451118T030000
RDATE:19461007T030000
END:STANDARD
BEGIN:DAYLIGHT
TZNAME:CEST
TZOFFSETFROM:+0100
TZOFFSETTO:+0200
DTSTART:19170416T020000
RRULE:FREQ=YEARLY;UNTIL=19180415T010000Z;BYMONTH=4;BYDAY=3MO
END:DAYLIGHT
BEGIN:STANDARD
TZNAME:CET
TZOFFSETFROM:+0200
TZOFFSETTO:+0100
DTSTART:19170917T030000
RRULE:FREQ=YEARLY;UNTIL=19180916T010000Z;BYMONTH=9;BYDAY=3MO
END:STANDARD
BEGIN:DAYLIGHT
TZNAME:CEST
TZOFFSETFROM:+0100
TZOFFSETTO:+0200
DTSTART:19440403T020000
RRULE:FREQ=YEARLY;UNTIL=19450402T010000Z;BYMONTH=4;BYDAY=1MO
END:DAYLIGHT
BEGIN:DAYLIGHT
TZNAME:CEMT
TZOFFSETFROM:+0200
TZOFFSETTO:+0300
DTSTART:19450524T020000
RDATE:19470511T030000
END:DAYLIGHT
BEGIN:DAYLIGHT
TZNAME:CEST
TZOFFSETFROM:+0300
TZOFFSETTO:+0200
DTSTART:19450924T030000
RDATE:19470629T030000
END:DAYLIGHT
BEGIN:STANDARD
TZNAME:CET
TZOFFSETFROM:+0100
TZOFFSETTO:+0100
DTSTART:19460101T000000
RDATE:19800101T000000
END:STANDARD
BEGIN:STANDARD
TZNAME:CET
TZOFFSETFROM:+0200
TZOFFSETTO:+0100
DTSTART:19471005T030000
RRULE:FREQ=YEARLY;UNTIL=19491002T010000Z;BYMONTH=10;BYDAY=1SU
END:STANDARD
BEGIN:STANDARD
TZNAME:CET
TZOFFSETFROM:+0200
TZOFFSETTO:+0100
DTSTART:19800928T030000
RRULE:FREQ=YEARLY;UNTIL=19950924T010000Z;BYMONTH=9;BYDAY=-1SU
END:STANDARD
BEGIN:DAYLIGHT
TZNAME:CEST
TZOFFSETFROM:+0100
TZOFFSETTO:+0200
DTSTART:19810329T020000
RRULE:FREQ=YEARLY;BYMONTH=3;BYDAY=-1SU
END:DAYLIGHT
BEGIN:STANDARD
TZNAME:CET
TZOFFSETFROM:+0200
TZOFFSETTO:+0100
DTSTART:19961027T030000
RRULE:FREQ=YEARLY;BYMONTH=10;BYDAY=-1SU
END:STANDARD
END:VTIMEZONE
BEGIN:VEVENT
DTSTAMP:20260419T214356Z
DTSTART;TZID=Europe/Berlin:20241011T200000
DTEND;TZID=Europe/Berlin:20241011T230000
SUMMARY:L5P1 Omega V vs Moutier III (0)
UID:4be66b84-a865-4348-bd64-4c10da418b7c
STATUS:CONFIRMED
LAST-MODIFIED:20241014T074142Z
DESCRIPTION:5ème ligue phase 1\nBegegnungs-Nr: 0\nHeim: Omega V\nGast: Moutier III\nHalle: Péry\nAdresse: Tennisweg 1\, 2504 Biel-Bienne\n
LOCATION:Péry Tennisweg 1\, 2504 Biel-Bienne
CATEGORIES:Saison 2024/25
END:VEVENT
BEGIN:VEVENT
DTSTAMP:20260419T214356Z
DTSTART;TZID=Europe/Berlin:20240920T200000
DTEND;TZID=Europe/Berlin:20240920T230000
SUMMARY:L5P1 Omega V vs Tramelan IV (0)
UID:2916848d-f630-45f8-bd60-798da4f55776
STATUS:CONFIRMED
LAST-MODIFIED:20240924T160800Z
DESCRIPTION:5ème ligue phase 1\nBegegnungs-Nr: 0\nHeim: Omega V\nGast: Tramelan IV\n\nAdresse: Tennisweg 1\, 2504 Biel-Bienne\n
LOCATION:Tennisweg 1\, 2504 Biel-Bienne
CATEGORIES:Saison 2024/25
END:VEVENT
BEGIN:VEVENT
DTSTAMP:20260419T214356Z
DTSTART;TZID=Europe/Berlin:20240830T200000
DTEND;TZID=Europe/Berlin:20240830T230000
SUMMARY:L5P1 Omega V vs Omega IV (0)
UID:441ac160-6fe8-4463-b633-6fccb2429063
STATUS:CONFIRMED
LAST-MODIFIED:20240924T160534Z
DESCRIPTION:5ème ligue phase 1\nBegegnungs-Nr: 0\nHeim: Omega V\nGast: Omega IV\n\nAdresse: Tennisweg 1\, 2504 Biel-Bienne\n
LOCATION:Tennisweg 1\, 2504 Biel-Bienne
CATEGORIES:Saison 2024/25
END:VEVENT
BEGIN:VEVENT
DTSTAMP:20260419T214356Z
DTSTART;TZID=Europe/Berlin:20241115T200000
DTEND;TZID=Europe/Berlin:20241115T230000
SUMMARY:L5P1 Omega V vs Delémont V (0)
UID:c5869c9a-30ec-4a31-b931-39f67e9f1626
STATUS:CONFIRMED
LAST-MODIFIED:20241122T115557Z
DESCRIPTION:5ème ligue phase 1\nBegegnungs-Nr: 0\nHeim: Omega V\nGast: Delémont V\n\nAdresse: Tennisweg 1\, 2504 Biel-Bienne\n
LOCATION:Tennisweg 1\, 2504 Biel-Bienne
CATEGORIES:Saison 2024/25
END:VEVENT
BEGIN:VEVENT
DTSTAMP:20260419T214356Z
DTSTART;TZID=Europe/Berlin:20250131T200000
DTEND;TZID=Europe/Berlin:20250131T230000
SUMMARY:L5P2 Omega V vs Moutier III (0)
UID:9e3460b2-4fa1-4d5d-96ae-cebd69dda8ca
STATUS:CONFIRMED
LAST-MODIFIED:20250201T091911Z
DESCRIPTION:5ème ligue phase 2\nBegegnungs-Nr: 0\nHeim: Omega V\nGast: Moutier III\n\nAdresse: Tennisweg 1\, 2504 Biel-Bienne\n
LOCATION:Tennisweg 1\, 2504 Biel-Bienne
CATEGORIES:Saison 2024/25
END:VEVENT
BEGIN:VEVENT
DTSTAMP:20260419T214356Z
DTSTART;TZID=Europe/Berlin:20250228T200000
DTEND;TZID=Europe/Berlin:20250228T230000
SUMMARY:L5P2 Omega V vs Delémont V (0)
UID:6394dfc1-b2f0-4961-a196-53f9edbec0a8
STATUS:CONFIRMED
LAST-MODIFIED:20250303T110100Z
DESCRIPTION:5ème ligue phase 2\nBegegnungs-Nr: 0\nHeim: Omega V\nGast: Delémont V\n\nAdresse: Tennisweg 1\, 2504 Biel-Bienne\n
LOCATION:Tennisweg 1\, 2504 Biel-Bienne
CATEGORIES:Saison 2024/25
END:VEVENT
BEGIN:VEVENT
DTSTAMP:20260419T214356Z
DTSTART;TZID=Europe/Berlin:20250314T200000
DTEND;TZID=Europe/Berlin:20250314T230000
SUMMARY:L5P2 Omega V vs Centre Portugais (0)
UID:39b60e76-023c-4f29-9178-aec13fadfd69
STATUS:CONFIRMED
LAST-MODIFIED:20250317T071617Z
DESCRIPTION:5ème ligue phase 2\nBegegnungs-Nr: 0\nHeim: Omega V\nGast: Centre Portugais\n\nAdresse: Tennisweg 1\, 2504 Biel-Bienne\n
LOCATION:Tennisweg 1\, 2504 Biel-Bienne
CATEGORIES:Saison 2024/25
END:VEVENT
BEGIN:VEVENT
DTSTAMP:20260419T214356Z
DTSTART;TZID=Europe/Berlin:20250404T200000
DTEND;TZID=Europe/Berlin:20250404T230000
SUMMARY:L5P2 Omega V vs Hauterive II (0)
UID:881395af-6fce-4400-ae81-c5f1a0d0a52f
STATUS:CONFIRMED
LAST-MODIFIED:20250408T130057Z
DESCRIPTION:5ème ligue phase 2\nBegegnungs-Nr: 0\nHeim: Omega V\nGast: Hauterive II\n\nAdresse: Tennisweg 1\, 2504 Biel-Bienne\n
LOCATION:Tennisweg 1\, 2504 Biel-Bienne
CATEGORIES:Saison 2024/25
END:VEVENT
BEGIN:VEVENT
DTSTAMP:20260419T214356Z
DTSTART;TZID=Europe/Berlin:20240927T200000
DTEND;TZID=Europe/Berlin:20240927T230000
SUMMARY:L5P1 Entente Pongiste Neuchâteloise V vs Omega V (0)
UID:f2cca64c-8daf-46e0-844a-eee18f1dea5e
STATUS:CONFIRMED
LAST-MODIFIED:20241003T090249Z
DESCRIPTION:5ème ligue phase 1\nBegegnungs-Nr: 0\nHeim: Entente Pongiste Neuchâteloise V\nGast: Omega V\n\nAdresse: Allée du 700e\, 2525 Le Landeron\n
LOCATION:Allée du 700e\, 2525 Le Landeron
CATEGORIES:Saison 2024/25
END:VEVENT
BEGIN:VEVENT
DTSTAMP:20260419T214356Z
DTSTART;TZID=Europe/Berlin:20240906T200000
DTEND;TZID=Europe/Berlin:20240906T230000
SUMMARY:L5P1 Cortaillod IV vs Omega V (0)
UID:f3d09570-970a-41e9-be36-b8431a5f3ec1
STATUS:CONFIRMED
LAST-MODIFIED:20240924T160622Z
DESCRIPTION:5ème ligue phase 1\nBegegnungs-Nr: 0\nHeim: Cortaillod IV\nGast: Omega V\n\nAdresse: Coteaux 1\, 2016 Cortaillod\n
LOCATION:Coteaux 1\, 2016 Cortaillod
CATEGORIES:Saison 2024/25
END:VEVENT
BEGIN:VEVENT
DTSTAMP:20260419T214356Z
DTSTART;TZID=Europe/Berlin:20241030T193000
DTEND;TZID=Europe/Berlin:20241030T223000
SUMMARY:L5P1 Hauterive II vs Omega V (0)
UID:31140aca-d8ed-4cd7-be19-9200460c9504
STATUS:CONFIRMED
LAST-MODIFIED:20241104T143821Z
DESCRIPTION:5ème ligue phase 1\nBegegnungs-Nr: 0\nHeim: Hauterive II\nGast: Omega V\n\nAdresse: Rue des Longschamps 10\, 2068 Hauterive NE\n
LOCATION:Rue des Longschamps 10\, 2068 Hauterive NE
CATEGORIES:Saison 2024/25
END:VEVENT
BEGIN:VEVENT
DTSTAMP:20260419T214356Z
DTSTART;TZID=Europe/Berlin:20241108T193000
DTEND;TZID=Europe/Berlin:20241108T223000
SUMMARY:L5P1 Val-de-Ruz V vs Omega V (0)
UID:0f897f9b-7ab3-4df5-888a-417fbc23aa63
STATUS:CONFIRMED
LAST-MODIFIED:20241112T192559Z
DESCRIPTION:5ème ligue phase 1\nBegegnungs-Nr: 0\nHeim: Val-de-Ruz V\nGast: Omega V\n\nAdresse: Rue de Chasseral 3\, 2053 Cernier\n
LOCATION:Rue de Chasseral 3\, 2053 Cernier
CATEGORIES:Saison 2024/25
END:VEVENT
BEGIN:VEVENT
DTSTAMP:20260419T214356Z
DTSTART;TZID=Europe/Berlin:20250115T200000
DTEND;TZID=Europe/Berlin:20250115T230000
SUMMARY:L5P2 Omega IV vs Omega V (0)
UID:dd9b31c6-e9bc-4bfa-ba56-488ea7af9e01
STATUS:CONFIRMED
LAST-MODIFIED:20250121T142702Z
DESCRIPTION:5ème ligue phase 2\nBegegnungs-Nr: 0\nHeim: Omega IV\nGast: Omega V\n\nAdresse: Tennisweg 1\, 2504 Biel-Bienne\n
LOCATION:Tennisweg 1\, 2504 Biel-Bienne
CATEGORIES:Saison 2024/25
END:VEVENT
BEGIN:VEVENT
DTSTAMP:20260419T214356Z
DTSTART;TZID=Europe/Berlin:20250205T200000
DTEND;TZID=Europe/Berlin:20250205T230000
SUMMARY:L5P2 Tramelan IV vs Omega V (0)
UID:4d29a924-bcb1-4b12-94f3-f4ea4feab56e
STATUS:CONFIRMED
LAST-MODIFIED:20250210T175110Z
DESCRIPTION:5ème ligue phase 2\nBegegnungs-Nr: 0\nHeim: Tramelan IV\nGast: Omega V\n\nAdresse: Rue du Collège 13\, 2720 Tramelan\n
LOCATION:Rue du Collège 13\, 2720 Tramelan
CATEGORIES:Saison 2024/25
END:VEVENT
BEGIN:VEVENT
DTSTAMP:20260419T214356Z
DTSTART;TZID=Europe/Berlin:20250328T193000
DTEND;TZID=Europe/Berlin:20250328T223000
SUMMARY:L5P2 La Chaux-de-Fonds IV vs Omega V (0)
UID:12563654-c7ef-4b5d-8f03-b7fea4ac611f
STATUS:CONFIRMED
LAST-MODIFIED:20250404T051024Z
DESCRIPTION:5ème ligue phase 2\nBegegnungs-Nr: 0\nHeim: La Chaux-de-Fonds IV\nGast: Omega V\n\nAdresse: Rue du Docteur-Kern 14\, 2300 La Chaux-de-Fonds\n
LOCATION:Rue du Docteur-Kern 14\, 2300 La Chaux-de-Fonds
CATEGORIES:Saison 2024/25
END:VEVENT
BEGIN:VEVENT
DTSTAMP:20260419T214356Z
DTSTART;TZID=Europe/Berlin:20250424T201500
DTEND;TZID=Europe/Berlin:20250424T231500
SUMMARY:L5P2 Porrentruy II vs Omega V (0)
UID:89e9f1d3-ef53-4231-b152-870e3ca88b4d
STATUS:CONFIRMED
LAST-MODIFIED:20250501T051309Z
DESCRIPTION:5ème ligue phase 2\nBegegnungs-Nr: 0\nHeim: Porrentruy II\nGast: Omega V\n\nAdresse: Rue du Banné 14\, 2900 Porrentruy\n
LOCATION:Rue du Banné 14\, 2900 Porrentruy
CATEGORIES:Saison 2024/25
END:VEVENT
END:VCALENDAR
