BEGIN:VCALENDAR
PRODID:-//nuDatenautomaten//framework iCal4j //DE
VERSION:2.0
CALSCALE:GREGORIAN
BEGIN:VTIMEZONE
TZID:Europe/Berlin
LAST-MODIFIED:20260306T231828Z
TZURL:https://www.tzurl.org/zoneinfo/Europe/Berlin
X-LIC-LOCATION:Europe/Berlin
X-PROLEPTIC-TZNAME:LMT
BEGIN:STANDARD
TZNAME:CET
TZOFFSETFROM:+005328
TZOFFSETTO:+0100
DTSTART:18930401T000000
END:STANDARD
BEGIN:DAYLIGHT
TZNAME:CEST
TZOFFSETFROM:+0100
TZOFFSETTO:+0200
DTSTART:19160430T230000
RDATE:19400401T020000
RDATE:19430329T020000
RDATE:19460414T020000
RDATE:19470406T030000
RDATE:19480418T020000
RDATE:19490410T020000
RDATE:19800406T020000
END:DAYLIGHT
BEGIN:STANDARD
TZNAME:CET
TZOFFSETFROM:+0200
TZOFFSETTO:+0100
DTSTART:19161001T010000
RDATE:19421102T030000
RDATE:19431004T030000
RDATE:19441002T030000
RDATE:19451118T030000
RDATE:19461007T030000
END:STANDARD
BEGIN:DAYLIGHT
TZNAME:CEST
TZOFFSETFROM:+0100
TZOFFSETTO:+0200
DTSTART:19170416T020000
RRULE:FREQ=YEARLY;UNTIL=19180415T010000Z;BYMONTH=4;BYDAY=3MO
END:DAYLIGHT
BEGIN:STANDARD
TZNAME:CET
TZOFFSETFROM:+0200
TZOFFSETTO:+0100
DTSTART:19170917T030000
RRULE:FREQ=YEARLY;UNTIL=19180916T010000Z;BYMONTH=9;BYDAY=3MO
END:STANDARD
BEGIN:DAYLIGHT
TZNAME:CEST
TZOFFSETFROM:+0100
TZOFFSETTO:+0200
DTSTART:19440403T020000
RRULE:FREQ=YEARLY;UNTIL=19450402T010000Z;BYMONTH=4;BYDAY=1MO
END:DAYLIGHT
BEGIN:DAYLIGHT
TZNAME:CEMT
TZOFFSETFROM:+0200
TZOFFSETTO:+0300
DTSTART:19450524T020000
RDATE:19470511T030000
END:DAYLIGHT
BEGIN:DAYLIGHT
TZNAME:CEST
TZOFFSETFROM:+0300
TZOFFSETTO:+0200
DTSTART:19450924T030000
RDATE:19470629T030000
END:DAYLIGHT
BEGIN:STANDARD
TZNAME:CET
TZOFFSETFROM:+0100
TZOFFSETTO:+0100
DTSTART:19460101T000000
RDATE:19800101T000000
END:STANDARD
BEGIN:STANDARD
TZNAME:CET
TZOFFSETFROM:+0200
TZOFFSETTO:+0100
DTSTART:19471005T030000
RRULE:FREQ=YEARLY;UNTIL=19491002T010000Z;BYMONTH=10;BYDAY=1SU
END:STANDARD
BEGIN:STANDARD
TZNAME:CET
TZOFFSETFROM:+0200
TZOFFSETTO:+0100
DTSTART:19800928T030000
RRULE:FREQ=YEARLY;UNTIL=19950924T010000Z;BYMONTH=9;BYDAY=-1SU
END:STANDARD
BEGIN:DAYLIGHT
TZNAME:CEST
TZOFFSETFROM:+0100
TZOFFSETTO:+0200
DTSTART:19810329T020000
RRULE:FREQ=YEARLY;BYMONTH=3;BYDAY=-1SU
END:DAYLIGHT
BEGIN:STANDARD
TZNAME:CET
TZOFFSETFROM:+0200
TZOFFSETTO:+0100
DTSTART:19961027T030000
RRULE:FREQ=YEARLY;BYMONTH=10;BYDAY=-1SU
END:STANDARD
END:VTIMEZONE
BEGIN:VEVENT
DTSTAMP:20260425T004241Z
DTSTART;TZID=Europe/Berlin:20241203T200000
DTEND;TZID=Europe/Berlin:20241203T230000
SUMMARY:Ligue 2 Gr.1\, Ph.A ZZ-Lancy V vs Onex (29)
UID:6048b734-236a-4b37-8a72-4f4c1aea27f7
STATUS:CONFIRMED
LAST-MODIFIED:20241204T084351Z
DESCRIPTION:2ème ligue Homme Gr.1 Phase A\nBegegnungs-Nr: 29\nHeim: ZZ-Lancy V\nGast: Onex\n
LOCATION:
CATEGORIES:Saison 2024/25
END:VEVENT
BEGIN:VEVENT
DTSTAMP:20260425T004241Z
DTSTART;TZID=Europe/Berlin:20241119T200000
DTEND;TZID=Europe/Berlin:20241119T230000
SUMMARY:Ligue 2 Gr.1\, Ph.A ZZ-Lancy V vs Silver Star III (24)
UID:bae9d7b7-f9b1-41be-b938-e59ed8d87d89
STATUS:CONFIRMED
LAST-MODIFIED:20241120T081324Z
DESCRIPTION:2ème ligue Homme Gr.1 Phase A\nBegegnungs-Nr: 24\nHeim: ZZ-Lancy V\nGast: Silver Star III\n
LOCATION:
CATEGORIES:Saison 2024/25
END:VEVENT
BEGIN:VEVENT
DTSTAMP:20260425T004241Z
DTSTART;TZID=Europe/Berlin:20241029T200000
DTEND;TZID=Europe/Berlin:20241029T230000
SUMMARY:Ligue 2 Gr.1\, Ph.A ZZ-Lancy V vs Vernier II (16)
UID:c4fef534-0507-4d72-b098-d176d0652f47
STATUS:CONFIRMED
LAST-MODIFIED:20241030T112358Z
DESCRIPTION:2ème ligue Homme Gr.1 Phase A\nBegegnungs-Nr: 16\nHeim: ZZ-Lancy V\nGast: Vernier II\n
LOCATION:
CATEGORIES:Saison 2024/25
END:VEVENT
BEGIN:VEVENT
DTSTAMP:20260425T004241Z
DTSTART;TZID=Europe/Berlin:20241008T200000
DTEND;TZID=Europe/Berlin:20241008T230000
SUMMARY:Ligue 2 Gr.1\, Ph.A ZZ-Lancy V vs Châtelaine IV (11)
UID:4b655d7a-0737-48ed-ad0b-6e3a49e11c9e
STATUS:CONFIRMED
LAST-MODIFIED:20241009T073933Z
DESCRIPTION:2ème ligue Homme Gr.1 Phase A\nBegegnungs-Nr: 11\nHeim: ZZ-Lancy V\nGast: Châtelaine IV\n
LOCATION:
CATEGORIES:Saison 2024/25
END:VEVENT
BEGIN:VEVENT
DTSTAMP:20260425T004241Z
DTSTART;TZID=Europe/Berlin:20240917T194500
DTEND;TZID=Europe/Berlin:20240917T224500
SUMMARY:Ligue 2 Gr.1\, Ph.A ZZ-Lancy V vs Bernex II (5)
UID:4c68ded9-4867-4505-aa99-72bd08f59309
STATUS:CONFIRMED
LAST-MODIFIED:20240918T065735Z
DESCRIPTION:2ème ligue Homme Gr.1 Phase A\nBegegnungs-Nr: 5\nHeim: ZZ-Lancy V\nGast: Bernex II\n
LOCATION:
CATEGORIES:Saison 2024/25
END:VEVENT
BEGIN:VEVENT
DTSTAMP:20260425T004241Z
DTSTART;TZID=Europe/Berlin:20250521T194500
DTEND;TZID=Europe/Berlin:20250521T224500
SUMMARY:Ligue 3 Titre demi ZZ-Lancy V vs Carouge IV (1)
UID:cdb7b8d1-946b-4e70-9a26-fccd0738dc0c
STATUS:CONFIRMED
LAST-MODIFIED:20250522T070403Z
DESCRIPTION:3ème ligue Hommes Titre demi\nBegegnungs-Nr: 1\nHeim: ZZ-Lancy V\nGast: Carouge IV\n
LOCATION:
CATEGORIES:Saison 2024/25
END:VEVENT
BEGIN:VEVENT
DTSTAMP:20260425T004241Z
DTSTART;TZID=Europe/Berlin:20250409T201500
DTEND;TZID=Europe/Berlin:20250409T231500
SUMMARY:Ligue 3 Gr.2 Ph.B ZZ-Lancy V vs UGS-Chênois VIII (25)
UID:9806f538-d0ed-410b-8a4a-ff9f0eba6984
STATUS:CONFIRMED
LAST-MODIFIED:20250410T062247Z
DESCRIPTION:3ème ligue Hommes Gr.2 Phase B\nBegegnungs-Nr: 25\nHeim: ZZ-Lancy V\nGast: UGS-Chênois VIII\n
LOCATION:
CATEGORIES:Saison 2024/25
END:VEVENT
BEGIN:VEVENT
DTSTAMP:20260425T004241Z
DTSTART;TZID=Europe/Berlin:20250319T201500
DTEND;TZID=Europe/Berlin:20250319T231500
SUMMARY:Ligue 3 Gr.2 Ph.B ZZ-Lancy V vs Bernex V (21)
UID:21adab5f-7f01-4017-8c36-0df43d8d5e53
STATUS:CONFIRMED
LAST-MODIFIED:20250320T084942Z
DESCRIPTION:3ème ligue Hommes Gr.2 Phase B\nBegegnungs-Nr: 21\nHeim: ZZ-Lancy V\nGast: Bernex V\n
LOCATION:
CATEGORIES:Saison 2024/25
END:VEVENT
BEGIN:VEVENT
DTSTAMP:20260425T004241Z
DTSTART;TZID=Europe/Berlin:20250219T201500
DTEND;TZID=Europe/Berlin:20250219T231500
SUMMARY:Ligue 3 Gr.2 Ph.B ZZ-Lancy V vs Silver Star V (13)
UID:217fb211-4622-48bd-85e6-f600aed54a88
STATUS:CONFIRMED
LAST-MODIFIED:20250220T090126Z
DESCRIPTION:3ème ligue Hommes Gr.2 Phase B\nBegegnungs-Nr: 13\nHeim: ZZ-Lancy V\nGast: Silver Star V\n
LOCATION:
CATEGORIES:Saison 2024/25
END:VEVENT
BEGIN:VEVENT
DTSTAMP:20260425T004241Z
DTSTART;TZID=Europe/Berlin:20250115T201500
DTEND;TZID=Europe/Berlin:20250115T231500
SUMMARY:Ligue 3 Gr.2 Ph.B ZZ-Lancy V vs Versoix III (1)
UID:318ad6b4-b4bc-40f5-9a79-2bc44789c0dc
STATUS:CONFIRMED
LAST-MODIFIED:20250116T090223Z
DESCRIPTION:3ème ligue Hommes Gr.2 Phase B\nBegegnungs-Nr: 1\nHeim: ZZ-Lancy V\nGast: Versoix III\n
LOCATION:
CATEGORIES:Saison 2024/25
END:VEVENT
BEGIN:VEVENT
DTSTAMP:20260425T004241Z
DTSTART;TZID=Europe/Berlin:20250129T201500
DTEND;TZID=Europe/Berlin:20250129T231500
SUMMARY:Ligue 3 Gr.2 Ph.B ZZ-Lancy V vs Mandement V (7)
UID:546716eb-8263-4fa4-844b-808c1e7b365d
STATUS:CONFIRMED
LAST-MODIFIED:20250130T091539Z
DESCRIPTION:3ème ligue Hommes Gr.2 Phase B\nBegegnungs-Nr: 7\nHeim: ZZ-Lancy V\nGast: Mandement V\n
LOCATION:
CATEGORIES:Saison 2024/25
END:VEVENT
BEGIN:VEVENT
DTSTAMP:20260425T004241Z
DTSTART;TZID=Europe/Berlin:20241126T194500
DTEND;TZID=Europe/Berlin:20241126T224500
SUMMARY:Ligue 2 Gr.1\, Ph.A Châtelaine IV vs ZZ-Lancy V (26)
UID:f643523f-7a44-47c7-8b7f-f1674ef83730
STATUS:CONFIRMED
LAST-MODIFIED:20241127T081655Z
DESCRIPTION:2ème ligue Homme Gr.1 Phase A\nBegegnungs-Nr: 26\nHeim: Châtelaine IV\nGast: ZZ-Lancy V\n
LOCATION:
CATEGORIES:Saison 2024/25
END:VEVENT
BEGIN:VEVENT
DTSTAMP:20260425T004241Z
DTSTART;TZID=Europe/Berlin:20241112T194500
DTEND;TZID=Europe/Berlin:20241112T224500
SUMMARY:Ligue 2 Gr.1\, Ph.A Bernex II vs ZZ-Lancy V (20)
UID:1f7309d1-68af-4375-98a5-04bcfd3895e0
STATUS:CONFIRMED
LAST-MODIFIED:20241113T103441Z
DESCRIPTION:2ème ligue Homme Gr.1 Phase A\nBegegnungs-Nr: 20\nHeim: Bernex II\nGast: ZZ-Lancy V\n
LOCATION:
CATEGORIES:Saison 2024/25
END:VEVENT
BEGIN:VEVENT
DTSTAMP:20260425T004241Z
DTSTART;TZID=Europe/Berlin:20241015T200000
DTEND;TZID=Europe/Berlin:20241015T230000
SUMMARY:Ligue 2 Gr.1\, Ph.A Onex vs ZZ-Lancy V (14)
UID:10e38637-7b55-4e20-a230-e7d79750fd9f
STATUS:CONFIRMED
LAST-MODIFIED:20241016T065514Z
DESCRIPTION:2ème ligue Homme Gr.1 Phase A\nBegegnungs-Nr: 14\nHeim: Onex\nGast: ZZ-Lancy V\n
LOCATION:
CATEGORIES:Saison 2024/25
END:VEVENT
BEGIN:VEVENT
DTSTAMP:20260425T004241Z
DTSTART;TZID=Europe/Berlin:20240910T194500
DTEND;TZID=Europe/Berlin:20240910T224500
SUMMARY:Ligue 2 Gr.1\, Ph.A Vernier II vs ZZ-Lancy V (1)
UID:7676b477-e0d0-4ec5-b62c-36016409421b
STATUS:CONFIRMED
LAST-MODIFIED:20240911T103957Z
DESCRIPTION:2ème ligue Homme Gr.1 Phase A\nBegegnungs-Nr: 1\nHeim: Vernier II\nGast: ZZ-Lancy V\n
LOCATION:
CATEGORIES:Saison 2024/25
END:VEVENT
BEGIN:VEVENT
DTSTAMP:20260425T004241Z
DTSTART;TZID=Europe/Berlin:20240924T194500
DTEND;TZID=Europe/Berlin:20240924T224500
SUMMARY:Ligue 2 Gr.1\, Ph.A Silver Star III vs ZZ-Lancy V (9)
UID:10b48763-4492-4503-8e81-ff289ca303e3
STATUS:CONFIRMED
LAST-MODIFIED:20240925T060644Z
DESCRIPTION:2ème ligue Homme Gr.1 Phase A\nBegegnungs-Nr: 9\nHeim: Silver Star III\nGast: ZZ-Lancy V\n
LOCATION:
CATEGORIES:Saison 2024/25
END:VEVENT
BEGIN:VEVENT
DTSTAMP:20260425T004241Z
DTSTART;TZID=Europe/Berlin:20250528T194500
DTEND;TZID=Europe/Berlin:20250528T224500
SUMMARY:Ligue 3 Titre finale Mandement IV vs ZZ-Lancy V (1)
UID:079e4df1-dd10-4820-b475-1117344353a1
STATUS:CONFIRMED
LAST-MODIFIED:20250529T204238Z
DESCRIPTION:3ème ligue Hommes Titre finale\nBegegnungs-Nr: 1\nHeim: Mandement IV\nGast: ZZ-Lancy V\n
LOCATION:
CATEGORIES:Saison 2024/25
END:VEVENT
BEGIN:VEVENT
DTSTAMP:20260425T004241Z
DTSTART;TZID=Europe/Berlin:20250514T200000
DTEND;TZID=Europe/Berlin:20250514T230000
SUMMARY:Ligue 3 Titre quart Bernex III vs ZZ-Lancy V (2)
UID:460d0b51-0956-4688-b513-15a167c11fa4
STATUS:CONFIRMED
LAST-MODIFIED:20250515T164329Z
DESCRIPTION:3ème ligue Hommes Titre quart\nBegegnungs-Nr: 2\nHeim: Bernex III\nGast: ZZ-Lancy V\n
LOCATION:
CATEGORIES:Saison 2024/25
END:VEVENT
BEGIN:VEVENT
DTSTAMP:20260425T004241Z
DTSTART;TZID=Europe/Berlin:20250416T194500
DTEND;TZID=Europe/Berlin:20250416T224500
SUMMARY:Ligue 3 Gr.2 Ph.B Silver Star V vs ZZ-Lancy V (28)
UID:e619fef7-123b-4ffe-ad6a-5f73cc272ce4
STATUS:CONFIRMED
LAST-MODIFIED:20250417T093543Z
DESCRIPTION:3ème ligue Hommes Gr.2 Phase B\nBegegnungs-Nr: 28\nHeim: Silver Star V\nGast: ZZ-Lancy V\n
LOCATION:
CATEGORIES:Saison 2024/25
END:VEVENT
BEGIN:VEVENT
DTSTAMP:20260425T004241Z
DTSTART;TZID=Europe/Berlin:20250402T194500
DTEND;TZID=Europe/Berlin:20250402T224500
SUMMARY:Ligue 3 Gr.2 Ph.B Mandement V vs ZZ-Lancy V (22)
UID:4ff7f8df-bf56-4e14-958b-a037d663bfa1
STATUS:CONFIRMED
LAST-MODIFIED:20250404T063831Z
DESCRIPTION:3ème ligue Hommes Gr.2 Phase B\nBegegnungs-Nr: 22\nHeim: Mandement V\nGast: ZZ-Lancy V\n\nAdresse: Route de la Gare de Satigny 27A\, 1242 Satigny\n
LOCATION:Route de la Gare de Satigny 27A\, 1242 Satigny
CATEGORIES:Saison 2024/25
END:VEVENT
BEGIN:VEVENT
DTSTAMP:20260425T004241Z
DTSTART;TZID=Europe/Berlin:20250312T194500
DTEND;TZID=Europe/Berlin:20250312T224500
SUMMARY:Ligue 3 Gr.2 Ph.B Versoix III vs ZZ-Lancy V (16)
UID:7075e223-f4bb-4eb7-a950-4a1bbc14bb25
STATUS:CONFIRMED
LAST-MODIFIED:20250313T110036Z
DESCRIPTION:3ème ligue Hommes Gr.2 Phase B\nBegegnungs-Nr: 16\nHeim: Versoix III\nGast: ZZ-Lancy V\n
LOCATION:
CATEGORIES:Saison 2024/25
END:VEVENT
BEGIN:VEVENT
DTSTAMP:20260425T004241Z
DTSTART;TZID=Europe/Berlin:20250212T194500
DTEND;TZID=Europe/Berlin:20250212T224500
SUMMARY:Ligue 3 Gr.2 Ph.B UGS-Chênois VIII vs ZZ-Lancy V (10)
UID:a553050e-d228-498b-aa58-00b5fceb7452
STATUS:CONFIRMED
LAST-MODIFIED:20250217T154212Z
DESCRIPTION:3ème ligue Hommes Gr.2 Phase B\nBegegnungs-Nr: 10\nHeim: UGS-Chênois VIII\nGast: ZZ-Lancy V\n
LOCATION:
CATEGORIES:Saison 2024/25
END:VEVENT
BEGIN:VEVENT
DTSTAMP:20260425T004241Z
DTSTART;TZID=Europe/Berlin:20250122T194500
DTEND;TZID=Europe/Berlin:20250122T224500
SUMMARY:Ligue 3 Gr.2 Ph.B Bernex V vs ZZ-Lancy V (6)
UID:c673eadb-75da-40eb-ad2c-51f221f6f741
STATUS:CONFIRMED
LAST-MODIFIED:20250124T122258Z
DESCRIPTION:3ème ligue Hommes Gr.2 Phase B\nBegegnungs-Nr: 6\nHeim: Bernex V\nGast: ZZ-Lancy V\n
LOCATION:
CATEGORIES:Saison 2024/25
END:VEVENT
END:VCALENDAR
