BEGIN:VCALENDAR
PRODID:-//nuDatenautomaten//framework iCal4j //DE
VERSION:2.0
CALSCALE:GREGORIAN
BEGIN:VTIMEZONE
TZID:Europe/Berlin
LAST-MODIFIED:20260306T231828Z
TZURL:https://www.tzurl.org/zoneinfo/Europe/Berlin
X-LIC-LOCATION:Europe/Berlin
X-PROLEPTIC-TZNAME:LMT
BEGIN:STANDARD
TZNAME:CET
TZOFFSETFROM:+005328
TZOFFSETTO:+0100
DTSTART:18930401T000000
END:STANDARD
BEGIN:DAYLIGHT
TZNAME:CEST
TZOFFSETFROM:+0100
TZOFFSETTO:+0200
DTSTART:19160430T230000
RDATE:19400401T020000
RDATE:19430329T020000
RDATE:19460414T020000
RDATE:19470406T030000
RDATE:19480418T020000
RDATE:19490410T020000
RDATE:19800406T020000
END:DAYLIGHT
BEGIN:STANDARD
TZNAME:CET
TZOFFSETFROM:+0200
TZOFFSETTO:+0100
DTSTART:19161001T010000
RDATE:19421102T030000
RDATE:19431004T030000
RDATE:19441002T030000
RDATE:19451118T030000
RDATE:19461007T030000
END:STANDARD
BEGIN:DAYLIGHT
TZNAME:CEST
TZOFFSETFROM:+0100
TZOFFSETTO:+0200
DTSTART:19170416T020000
RRULE:FREQ=YEARLY;UNTIL=19180415T010000Z;BYMONTH=4;BYDAY=3MO
END:DAYLIGHT
BEGIN:STANDARD
TZNAME:CET
TZOFFSETFROM:+0200
TZOFFSETTO:+0100
DTSTART:19170917T030000
RRULE:FREQ=YEARLY;UNTIL=19180916T010000Z;BYMONTH=9;BYDAY=3MO
END:STANDARD
BEGIN:DAYLIGHT
TZNAME:CEST
TZOFFSETFROM:+0100
TZOFFSETTO:+0200
DTSTART:19440403T020000
RRULE:FREQ=YEARLY;UNTIL=19450402T010000Z;BYMONTH=4;BYDAY=1MO
END:DAYLIGHT
BEGIN:DAYLIGHT
TZNAME:CEMT
TZOFFSETFROM:+0200
TZOFFSETTO:+0300
DTSTART:19450524T020000
RDATE:19470511T030000
END:DAYLIGHT
BEGIN:DAYLIGHT
TZNAME:CEST
TZOFFSETFROM:+0300
TZOFFSETTO:+0200
DTSTART:19450924T030000
RDATE:19470629T030000
END:DAYLIGHT
BEGIN:STANDARD
TZNAME:CET
TZOFFSETFROM:+0100
TZOFFSETTO:+0100
DTSTART:19460101T000000
RDATE:19800101T000000
END:STANDARD
BEGIN:STANDARD
TZNAME:CET
TZOFFSETFROM:+0200
TZOFFSETTO:+0100
DTSTART:19471005T030000
RRULE:FREQ=YEARLY;UNTIL=19491002T010000Z;BYMONTH=10;BYDAY=1SU
END:STANDARD
BEGIN:STANDARD
TZNAME:CET
TZOFFSETFROM:+0200
TZOFFSETTO:+0100
DTSTART:19800928T030000
RRULE:FREQ=YEARLY;UNTIL=19950924T010000Z;BYMONTH=9;BYDAY=-1SU
END:STANDARD
BEGIN:DAYLIGHT
TZNAME:CEST
TZOFFSETFROM:+0100
TZOFFSETTO:+0200
DTSTART:19810329T020000
RRULE:FREQ=YEARLY;BYMONTH=3;BYDAY=-1SU
END:DAYLIGHT
BEGIN:STANDARD
TZNAME:CET
TZOFFSETFROM:+0200
TZOFFSETTO:+0100
DTSTART:19961027T030000
RRULE:FREQ=YEARLY;BYMONTH=10;BYDAY=-1SU
END:STANDARD
END:VTIMEZONE
BEGIN:VEVENT
DTSTAMP:20260425T022333Z
DTSTART;TZID=Europe/Berlin:20241211T200000
DTEND;TZID=Europe/Berlin:20241211T230000
SUMMARY:HE 2. Liga Gr. 3 BW-Wollishofen vs Zürich-Affoltern III (0)
UID:766200cd-bb0b-467d-bdf1-1af39d267f49
STATUS:CONFIRMED
LAST-MODIFIED:20241212T091717Z
DESCRIPTION:2. Liga Herren Gruppe 3\nBegegnungs-Nr: 0\nHeim: BW-Wollishofen\nGast: Zürich-Affoltern III\n\nAdresse: Kilchbergstr. 28\, 8038 Zürich\n
LOCATION:Kilchbergstr. 28\, 8038 Zürich
CATEGORIES:Saison 2024/25
END:VEVENT
BEGIN:VEVENT
DTSTAMP:20260425T022333Z
DTSTART;TZID=Europe/Berlin:20241030T200000
DTEND;TZID=Europe/Berlin:20241030T230000
SUMMARY:HE 2. Liga Gr. 3 BW-Wollishofen vs Horgen II (0)
UID:e5652dab-5775-4aae-a5af-816d1d41fd11
STATUS:CONFIRMED
LAST-MODIFIED:20241104T084801Z
DESCRIPTION:2. Liga Herren Gruppe 3\nBegegnungs-Nr: 0\nHeim: BW-Wollishofen\nGast: Horgen II\n\nAdresse: Kilchbergstr. 28\, 8038 Zürich\n
LOCATION:Kilchbergstr. 28\, 8038 Zürich
CATEGORIES:Saison 2024/25
END:VEVENT
BEGIN:VEVENT
DTSTAMP:20260425T022333Z
DTSTART;TZID=Europe/Berlin:20240918T200000
DTEND;TZID=Europe/Berlin:20240918T230000
SUMMARY:HE 2. Liga Gr. 3 BW-Wollishofen vs Pinguin Zürich (0)
UID:0a3bd50c-dd52-45d3-b8ef-3102802e5a7a
STATUS:CONFIRMED
LAST-MODIFIED:20240923T195107Z
DESCRIPTION:2. Liga Herren Gruppe 3\nBegegnungs-Nr: 0\nHeim: BW-Wollishofen\nGast: Pinguin Zürich\n\nAdresse: Kilchbergstr. 28\, 8038 Zürich\n
LOCATION:Kilchbergstr. 28\, 8038 Zürich
CATEGORIES:Saison 2024/25
END:VEVENT
BEGIN:VEVENT
DTSTAMP:20260425T022333Z
DTSTART;TZID=Europe/Berlin:20240828T200000
DTEND;TZID=Europe/Berlin:20240828T230000
SUMMARY:HE 2. Liga Gr. 3 BW-Wollishofen vs Young Stars ZH IV (0)
UID:e4abb95f-3aea-4d37-917c-e5cfabd61cdb
STATUS:CONFIRMED
LAST-MODIFIED:20240902T121323Z
DESCRIPTION:2. Liga Herren Gruppe 3\nBegegnungs-Nr: 0\nHeim: BW-Wollishofen\nGast: Young Stars ZH IV\n\nAdresse: Kilchbergstr. 28\, 8038 Zürich\n
LOCATION:Kilchbergstr. 28\, 8038 Zürich
CATEGORIES:Saison 2024/25
END:VEVENT
BEGIN:VEVENT
DTSTAMP:20260425T022333Z
DTSTART;TZID=Europe/Berlin:20250312T200000
DTEND;TZID=Europe/Berlin:20250312T230000
SUMMARY:HE 2. Liga Gr. 3 BW-Wollishofen vs Triesen (0)
UID:7466e511-90f5-4ca2-bde2-9f73703f7626
STATUS:CONFIRMED
LAST-MODIFIED:20250313T100744Z
DESCRIPTION:2. Liga Herren Gruppe 3\nBegegnungs-Nr: 0\nHeim: BW-Wollishofen\nGast: Triesen\n\nAdresse: Kilchbergstr. 28\, 8038 Zürich\n
LOCATION:Kilchbergstr. 28\, 8038 Zürich
CATEGORIES:Saison 2024/25
END:VEVENT
BEGIN:VEVENT
DTSTAMP:20260425T022333Z
DTSTART;TZID=Europe/Berlin:20250205T200000
DTEND;TZID=Europe/Berlin:20250205T230000
SUMMARY:HE 2. Liga Gr. 3 BW-Wollishofen vs Wädenswil II (0)
UID:fe17cf9a-50ee-4ea7-b853-1b116d96853d
STATUS:CONFIRMED
LAST-MODIFIED:20250206T140157Z
DESCRIPTION:2. Liga Herren Gruppe 3\nBegegnungs-Nr: 0\nHeim: BW-Wollishofen\nGast: Wädenswil II\n\nAdresse: Kilchbergstr. 28\, 8038 Zürich\n
LOCATION:Kilchbergstr. 28\, 8038 Zürich
CATEGORIES:Saison 2024/25
END:VEVENT
BEGIN:VEVENT
DTSTAMP:20260425T022333Z
DTSTART;TZID=Europe/Berlin:20250122T200000
DTEND;TZID=Europe/Berlin:20250122T230000
SUMMARY:HE 2. Liga Gr. 3 BW-Wollishofen vs Wetzikon IV (0)
UID:6768ea11-f482-400f-96fa-70c25f411c9e
STATUS:CONFIRMED
LAST-MODIFIED:20250123T143005Z
DESCRIPTION:2. Liga Herren Gruppe 3\nBegegnungs-Nr: 0\nHeim: BW-Wollishofen\nGast: Wetzikon IV\n\nAdresse: Kilchbergstr. 28\, 8038 Zürich\n
LOCATION:Kilchbergstr. 28\, 8038 Zürich
CATEGORIES:Saison 2024/25
END:VEVENT
BEGIN:VEVENT
DTSTAMP:20260425T022333Z
DTSTART;TZID=Europe/Berlin:20250303T200000
DTEND;TZID=Europe/Berlin:20250303T230000
SUMMARY:HE 2. Liga Gr. 3 Horgen II vs BW-Wollishofen (0)
UID:ab689fa9-f202-407e-a0cf-bbd263ace15e
STATUS:CONFIRMED
LAST-MODIFIED:20250306T142049Z
DESCRIPTION:2. Liga Herren Gruppe 3\nBegegnungs-Nr: 0\nHeim: Horgen II\nGast: BW-Wollishofen\n\nAdresse: Mauremoosstrasse 1\, 8815 Horgenberg \n
LOCATION:Mauremoosstrasse 1\, 8815 Horgenberg 
CATEGORIES:Saison 2024/25
END:VEVENT
BEGIN:VEVENT
DTSTAMP:20260425T022333Z
DTSTART;TZID=Europe/Berlin:20250328T201500
DTEND;TZID=Europe/Berlin:20250328T231500
SUMMARY:HE 2. Liga Gr. 3 Zürich-Affoltern III vs BW-Wollishofen (0)
UID:2d62a54c-ce0a-4611-a4a8-c8af464d574e
STATUS:CONFIRMED
LAST-MODIFIED:20250402T095831Z
DESCRIPTION:2. Liga Herren Gruppe 3\nBegegnungs-Nr: 0\nHeim: Zürich-Affoltern III\nGast: BW-Wollishofen\n
LOCATION:
CATEGORIES:Saison 2024/25
END:VEVENT
BEGIN:VEVENT
DTSTAMP:20260425T022333Z
DTSTART;TZID=Europe/Berlin:20241108T194500
DTEND;TZID=Europe/Berlin:20241108T224500
SUMMARY:HE 2. Liga Gr. 3 Triesen vs BW-Wollishofen (0)
UID:ae3f4c58-bf2b-42a1-b497-eb6055f48cff
STATUS:CONFIRMED
LAST-MODIFIED:20241114T070221Z
DESCRIPTION:2. Liga Herren Gruppe 3\nBegegnungs-Nr: 0\nHeim: Triesen\nGast: BW-Wollishofen\n\nAdresse: Gässle 12\, 9495 Triesen\n
LOCATION:Gässle 12\, 9495 Triesen
CATEGORIES:Saison 2024/25
END:VEVENT
BEGIN:VEVENT
DTSTAMP:20260425T022333Z
DTSTART;TZID=Europe/Berlin:20240926T200000
DTEND;TZID=Europe/Berlin:20240926T230000
SUMMARY:HE 2. Liga Gr. 3 Wädenswil II vs BW-Wollishofen (0)
UID:e619e1c7-58d4-46f3-aaff-acee0a426df5
STATUS:CONFIRMED
LAST-MODIFIED:20240930T124322Z
DESCRIPTION:2. Liga Herren Gruppe 3\nBegegnungs-Nr: 0\nHeim: Wädenswil II\nGast: BW-Wollishofen\n\nAdresse: Speerstrasse 95\, 8820 Wädenswil\n
LOCATION:Speerstrasse 95\, 8820 Wädenswil
CATEGORIES:Saison 2024/25
END:VEVENT
BEGIN:VEVENT
DTSTAMP:20260425T022333Z
DTSTART;TZID=Europe/Berlin:20240902T194500
DTEND;TZID=Europe/Berlin:20240902T224500
SUMMARY:HE 2. Liga Gr. 3 Wetzikon IV vs BW-Wollishofen (0)
UID:b3b69913-f022-44cd-8083-c5438fa643fe
STATUS:CONFIRMED
LAST-MODIFIED:20240903T154000Z
DESCRIPTION:2. Liga Herren Gruppe 3\nBegegnungs-Nr: 0\nHeim: Wetzikon IV\nGast: BW-Wollishofen\n\nAdresse: Usterstrasse 37\, 8620 Wetzikon\n
LOCATION:Usterstrasse 37\, 8620 Wetzikon
CATEGORIES:Saison 2024/25
END:VEVENT
BEGIN:VEVENT
DTSTAMP:20260425T022333Z
DTSTART;TZID=Europe/Berlin:20250130T200000
DTEND;TZID=Europe/Berlin:20250130T230000
SUMMARY:HE 2. Liga Gr. 3 Pinguin Zürich vs BW-Wollishofen (0)
UID:bfe3cb08-04b8-4379-a209-73eefd786bb2
STATUS:CONFIRMED
LAST-MODIFIED:20250131T143456Z
DESCRIPTION:2. Liga Herren Gruppe 3\nBegegnungs-Nr: 0\nHeim: Pinguin Zürich\nGast: BW-Wollishofen\n\nAdresse: Grindelstrasse 20\, 8303 Bassersdorf\n
LOCATION:Grindelstrasse 20\, 8303 Bassersdorf
CATEGORIES:Saison 2024/25
END:VEVENT
BEGIN:VEVENT
DTSTAMP:20260425T022333Z
DTSTART;TZID=Europe/Berlin:20250108T201500
DTEND;TZID=Europe/Berlin:20250108T231500
SUMMARY:HE 2. Liga Gr. 3 Young Stars ZH IV vs BW-Wollishofen (0)
UID:b27138b8-1a8d-4967-977b-76f25049382e
STATUS:CONFIRMED
LAST-MODIFIED:20250110T150541Z
DESCRIPTION:2. Liga Herren Gruppe 3\nBegegnungs-Nr: 0\nHeim: Young Stars ZH IV\nGast: BW-Wollishofen\n\nAdresse: Seefeldstrasse 93\, 8008 Zürich\n
LOCATION:Seefeldstrasse 93\, 8008 Zürich
CATEGORIES:Saison 2024/25
END:VEVENT
END:VCALENDAR
