BEGIN:VCALENDAR
PRODID:-//nuDatenautomaten//framework iCal4j //DE
VERSION:2.0
CALSCALE:GREGORIAN
BEGIN:VTIMEZONE
TZID:Europe/Berlin
LAST-MODIFIED:20260306T231828Z
TZURL:https://www.tzurl.org/zoneinfo/Europe/Berlin
X-LIC-LOCATION:Europe/Berlin
X-PROLEPTIC-TZNAME:LMT
BEGIN:STANDARD
TZNAME:CET
TZOFFSETFROM:+005328
TZOFFSETTO:+0100
DTSTART:18930401T000000
END:STANDARD
BEGIN:DAYLIGHT
TZNAME:CEST
TZOFFSETFROM:+0100
TZOFFSETTO:+0200
DTSTART:19160430T230000
RDATE:19400401T020000
RDATE:19430329T020000
RDATE:19460414T020000
RDATE:19470406T030000
RDATE:19480418T020000
RDATE:19490410T020000
RDATE:19800406T020000
END:DAYLIGHT
BEGIN:STANDARD
TZNAME:CET
TZOFFSETFROM:+0200
TZOFFSETTO:+0100
DTSTART:19161001T010000
RDATE:19421102T030000
RDATE:19431004T030000
RDATE:19441002T030000
RDATE:19451118T030000
RDATE:19461007T030000
END:STANDARD
BEGIN:DAYLIGHT
TZNAME:CEST
TZOFFSETFROM:+0100
TZOFFSETTO:+0200
DTSTART:19170416T020000
RRULE:FREQ=YEARLY;UNTIL=19180415T010000Z;BYMONTH=4;BYDAY=3MO
END:DAYLIGHT
BEGIN:STANDARD
TZNAME:CET
TZOFFSETFROM:+0200
TZOFFSETTO:+0100
DTSTART:19170917T030000
RRULE:FREQ=YEARLY;UNTIL=19180916T010000Z;BYMONTH=9;BYDAY=3MO
END:STANDARD
BEGIN:DAYLIGHT
TZNAME:CEST
TZOFFSETFROM:+0100
TZOFFSETTO:+0200
DTSTART:19440403T020000
RRULE:FREQ=YEARLY;UNTIL=19450402T010000Z;BYMONTH=4;BYDAY=1MO
END:DAYLIGHT
BEGIN:DAYLIGHT
TZNAME:CEMT
TZOFFSETFROM:+0200
TZOFFSETTO:+0300
DTSTART:19450524T020000
RDATE:19470511T030000
END:DAYLIGHT
BEGIN:DAYLIGHT
TZNAME:CEST
TZOFFSETFROM:+0300
TZOFFSETTO:+0200
DTSTART:19450924T030000
RDATE:19470629T030000
END:DAYLIGHT
BEGIN:STANDARD
TZNAME:CET
TZOFFSETFROM:+0100
TZOFFSETTO:+0100
DTSTART:19460101T000000
RDATE:19800101T000000
END:STANDARD
BEGIN:STANDARD
TZNAME:CET
TZOFFSETFROM:+0200
TZOFFSETTO:+0100
DTSTART:19471005T030000
RRULE:FREQ=YEARLY;UNTIL=19491002T010000Z;BYMONTH=10;BYDAY=1SU
END:STANDARD
BEGIN:STANDARD
TZNAME:CET
TZOFFSETFROM:+0200
TZOFFSETTO:+0100
DTSTART:19800928T030000
RRULE:FREQ=YEARLY;UNTIL=19950924T010000Z;BYMONTH=9;BYDAY=-1SU
END:STANDARD
BEGIN:DAYLIGHT
TZNAME:CEST
TZOFFSETFROM:+0100
TZOFFSETTO:+0200
DTSTART:19810329T020000
RRULE:FREQ=YEARLY;BYMONTH=3;BYDAY=-1SU
END:DAYLIGHT
BEGIN:STANDARD
TZNAME:CET
TZOFFSETFROM:+0200
TZOFFSETTO:+0100
DTSTART:19961027T030000
RRULE:FREQ=YEARLY;BYMONTH=10;BYDAY=-1SU
END:STANDARD
END:VTIMEZONE
BEGIN:VEVENT
DTSTAMP:20260419T231518Z
DTSTART;TZID=Europe/Berlin:20241108T193000
DTEND;TZID=Europe/Berlin:20241108T223000
SUMMARY:L3P1 La Chaux-de-Fonds III vs Val-de-Ruz III (0)
UID:9e91ba54-19ce-4db7-8c03-0c808587dddb
STATUS:CONFIRMED
LAST-MODIFIED:20241122T115219Z
DESCRIPTION:3ème ligue phase 1\nBegegnungs-Nr: 0\nHeim: La Chaux-de-Fonds III\nGast: Val-de-Ruz III\n\nAdresse: Rue du Docteur-Kern 14\, 2300 La Chaux-de-Fonds\n
LOCATION:Rue du Docteur-Kern 14\, 2300 La Chaux-de-Fonds
CATEGORIES:Saison 2024/25
END:VEVENT
BEGIN:VEVENT
DTSTAMP:20260419T231518Z
DTSTART;TZID=Europe/Berlin:20241025T193000
DTEND;TZID=Europe/Berlin:20241025T223000
SUMMARY:L3P1 La Chaux-de-Fonds III vs Hauterive (0)
UID:8b9e7d74-dcaf-476a-b2f9-002567d28a0a
STATUS:CONFIRMED
LAST-MODIFIED:20241029T073838Z
DESCRIPTION:3ème ligue phase 1\nBegegnungs-Nr: 0\nHeim: La Chaux-de-Fonds III\nGast: Hauterive\n\nAdresse: Rue du Docteur-Kern 14\, 2300 La Chaux-de-Fonds\n
LOCATION:Rue du Docteur-Kern 14\, 2300 La Chaux-de-Fonds
CATEGORIES:Saison 2024/25
END:VEVENT
BEGIN:VEVENT
DTSTAMP:20260419T231518Z
DTSTART;TZID=Europe/Berlin:20240920T193000
DTEND;TZID=Europe/Berlin:20240920T223000
SUMMARY:L3P1 La Chaux-de-Fonds III vs Delémont III (0)
UID:0c149622-df9d-4e5f-b420-4deb647fa165
STATUS:CONFIRMED
LAST-MODIFIED:20240924T160332Z
DESCRIPTION:3ème ligue phase 1\nBegegnungs-Nr: 0\nHeim: La Chaux-de-Fonds III\nGast: Delémont III\n\nAdresse: Rue du Docteur-Kern 14\, 2300 La Chaux-de-Fonds\n
LOCATION:Rue du Docteur-Kern 14\, 2300 La Chaux-de-Fonds
CATEGORIES:Saison 2024/25
END:VEVENT
BEGIN:VEVENT
DTSTAMP:20260419T231518Z
DTSTART;TZID=Europe/Berlin:20250117T193000
DTEND;TZID=Europe/Berlin:20250117T223000
SUMMARY:L3P2 La Chaux-de-Fonds III vs Omega (0)
UID:77dc50c5-2d6b-4924-b75f-1665adfb98de
STATUS:CONFIRMED
LAST-MODIFIED:20250121T142607Z
DESCRIPTION:3ème ligue phase 2\nBegegnungs-Nr: 0\nHeim: La Chaux-de-Fonds III\nGast: Omega\n\nAdresse: Rue du Docteur-Kern 14\, 2300 La Chaux-de-Fonds\n
LOCATION:Rue du Docteur-Kern 14\, 2300 La Chaux-de-Fonds
CATEGORIES:Saison 2024/25
END:VEVENT
BEGIN:VEVENT
DTSTAMP:20260419T231518Z
DTSTART;TZID=Europe/Berlin:20250221T193000
DTEND;TZID=Europe/Berlin:20250221T223000
SUMMARY:L3P2 La Chaux-de-Fonds III vs Tramelan II (0)
UID:98dd0d9e-e891-45ef-b46a-12590b027cce
STATUS:CONFIRMED
LAST-MODIFIED:20250224T144106Z
DESCRIPTION:3ème ligue phase 2\nBegegnungs-Nr: 0\nHeim: La Chaux-de-Fonds III\nGast: Tramelan II\n\nAdresse: Rue du Docteur-Kern 14\, 2300 La Chaux-de-Fonds\n
LOCATION:Rue du Docteur-Kern 14\, 2300 La Chaux-de-Fonds
CATEGORIES:Saison 2024/25
END:VEVENT
BEGIN:VEVENT
DTSTAMP:20260419T231518Z
DTSTART;TZID=Europe/Berlin:20250321T193000
DTEND;TZID=Europe/Berlin:20250321T223000
SUMMARY:L3P2 La Chaux-de-Fonds III vs Tramelan III (0)
UID:4e8c1bf4-3dab-4d17-9b79-e1b48234f2e4
STATUS:CONFIRMED
LAST-MODIFIED:20250325T060832Z
DESCRIPTION:3ème ligue phase 2\nBegegnungs-Nr: 0\nHeim: La Chaux-de-Fonds III\nGast: Tramelan III\n\nAdresse: Rue du Docteur-Kern 14\, 2300 La Chaux-de-Fonds\n
LOCATION:Rue du Docteur-Kern 14\, 2300 La Chaux-de-Fonds
CATEGORIES:Saison 2024/25
END:VEVENT
BEGIN:VEVENT
DTSTAMP:20260419T231518Z
DTSTART;TZID=Europe/Berlin:20250425T193000
DTEND;TZID=Europe/Berlin:20250425T223000
SUMMARY:L3P2 La Chaux-de-Fonds III vs Val-de-Ruz IV (0)
UID:0cb8b849-dabe-4cbc-a8a6-ef887e2f41e1
STATUS:CONFIRMED
LAST-MODIFIED:20250501T051215Z
DESCRIPTION:3ème ligue phase 2\nBegegnungs-Nr: 0\nHeim: La Chaux-de-Fonds III\nGast: Val-de-Ruz IV\n\nAdresse: Rue du Docteur-Kern 14\, 2300 La Chaux-de-Fonds\n
LOCATION:Rue du Docteur-Kern 14\, 2300 La Chaux-de-Fonds
CATEGORIES:Saison 2024/25
END:VEVENT
BEGIN:VEVENT
DTSTAMP:20260419T231518Z
DTSTART;TZID=Europe/Berlin:20241202T200000
DTEND;TZID=Europe/Berlin:20241202T230000
SUMMARY:L3P1 Omega II vs La Chaux-de-Fonds III (0)
UID:233355e3-5039-4681-b5fa-eb43a64639c0
STATUS:CONFIRMED
LAST-MODIFIED:20241204T081714Z
DESCRIPTION:3ème ligue phase 1\nBegegnungs-Nr: 0\nHeim: Omega II\nGast: La Chaux-de-Fonds III\n\nAdresse: Tennisweg 1\, 2504 Biel-Bienne\n
LOCATION:Tennisweg 1\, 2504 Biel-Bienne
CATEGORIES:Saison 2024/25
END:VEVENT
BEGIN:VEVENT
DTSTAMP:20260419T231518Z
DTSTART;TZID=Europe/Berlin:20241122T200000
DTEND;TZID=Europe/Berlin:20241122T230000
SUMMARY:L3P1 Le Locle II vs La Chaux-de-Fonds III (0)
UID:be48ca23-4e74-4936-b406-264612d110e3
STATUS:CONFIRMED
LAST-MODIFIED:20241129T082003Z
DESCRIPTION:3ème ligue phase 1\nBegegnungs-Nr: 0\nHeim: Le Locle II\nGast: La Chaux-de-Fonds III\n\nAdresse: Avenue du Collège 1\, 2400 Le Locle\n
LOCATION:Avenue du Collège 1\, 2400 Le Locle
CATEGORIES:Saison 2024/25
END:VEVENT
BEGIN:VEVENT
DTSTAMP:20260419T231518Z
DTSTART;TZID=Europe/Berlin:20241001T194500
DTEND;TZID=Europe/Berlin:20241001T224500
SUMMARY:L3P1 Tavannes vs La Chaux-de-Fonds III (0)
UID:9fbd7c84-c495-4694-9cfe-26667d034ebb
STATUS:CONFIRMED
LAST-MODIFIED:20241003T090109Z
DESCRIPTION:3ème ligue phase 1\nBegegnungs-Nr: 0\nHeim: Tavannes\nGast: La Chaux-de-Fonds III\n\nAdresse: Sources 1\, 2710 Tavannes\n
LOCATION:Sources 1\, 2710 Tavannes
CATEGORIES:Saison 2024/25
END:VEVENT
BEGIN:VEVENT
DTSTAMP:20260419T231518Z
DTSTART;TZID=Europe/Berlin:20240906T200000
DTEND;TZID=Europe/Berlin:20240906T230000
SUMMARY:L3P1 Entente Pongiste Neuchâteloise IV vs La Chaux-de-Fonds III (0)
UID:f8eb8150-4abe-4589-ab17-ea618089aac7
STATUS:CONFIRMED
LAST-MODIFIED:20240924T160115Z
DESCRIPTION:3ème ligue phase 1\nBegegnungs-Nr: 0\nHeim: Entente Pongiste Neuchâteloise IV\nGast: La Chaux-de-Fonds III\n\nAdresse: Allée du 700e\, 2525 Le Landeron\n
LOCATION:Allée du 700e\, 2525 Le Landeron
CATEGORIES:Saison 2024/25
END:VEVENT
BEGIN:VEVENT
DTSTAMP:20260419T231518Z
DTSTART;TZID=Europe/Berlin:20250131T200000
DTEND;TZID=Europe/Berlin:20250131T230000
SUMMARY:L3P2 Le Locle vs La Chaux-de-Fonds III (0)
UID:a0615890-0d0f-4aa3-bb94-ea7ab1d7f54e
STATUS:CONFIRMED
LAST-MODIFIED:20250210T174854Z
DESCRIPTION:3ème ligue phase 2\nBegegnungs-Nr: 0\nHeim: Le Locle\nGast: La Chaux-de-Fonds III\n\nAdresse: Avenue du Collège 1\, 2400 Le Locle\n
LOCATION:Avenue du Collège 1\, 2400 Le Locle
CATEGORIES:Saison 2024/25
END:VEVENT
BEGIN:VEVENT
DTSTAMP:20260419T231518Z
DTSTART;TZID=Europe/Berlin:20250307T200000
DTEND;TZID=Europe/Berlin:20250307T230000
SUMMARY:L3P2 Moutier II vs La Chaux-de-Fonds III (0)
UID:b8288026-f4c6-40fa-bad2-7e6d4e7dc3c1
STATUS:CONFIRMED
LAST-MODIFIED:20250313T074755Z
DESCRIPTION:3ème ligue phase 2\nBegegnungs-Nr: 0\nHeim: Moutier II\nGast: La Chaux-de-Fonds III\n\nAdresse: Place Beseran\, 2740 Moutier\n
LOCATION:Place Beseran\, 2740 Moutier
CATEGORIES:Saison 2024/25
END:VEVENT
BEGIN:VEVENT
DTSTAMP:20260419T231518Z
DTSTART;TZID=Europe/Berlin:20250411T200000
DTEND;TZID=Europe/Berlin:20250411T230000
SUMMARY:L3P2 Le Locle II vs La Chaux-de-Fonds III (0)
UID:de83a1d3-fd08-499b-8deb-3a854ff68a2d
STATUS:CONFIRMED
LAST-MODIFIED:20250413T125543Z
DESCRIPTION:3ème ligue phase 2\nBegegnungs-Nr: 0\nHeim: Le Locle II\nGast: La Chaux-de-Fonds III\n\nAdresse: Avenue du Collège 1\, 2400 Le Locle\n
LOCATION:Avenue du Collège 1\, 2400 Le Locle
CATEGORIES:Saison 2024/25
END:VEVENT
END:VCALENDAR
