BEGIN:VCALENDAR
PRODID:-//nuDatenautomaten//framework iCal4j //DE
VERSION:2.0
CALSCALE:GREGORIAN
BEGIN:VTIMEZONE
TZID:Europe/Berlin
LAST-MODIFIED:20260306T231828Z
TZURL:https://www.tzurl.org/zoneinfo/Europe/Berlin
X-LIC-LOCATION:Europe/Berlin
X-PROLEPTIC-TZNAME:LMT
BEGIN:STANDARD
TZNAME:CET
TZOFFSETFROM:+005328
TZOFFSETTO:+0100
DTSTART:18930401T000000
END:STANDARD
BEGIN:DAYLIGHT
TZNAME:CEST
TZOFFSETFROM:+0100
TZOFFSETTO:+0200
DTSTART:19160430T230000
RDATE:19400401T020000
RDATE:19430329T020000
RDATE:19460414T020000
RDATE:19470406T030000
RDATE:19480418T020000
RDATE:19490410T020000
RDATE:19800406T020000
END:DAYLIGHT
BEGIN:STANDARD
TZNAME:CET
TZOFFSETFROM:+0200
TZOFFSETTO:+0100
DTSTART:19161001T010000
RDATE:19421102T030000
RDATE:19431004T030000
RDATE:19441002T030000
RDATE:19451118T030000
RDATE:19461007T030000
END:STANDARD
BEGIN:DAYLIGHT
TZNAME:CEST
TZOFFSETFROM:+0100
TZOFFSETTO:+0200
DTSTART:19170416T020000
RRULE:FREQ=YEARLY;UNTIL=19180415T010000Z;BYMONTH=4;BYDAY=3MO
END:DAYLIGHT
BEGIN:STANDARD
TZNAME:CET
TZOFFSETFROM:+0200
TZOFFSETTO:+0100
DTSTART:19170917T030000
RRULE:FREQ=YEARLY;UNTIL=19180916T010000Z;BYMONTH=9;BYDAY=3MO
END:STANDARD
BEGIN:DAYLIGHT
TZNAME:CEST
TZOFFSETFROM:+0100
TZOFFSETTO:+0200
DTSTART:19440403T020000
RRULE:FREQ=YEARLY;UNTIL=19450402T010000Z;BYMONTH=4;BYDAY=1MO
END:DAYLIGHT
BEGIN:DAYLIGHT
TZNAME:CEMT
TZOFFSETFROM:+0200
TZOFFSETTO:+0300
DTSTART:19450524T020000
RDATE:19470511T030000
END:DAYLIGHT
BEGIN:DAYLIGHT
TZNAME:CEST
TZOFFSETFROM:+0300
TZOFFSETTO:+0200
DTSTART:19450924T030000
RDATE:19470629T030000
END:DAYLIGHT
BEGIN:STANDARD
TZNAME:CET
TZOFFSETFROM:+0100
TZOFFSETTO:+0100
DTSTART:19460101T000000
RDATE:19800101T000000
END:STANDARD
BEGIN:STANDARD
TZNAME:CET
TZOFFSETFROM:+0200
TZOFFSETTO:+0100
DTSTART:19471005T030000
RRULE:FREQ=YEARLY;UNTIL=19491002T010000Z;BYMONTH=10;BYDAY=1SU
END:STANDARD
BEGIN:STANDARD
TZNAME:CET
TZOFFSETFROM:+0200
TZOFFSETTO:+0100
DTSTART:19800928T030000
RRULE:FREQ=YEARLY;UNTIL=19950924T010000Z;BYMONTH=9;BYDAY=-1SU
END:STANDARD
BEGIN:DAYLIGHT
TZNAME:CEST
TZOFFSETFROM:+0100
TZOFFSETTO:+0200
DTSTART:19810329T020000
RRULE:FREQ=YEARLY;BYMONTH=3;BYDAY=-1SU
END:DAYLIGHT
BEGIN:STANDARD
TZNAME:CET
TZOFFSETFROM:+0200
TZOFFSETTO:+0100
DTSTART:19961027T030000
RRULE:FREQ=YEARLY;BYMONTH=10;BYDAY=-1SU
END:STANDARD
END:VTIMEZONE
BEGIN:VEVENT
DTSTAMP:20260419T231509Z
DTSTART;TZID=Europe/Berlin:20241026T160000
DTEND;TZID=Europe/Berlin:20241026T190000
SUMMARY:O40 Delémont vs Entente Pongiste Neuchâteloise (0)
UID:2a172c44-391a-44aa-a9d6-9b8fe173c978
STATUS:CONFIRMED
LAST-MODIFIED:20241026T125002Z
DESCRIPTION:Seniors O40\nBegegnungs-Nr: 0\nHeim: Delémont\nGast: Entente Pongiste Neuchâteloise\n\nAdresse: Rue de la Blancherie 4\, 2800 Delémont\n
LOCATION:Rue de la Blancherie 4\, 2800 Delémont
CATEGORIES:Saison 2024/25
END:VEVENT
BEGIN:VEVENT
DTSTAMP:20260419T231509Z
DTSTART;TZID=Europe/Berlin:20250311T193000
DTEND;TZID=Europe/Berlin:20250311T223000
SUMMARY:O40 Delémont vs Porrentruy (0)
UID:a8a1e6f9-a33a-4221-847d-bfaf0064c6c7
STATUS:CONFIRMED
LAST-MODIFIED:20250308T162833Z
DESCRIPTION:Seniors O40\nBegegnungs-Nr: 0\nHeim: Delémont\nGast: Porrentruy\n\nAdresse: Rue de la Blancherie 4\, 2800 Delémont\n
LOCATION:Rue de la Blancherie 4\, 2800 Delémont
CATEGORIES:Saison 2024/25
END:VEVENT
BEGIN:VEVENT
DTSTAMP:20260419T231509Z
DTSTART;TZID=Europe/Berlin:20250308T170000
DTEND;TZID=Europe/Berlin:20250308T200000
SUMMARY:O40 Delémont vs Entente Pongiste Neuchâteloise II (0)
UID:3bb6ca64-c4ee-41f8-91f4-b3e40621a9ec
STATUS:CONFIRMED
LAST-MODIFIED:20250308T110509Z
DESCRIPTION:Seniors O40\nBegegnungs-Nr: 0\nHeim: Delémont\nGast: Entente Pongiste Neuchâteloise II\n\nAdresse: Rue de la Blancherie 4\, 2800 Delémont\n
LOCATION:Rue de la Blancherie 4\, 2800 Delémont
CATEGORIES:Saison 2024/25
END:VEVENT
BEGIN:VEVENT
DTSTAMP:20260419T231509Z
DTSTART;TZID=Europe/Berlin:20241026T180000
DTEND;TZID=Europe/Berlin:20241026T210000
SUMMARY:O40 Delémont vs Le Locle (0)
UID:c5bb0c72-bbf1-4ac8-918e-f9fbdbc462ff
STATUS:CONFIRMED
LAST-MODIFIED:20241026T125147Z
DESCRIPTION:Seniors O40\nBegegnungs-Nr: 0\nHeim: Delémont\nGast: Le Locle\n\nAdresse: Rue de la Blancherie 4\, 2800 Delémont\n
LOCATION:Rue de la Blancherie 4\, 2800 Delémont
CATEGORIES:Saison 2024/25
END:VEVENT
BEGIN:VEVENT
DTSTAMP:20260419T231509Z
DTSTART;TZID=Europe/Berlin:20250118T123000
DTEND;TZID=Europe/Berlin:20250118T153000
SUMMARY:O40 Tramelan vs Delémont (0)
UID:5d282a42-0f6f-475d-be76-d4d368ccafdc
STATUS:CONFIRMED
LAST-MODIFIED:20250123T062825Z
DESCRIPTION:Seniors O40\nBegegnungs-Nr: 0\nHeim: Tramelan\nGast: Delémont\n\nAdresse: Rue du Collège 13\, 2720 Tramelan\n
LOCATION:Rue du Collège 13\, 2720 Tramelan
CATEGORIES:Saison 2024/25
END:VEVENT
BEGIN:VEVENT
DTSTAMP:20260419T231509Z
DTSTART;TZID=Europe/Berlin:20250118T140000
DTEND;TZID=Europe/Berlin:20250118T170000
SUMMARY:O40 Tramelan II vs Delémont (0)
UID:7b415cf2-6640-4672-8e98-65d8ff3d4cd9
STATUS:CONFIRMED
LAST-MODIFIED:20250123T063043Z
DESCRIPTION:Seniors O40\nBegegnungs-Nr: 0\nHeim: Tramelan II\nGast: Delémont\n\nAdresse: Rue du Collège 13\, 2720 Tramelan\n
LOCATION:Rue du Collège 13\, 2720 Tramelan
CATEGORIES:Saison 2024/25
END:VEVENT
BEGIN:VEVENT
DTSTAMP:20260419T231509Z
DTSTART;TZID=Europe/Berlin:20250308T150000
DTEND;TZID=Europe/Berlin:20250308T180000
SUMMARY:O40 La Chaux-de-Fonds vs Delémont (0)
UID:e7abcdd1-94d5-48a8-bdab-38b103e4a962
STATUS:CONFIRMED
LAST-MODIFIED:20250308T110222Z
DESCRIPTION:Seniors O40\nBegegnungs-Nr: 0\nHeim: La Chaux-de-Fonds\nGast: Delémont\n\nAdresse: Rue du Docteur-Kern 14\, 2300 La Chaux-de-Fonds\n
LOCATION:Rue du Docteur-Kern 14\, 2300 La Chaux-de-Fonds
CATEGORIES:Saison 2024/25
END:VEVENT
BEGIN:VEVENT
DTSTAMP:20260419T231509Z
DTSTART;TZID=Europe/Berlin:20241026T133000
DTEND;TZID=Europe/Berlin:20241026T163000
SUMMARY:O40 Val-de-Ruz vs Delémont (0)
UID:e86fd76b-0c47-46d4-bb55-e42c0b4ea570
STATUS:CONFIRMED
LAST-MODIFIED:20241026T124641Z
DESCRIPTION:Seniors O40\nBegegnungs-Nr: 0\nHeim: Val-de-Ruz\nGast: Delémont\n\nAdresse: Rue de Chasseral 3\, 2053 Cernier\n
LOCATION:Rue de Chasseral 3\, 2053 Cernier
CATEGORIES:Saison 2024/25
END:VEVENT
END:VCALENDAR
