BEGIN:VCALENDAR
PRODID:-//nuDatenautomaten//framework iCal4j //DE
VERSION:2.0
CALSCALE:GREGORIAN
BEGIN:VTIMEZONE
TZID:Europe/Berlin
LAST-MODIFIED:20260306T231828Z
TZURL:https://www.tzurl.org/zoneinfo/Europe/Berlin
X-LIC-LOCATION:Europe/Berlin
X-PROLEPTIC-TZNAME:LMT
BEGIN:STANDARD
TZNAME:CET
TZOFFSETFROM:+005328
TZOFFSETTO:+0100
DTSTART:18930401T000000
END:STANDARD
BEGIN:DAYLIGHT
TZNAME:CEST
TZOFFSETFROM:+0100
TZOFFSETTO:+0200
DTSTART:19160430T230000
RDATE:19400401T020000
RDATE:19430329T020000
RDATE:19460414T020000
RDATE:19470406T030000
RDATE:19480418T020000
RDATE:19490410T020000
RDATE:19800406T020000
END:DAYLIGHT
BEGIN:STANDARD
TZNAME:CET
TZOFFSETFROM:+0200
TZOFFSETTO:+0100
DTSTART:19161001T010000
RDATE:19421102T030000
RDATE:19431004T030000
RDATE:19441002T030000
RDATE:19451118T030000
RDATE:19461007T030000
END:STANDARD
BEGIN:DAYLIGHT
TZNAME:CEST
TZOFFSETFROM:+0100
TZOFFSETTO:+0200
DTSTART:19170416T020000
RRULE:FREQ=YEARLY;UNTIL=19180415T010000Z;BYMONTH=4;BYDAY=3MO
END:DAYLIGHT
BEGIN:STANDARD
TZNAME:CET
TZOFFSETFROM:+0200
TZOFFSETTO:+0100
DTSTART:19170917T030000
RRULE:FREQ=YEARLY;UNTIL=19180916T010000Z;BYMONTH=9;BYDAY=3MO
END:STANDARD
BEGIN:DAYLIGHT
TZNAME:CEST
TZOFFSETFROM:+0100
TZOFFSETTO:+0200
DTSTART:19440403T020000
RRULE:FREQ=YEARLY;UNTIL=19450402T010000Z;BYMONTH=4;BYDAY=1MO
END:DAYLIGHT
BEGIN:DAYLIGHT
TZNAME:CEMT
TZOFFSETFROM:+0200
TZOFFSETTO:+0300
DTSTART:19450524T020000
RDATE:19470511T030000
END:DAYLIGHT
BEGIN:DAYLIGHT
TZNAME:CEST
TZOFFSETFROM:+0300
TZOFFSETTO:+0200
DTSTART:19450924T030000
RDATE:19470629T030000
END:DAYLIGHT
BEGIN:STANDARD
TZNAME:CET
TZOFFSETFROM:+0100
TZOFFSETTO:+0100
DTSTART:19460101T000000
RDATE:19800101T000000
END:STANDARD
BEGIN:STANDARD
TZNAME:CET
TZOFFSETFROM:+0200
TZOFFSETTO:+0100
DTSTART:19471005T030000
RRULE:FREQ=YEARLY;UNTIL=19491002T010000Z;BYMONTH=10;BYDAY=1SU
END:STANDARD
BEGIN:STANDARD
TZNAME:CET
TZOFFSETFROM:+0200
TZOFFSETTO:+0100
DTSTART:19800928T030000
RRULE:FREQ=YEARLY;UNTIL=19950924T010000Z;BYMONTH=9;BYDAY=-1SU
END:STANDARD
BEGIN:DAYLIGHT
TZNAME:CEST
TZOFFSETFROM:+0100
TZOFFSETTO:+0200
DTSTART:19810329T020000
RRULE:FREQ=YEARLY;BYMONTH=3;BYDAY=-1SU
END:DAYLIGHT
BEGIN:STANDARD
TZNAME:CET
TZOFFSETFROM:+0200
TZOFFSETTO:+0100
DTSTART:19961027T030000
RRULE:FREQ=YEARLY;BYMONTH=10;BYDAY=-1SU
END:STANDARD
END:VTIMEZONE
BEGIN:VEVENT
DTSTAMP:20260419T214335Z
DTSTART;TZID=Europe/Berlin:20241009T193000
DTEND;TZID=Europe/Berlin:20241009T223000
SUMMARY:L2P1 Tramelan II vs Entente Pongiste Neuchâteloise III (0)
UID:58f53901-d130-44c5-b7ce-6b0187200d90
STATUS:CONFIRMED
LAST-MODIFIED:20241014T074030Z
DESCRIPTION:2ème ligue phase 1\nBegegnungs-Nr: 0\nHeim: Tramelan II\nGast: Entente Pongiste Neuchâteloise III\n\nAdresse: Rue du Collège 13\, 2720 Tramelan\n
LOCATION:Rue du Collège 13\, 2720 Tramelan
CATEGORIES:Saison 2024/25
END:VEVENT
BEGIN:VEVENT
DTSTAMP:20260419T214335Z
DTSTART;TZID=Europe/Berlin:20241206T193000
DTEND;TZID=Europe/Berlin:20241206T223000
SUMMARY:L2P1 Tramelan II vs Moutier (0)
UID:8a9aa112-9b26-4a74-9fe5-5e178046329f
STATUS:CONFIRMED
LAST-MODIFIED:20241210T095841Z
DESCRIPTION:2ème ligue phase 1\nBegegnungs-Nr: 0\nHeim: Tramelan II\nGast: Moutier\n\nAdresse: Rue du Collège 13\, 2720 Tramelan\n
LOCATION:Rue du Collège 13\, 2720 Tramelan
CATEGORIES:Saison 2024/25
END:VEVENT
BEGIN:VEVENT
DTSTAMP:20260419T214335Z
DTSTART;TZID=Europe/Berlin:20241122T193000
DTEND;TZID=Europe/Berlin:20241122T223000
SUMMARY:L2P1 Tramelan II vs Omega (0)
UID:4170b108-c3c5-41ef-8d68-3f0de1dbf6f3
STATUS:CONFIRMED
LAST-MODIFIED:20241129T081845Z
DESCRIPTION:2ème ligue phase 1\nBegegnungs-Nr: 0\nHeim: Tramelan II\nGast: Omega\n\nAdresse: Rue du Collège 13\, 2720 Tramelan\n
LOCATION:Rue du Collège 13\, 2720 Tramelan
CATEGORIES:Saison 2024/25
END:VEVENT
BEGIN:VEVENT
DTSTAMP:20260419T214335Z
DTSTART;TZID=Europe/Berlin:20241101T193000
DTEND;TZID=Europe/Berlin:20241101T223000
SUMMARY:L2P1 Tramelan II vs Le Locle (0)
UID:d4233a74-bc00-4de4-b3c4-9c6a764eba29
STATUS:CONFIRMED
LAST-MODIFIED:20241104T141248Z
DESCRIPTION:2ème ligue phase 1\nBegegnungs-Nr: 0\nHeim: Tramelan II\nGast: Le Locle\n\nAdresse: Rue du Collège 13\, 2720 Tramelan\n
LOCATION:Rue du Collège 13\, 2720 Tramelan
CATEGORIES:Saison 2024/25
END:VEVENT
BEGIN:VEVENT
DTSTAMP:20260419T214335Z
DTSTART;TZID=Europe/Berlin:20250203T193000
DTEND;TZID=Europe/Berlin:20250203T223000
SUMMARY:L3P2 Tramelan II vs Le Locle II (0)
UID:840ba043-3696-4606-9369-c41242130c5d
STATUS:CONFIRMED
LAST-MODIFIED:20250210T174927Z
DESCRIPTION:3ème ligue phase 2\nBegegnungs-Nr: 0\nHeim: Tramelan II\nGast: Le Locle II\n\nAdresse: Rue du Collège 13\, 2720 Tramelan\n
LOCATION:Rue du Collège 13\, 2720 Tramelan
CATEGORIES:Saison 2024/25
END:VEVENT
BEGIN:VEVENT
DTSTAMP:20260419T214335Z
DTSTART;TZID=Europe/Berlin:20250307T193000
DTEND;TZID=Europe/Berlin:20250307T223000
SUMMARY:L3P2 Tramelan II vs Val-de-Ruz IV (0)
UID:001e47a2-d6c0-4a19-a44b-602ac35cd37d
STATUS:CONFIRMED
LAST-MODIFIED:20250313T074724Z
DESCRIPTION:3ème ligue phase 2\nBegegnungs-Nr: 0\nHeim: Tramelan II\nGast: Val-de-Ruz IV\n\nAdresse: Rue du Collège 13\, 2720 Tramelan\n
LOCATION:Rue du Collège 13\, 2720 Tramelan
CATEGORIES:Saison 2024/25
END:VEVENT
BEGIN:VEVENT
DTSTAMP:20260419T214335Z
DTSTART;TZID=Europe/Berlin:20250314T193000
DTEND;TZID=Europe/Berlin:20250314T223000
SUMMARY:L3P2 Tramelan II vs Le Locle (0)
UID:6b02bd48-d609-4547-af4c-4c6d319a11d9
STATUS:CONFIRMED
LAST-MODIFIED:20250317T071447Z
DESCRIPTION:3ème ligue phase 2\nBegegnungs-Nr: 0\nHeim: Tramelan II\nGast: Le Locle\n\nAdresse: Rue du Collège 13\, 2720 Tramelan\n
LOCATION:Rue du Collège 13\, 2720 Tramelan
CATEGORIES:Saison 2024/25
END:VEVENT
BEGIN:VEVENT
DTSTAMP:20260419T214335Z
DTSTART;TZID=Europe/Berlin:20240913T200000
DTEND;TZID=Europe/Berlin:20240913T230000
SUMMARY:L2P1 Cortaillod III vs Tramelan II (0)
UID:94da47fe-68a9-4115-8aa5-374efeecdf25
STATUS:CONFIRMED
LAST-MODIFIED:20240924T155815Z
DESCRIPTION:2ème ligue phase 1\nBegegnungs-Nr: 0\nHeim: Cortaillod III\nGast: Tramelan II\n\nAdresse: Coteaux 1\, 2016 Cortaillod\n
LOCATION:Coteaux 1\, 2016 Cortaillod
CATEGORIES:Saison 2024/25
END:VEVENT
BEGIN:VEVENT
DTSTAMP:20260419T214335Z
DTSTART;TZID=Europe/Berlin:20241127T193000
DTEND;TZID=Europe/Berlin:20241127T223000
SUMMARY:L2P1 Val-de-Ruz II vs Tramelan II (0)
UID:d7c18182-fa7e-48a5-8fa8-0935111212a7
STATUS:CONFIRMED
LAST-MODIFIED:20241129T081944Z
DESCRIPTION:2ème ligue phase 1\nBegegnungs-Nr: 0\nHeim: Val-de-Ruz II\nGast: Tramelan II\n\nAdresse: Rue de Chasseral 3\, 2053 Cernier\n
LOCATION:Rue de Chasseral 3\, 2053 Cernier
CATEGORIES:Saison 2024/25
END:VEVENT
BEGIN:VEVENT
DTSTAMP:20260419T214335Z
DTSTART;TZID=Europe/Berlin:20241023T200000
DTEND;TZID=Europe/Berlin:20241023T230000
SUMMARY:L2P1 La Chaux-de-Fonds II vs Tramelan II (0)
UID:34883b9c-ad14-4125-9c59-2ca2e8a272ae
STATUS:CONFIRMED
LAST-MODIFIED:20241025T144631Z
DESCRIPTION:2ème ligue phase 1\nBegegnungs-Nr: 0\nHeim: La Chaux-de-Fonds II\nGast: Tramelan II\n\nAdresse: Rue du Docteur-Kern 14\, 2300 La Chaux-de-Fonds\n
LOCATION:Rue du Docteur-Kern 14\, 2300 La Chaux-de-Fonds
CATEGORIES:Saison 2024/25
END:VEVENT
BEGIN:VEVENT
DTSTAMP:20260419T214335Z
DTSTART;TZID=Europe/Berlin:20250115T200000
DTEND;TZID=Europe/Berlin:20250115T230000
SUMMARY:L3P2 Tramelan III vs Tramelan II (0)
UID:a80fd933-7a01-44ae-a496-fad8d6cdd971
STATUS:CONFIRMED
LAST-MODIFIED:20250121T142551Z
DESCRIPTION:3ème ligue phase 2\nBegegnungs-Nr: 0\nHeim: Tramelan III\nGast: Tramelan II\n\nAdresse: Rue du Collège 13\, 2720 Tramelan\n
LOCATION:Rue du Collège 13\, 2720 Tramelan
CATEGORIES:Saison 2024/25
END:VEVENT
BEGIN:VEVENT
DTSTAMP:20260419T214335Z
DTSTART;TZID=Europe/Berlin:20250221T193000
DTEND;TZID=Europe/Berlin:20250221T223000
SUMMARY:L3P2 La Chaux-de-Fonds III vs Tramelan II (0)
UID:98dd0d9e-e891-45ef-b46a-12590b027cce
STATUS:CONFIRMED
LAST-MODIFIED:20250224T144106Z
DESCRIPTION:3ème ligue phase 2\nBegegnungs-Nr: 0\nHeim: La Chaux-de-Fonds III\nGast: Tramelan II\n\nAdresse: Rue du Docteur-Kern 14\, 2300 La Chaux-de-Fonds\n
LOCATION:Rue du Docteur-Kern 14\, 2300 La Chaux-de-Fonds
CATEGORIES:Saison 2024/25
END:VEVENT
BEGIN:VEVENT
DTSTAMP:20260419T214335Z
DTSTART;TZID=Europe/Berlin:20250402T200000
DTEND;TZID=Europe/Berlin:20250402T230000
SUMMARY:L3P2 Omega vs Tramelan II (0)
UID:90d99f80-e203-432f-8a6a-b86b49980b7f
STATUS:CONFIRMED
LAST-MODIFIED:20250404T042757Z
DESCRIPTION:3ème ligue phase 2\nBegegnungs-Nr: 0\nHeim: Omega\nGast: Tramelan II\n\nAdresse: Tennisweg 1\, 2504 Biel-Bienne\n
LOCATION:Tennisweg 1\, 2504 Biel-Bienne
CATEGORIES:Saison 2024/25
END:VEVENT
BEGIN:VEVENT
DTSTAMP:20260419T214335Z
DTSTART;TZID=Europe/Berlin:20250502T200000
DTEND;TZID=Europe/Berlin:20250502T230000
SUMMARY:L3P2 Moutier II vs Tramelan II (0)
UID:49fdf231-7ed1-4145-b88f-cc926d76f3b5
STATUS:CONFIRMED
LAST-MODIFIED:20250512T090527Z
DESCRIPTION:3ème ligue phase 2\nBegegnungs-Nr: 0\nHeim: Moutier II\nGast: Tramelan II\n\nAdresse: Place Beseran\, 2740 Moutier\n
LOCATION:Place Beseran\, 2740 Moutier
CATEGORIES:Saison 2024/25
END:VEVENT
END:VCALENDAR
