BEGIN:VCALENDAR
PRODID:-//nuDatenautomaten//framework iCal4j //DE
VERSION:2.0
CALSCALE:GREGORIAN
BEGIN:VTIMEZONE
TZID:Europe/Berlin
LAST-MODIFIED:20260306T231828Z
TZURL:https://www.tzurl.org/zoneinfo/Europe/Berlin
X-LIC-LOCATION:Europe/Berlin
X-PROLEPTIC-TZNAME:LMT
BEGIN:STANDARD
TZNAME:CET
TZOFFSETFROM:+005328
TZOFFSETTO:+0100
DTSTART:18930401T000000
END:STANDARD
BEGIN:DAYLIGHT
TZNAME:CEST
TZOFFSETFROM:+0100
TZOFFSETTO:+0200
DTSTART:19160430T230000
RDATE:19400401T020000
RDATE:19430329T020000
RDATE:19460414T020000
RDATE:19470406T030000
RDATE:19480418T020000
RDATE:19490410T020000
RDATE:19800406T020000
END:DAYLIGHT
BEGIN:STANDARD
TZNAME:CET
TZOFFSETFROM:+0200
TZOFFSETTO:+0100
DTSTART:19161001T010000
RDATE:19421102T030000
RDATE:19431004T030000
RDATE:19441002T030000
RDATE:19451118T030000
RDATE:19461007T030000
END:STANDARD
BEGIN:DAYLIGHT
TZNAME:CEST
TZOFFSETFROM:+0100
TZOFFSETTO:+0200
DTSTART:19170416T020000
RRULE:FREQ=YEARLY;UNTIL=19180415T010000Z;BYMONTH=4;BYDAY=3MO
END:DAYLIGHT
BEGIN:STANDARD
TZNAME:CET
TZOFFSETFROM:+0200
TZOFFSETTO:+0100
DTSTART:19170917T030000
RRULE:FREQ=YEARLY;UNTIL=19180916T010000Z;BYMONTH=9;BYDAY=3MO
END:STANDARD
BEGIN:DAYLIGHT
TZNAME:CEST
TZOFFSETFROM:+0100
TZOFFSETTO:+0200
DTSTART:19440403T020000
RRULE:FREQ=YEARLY;UNTIL=19450402T010000Z;BYMONTH=4;BYDAY=1MO
END:DAYLIGHT
BEGIN:DAYLIGHT
TZNAME:CEMT
TZOFFSETFROM:+0200
TZOFFSETTO:+0300
DTSTART:19450524T020000
RDATE:19470511T030000
END:DAYLIGHT
BEGIN:DAYLIGHT
TZNAME:CEST
TZOFFSETFROM:+0300
TZOFFSETTO:+0200
DTSTART:19450924T030000
RDATE:19470629T030000
END:DAYLIGHT
BEGIN:STANDARD
TZNAME:CET
TZOFFSETFROM:+0100
TZOFFSETTO:+0100
DTSTART:19460101T000000
RDATE:19800101T000000
END:STANDARD
BEGIN:STANDARD
TZNAME:CET
TZOFFSETFROM:+0200
TZOFFSETTO:+0100
DTSTART:19471005T030000
RRULE:FREQ=YEARLY;UNTIL=19491002T010000Z;BYMONTH=10;BYDAY=1SU
END:STANDARD
BEGIN:STANDARD
TZNAME:CET
TZOFFSETFROM:+0200
TZOFFSETTO:+0100
DTSTART:19800928T030000
RRULE:FREQ=YEARLY;UNTIL=19950924T010000Z;BYMONTH=9;BYDAY=-1SU
END:STANDARD
BEGIN:DAYLIGHT
TZNAME:CEST
TZOFFSETFROM:+0100
TZOFFSETTO:+0200
DTSTART:19810329T020000
RRULE:FREQ=YEARLY;BYMONTH=3;BYDAY=-1SU
END:DAYLIGHT
BEGIN:STANDARD
TZNAME:CET
TZOFFSETFROM:+0200
TZOFFSETTO:+0100
DTSTART:19961027T030000
RRULE:FREQ=YEARLY;BYMONTH=10;BYDAY=-1SU
END:STANDARD
END:VTIMEZONE
BEGIN:VEVENT
DTSTAMP:20260424T231841Z
DTSTART;TZID=Europe/Berlin:20250518T150000
DTEND;TZID=Europe/Berlin:20250518T180000
SUMMARY:STTL Men/HE NLB Auf/Ab Young Stars ZH vs Vevey (2)
UID:040fbabe-215f-4d7e-a772-7a4f62f8a515
STATUS:CONFIRMED
LAST-MODIFIED:20250604T112141Z
DESCRIPTION:Swiss Table Tennis League Men/Herren NLB Auf-/Abstiegsspiele	\nBegegnungs-Nr: 2\nHeim: Young Stars ZH\nGast: Vevey\n\nAdresse: Seefeldstrasse 93\, 8008 Zürich\n
LOCATION:Seefeldstrasse 93\, 8008 Zürich
CATEGORIES:Saison 2024/25
END:VEVENT
BEGIN:VEVENT
DTSTAMP:20260424T231841Z
DTSTART;TZID=Europe/Berlin:20250329T173000
DTEND;TZID=Europe/Berlin:20250329T203000
SUMMARY:STTL Men Young Stars ZH vs Rio-Star Muttenz (24)
UID:ef39874d-6faf-4f05-af65-b7f77d9a4292
STATUS:CONFIRMED
LAST-MODIFIED:20250403T092520Z
DESCRIPTION:Swiss Table Tennis League Men\nBegegnungs-Nr: 24\nHeim: Young Stars ZH\nGast: Rio-Star Muttenz\n\nAdresse: Seefeldstrasse 93\, 8008 Zürich\n
LOCATION:Seefeldstrasse 93\, 8008 Zürich
CATEGORIES:Saison 2024/25
END:VEVENT
BEGIN:VEVENT
DTSTAMP:20260424T231841Z
DTSTART;TZID=Europe/Berlin:20250302T120000
DTEND;TZID=Europe/Berlin:20250302T150000
SUMMARY:STTL Men Young Stars ZH vs Lugano (18)
UID:6798fbd2-9977-4b7f-8c63-fca526147cbb
STATUS:CONFIRMED
LAST-MODIFIED:20250303T062939Z
DESCRIPTION:Swiss Table Tennis League Men\nBegegnungs-Nr: 18\nHeim: Young Stars ZH\nGast: Lugano\n\nAdresse: Seefeldstrasse 93\, 8008 Zürich\n
LOCATION:Seefeldstrasse 93\, 8008 Zürich
CATEGORIES:Saison 2024/25
END:VEVENT
BEGIN:VEVENT
DTSTAMP:20260424T231841Z
DTSTART;TZID=Europe/Berlin:20241005T173000
DTEND;TZID=Europe/Berlin:20241005T203000
SUMMARY:STTL Men Young Stars ZH vs Meyrin (4)
UID:ba60f42f-4765-4785-9b9e-f6bdb8b7ce29
STATUS:CONFIRMED
LAST-MODIFIED:20241011T074525Z
DESCRIPTION:Swiss Table Tennis League Men\nBegegnungs-Nr: 4\nHeim: Young Stars ZH\nGast: Meyrin\n\nAdresse: Seefeldstrasse 93\, 8008 Zürich\n
LOCATION:Seefeldstrasse 93\, 8008 Zürich
CATEGORIES:Saison 2024/25
END:VEVENT
BEGIN:VEVENT
DTSTAMP:20260424T231841Z
DTSTART;TZID=Europe/Berlin:20241116T140000
DTEND;TZID=Europe/Berlin:20241116T170000
SUMMARY:STTL Men Young Stars ZH vs ZZ-Lancy (17)
UID:66d07e35-c107-461b-9938-07f0aec6c8ae
STATUS:CONFIRMED
LAST-MODIFIED:20241118T131517Z
DESCRIPTION:Swiss Table Tennis League Men\nBegegnungs-Nr: 17\nHeim: Young Stars ZH\nGast: ZZ-Lancy\n\nAdresse: Seefeldstrasse 93\, 8008 Zürich\n
LOCATION:Seefeldstrasse 93\, 8008 Zürich
CATEGORIES:Saison 2024/25
END:VEVENT
BEGIN:VEVENT
DTSTAMP:20260424T231841Z
DTSTART;TZID=Europe/Berlin:20241027T140000
DTEND;TZID=Europe/Berlin:20241027T170000
SUMMARY:STTL Men Young Stars ZH vs Neuhausen (15)
UID:0b4d44b3-9c4e-485e-8fed-ba4f0405bab5
STATUS:CONFIRMED
LAST-MODIFIED:20241031T085343Z
DESCRIPTION:Swiss Table Tennis League Men\nBegegnungs-Nr: 15\nHeim: Young Stars ZH\nGast: Neuhausen\n\nAdresse: Seefeldstrasse 93\, 8008 Zürich\n
LOCATION:Seefeldstrasse 93\, 8008 Zürich
CATEGORIES:Saison 2024/25
END:VEVENT
BEGIN:VEVENT
DTSTAMP:20260424T231841Z
DTSTART;TZID=Europe/Berlin:20241026T173000
DTEND;TZID=Europe/Berlin:20241026T203000
SUMMARY:STTL Men Young Stars ZH vs Rapperswil-Jona (10)
UID:93a8d11a-98b7-4ba3-89c0-614b1a9b8243
STATUS:CONFIRMED
LAST-MODIFIED:20241031T085419Z
DESCRIPTION:Swiss Table Tennis League Men\nBegegnungs-Nr: 10\nHeim: Young Stars ZH\nGast: Rapperswil-Jona\n\nAdresse: Seefeldstrasse 93\, 8008 Zürich\n
LOCATION:Seefeldstrasse 93\, 8008 Zürich
CATEGORIES:Saison 2024/25
END:VEVENT
BEGIN:VEVENT
DTSTAMP:20260424T231841Z
DTSTART;TZID=Europe/Berlin:20241117T120000
DTEND;TZID=Europe/Berlin:20241117T150000
SUMMARY:STTL Men Young Stars ZH vs Carouge (21)
UID:2d9adf2d-c5ea-4714-bfba-bc515b66c3c7
STATUS:CONFIRMED
LAST-MODIFIED:20241118T131624Z
DESCRIPTION:Swiss Table Tennis League Men\nBegegnungs-Nr: 21\nHeim: Young Stars ZH\nGast: Carouge\n\nAdresse: Seefeldstrasse 93\, 8008 Zürich\n
LOCATION:Seefeldstrasse 93\, 8008 Zürich
CATEGORIES:Saison 2024/25
END:VEVENT
BEGIN:VEVENT
DTSTAMP:20260424T231841Z
DTSTART;TZID=Europe/Berlin:20250413T140000
DTEND;TZID=Europe/Berlin:20250413T170000
SUMMARY:STTL Men Play-Out Young Stars ZH vs Rapperswil-Jona (3)
UID:d82a8284-6fb1-45a4-9901-a629a938363c
STATUS:CONFIRMED
LAST-MODIFIED:20250414T075357Z
DESCRIPTION:Swiss Table Tennis League Men Play-Out\nBegegnungs-Nr: 3\nHeim: Young Stars ZH\nGast: Rapperswil-Jona\n\nAdresse: Seefeldstrasse 93\, 8008 Zürich\n
LOCATION:Seefeldstrasse 93\, 8008 Zürich
CATEGORIES:Saison 2024/25
END:VEVENT
BEGIN:VEVENT
DTSTAMP:20260424T231841Z
DTSTART;TZID=Europe/Berlin:20250412T180000
DTEND;TZID=Europe/Berlin:20250412T210000
SUMMARY:STTL Men Play-Out Young Stars ZH vs Rapperswil-Jona (2)
UID:27b96e33-dffe-4798-b15c-8bf7481dfca1
STATUS:CONFIRMED
LAST-MODIFIED:20250414T075238Z
DESCRIPTION:Swiss Table Tennis League Men Play-Out\nBegegnungs-Nr: 2\nHeim: Young Stars ZH\nGast: Rapperswil-Jona\n\nAdresse: Seefeldstrasse 93\, 8008 Zürich\n
LOCATION:Seefeldstrasse 93\, 8008 Zürich
CATEGORIES:Saison 2024/25
END:VEVENT
BEGIN:VEVENT
DTSTAMP:20260424T231841Z
DTSTART;TZID=Europe/Berlin:20250516T190000
DTEND;TZID=Europe/Berlin:20250516T220000
SUMMARY:STTL Men/HE NLB Auf/Ab Vevey vs Young Stars ZH (1)
UID:73f605b5-8e5d-4b29-835b-91bdcb4ca4a2
STATUS:CONFIRMED
LAST-MODIFIED:20250604T112131Z
DESCRIPTION:Swiss Table Tennis League Men/Herren NLB Auf-/Abstiegsspiele	\nBegegnungs-Nr: 1\nHeim: Vevey\nGast: Young Stars ZH\n\nAdresse: Rue Louis-Meyer\, 1800 Vevey\n
LOCATION:Rue Louis-Meyer\, 1800 Vevey
CATEGORIES:Saison 2024/25
END:VEVENT
BEGIN:VEVENT
DTSTAMP:20260424T231841Z
DTSTART;TZID=Europe/Berlin:20241006T140000
DTEND;TZID=Europe/Berlin:20241006T170000
SUMMARY:STTL Men Lugano vs Young Stars ZH (6)
UID:b8e55862-5dd0-4108-94f5-8e6ebcde3d68
STATUS:CONFIRMED
LAST-MODIFIED:20241011T074536Z
DESCRIPTION:Swiss Table Tennis League Men\nBegegnungs-Nr: 6\nHeim: Lugano\nGast: Young Stars ZH\n\nAdresse: Via del Tiglio\, 6908 Cassarate\n
LOCATION:Via del Tiglio\, 6908 Cassarate
CATEGORIES:Saison 2024/25
END:VEVENT
BEGIN:VEVENT
DTSTAMP:20260424T231841Z
DTSTART;TZID=Europe/Berlin:20250111T150000
DTEND;TZID=Europe/Berlin:20250111T180000
SUMMARY:STTL Men ZZ-Lancy vs Young Stars ZH (5)
UID:ffa4a742-9053-49ce-86e4-82b1d86232c5
STATUS:CONFIRMED
LAST-MODIFIED:20250113T130857Z
DESCRIPTION:Swiss Table Tennis League Men\nBegegnungs-Nr: 5\nHeim: ZZ-Lancy\nGast: Young Stars ZH\n\nAdresse: Avenue du Curé-Baud 40\, 1212 Grand-Lancy\n
LOCATION:Avenue du Curé-Baud 40\, 1212 Grand-Lancy
CATEGORIES:Saison 2024/25
END:VEVENT
BEGIN:VEVENT
DTSTAMP:20260424T231841Z
DTSTART;TZID=Europe/Berlin:20241215T110000
DTEND;TZID=Europe/Berlin:20241215T140000
SUMMARY:STTL Men Neuhausen vs Young Stars ZH (3)
UID:7e34639b-d08f-42a7-8b5b-82b03e6808cb
STATUS:CONFIRMED
LAST-MODIFIED:20241218T172727Z
DESCRIPTION:Swiss Table Tennis League Men\nBegegnungs-Nr: 3\nHeim: Neuhausen\nGast: Young Stars ZH\n\nAdresse: Ebnatstrasse 35\, 8200 Schaffhausen\n
LOCATION:Ebnatstrasse 35\, 8200 Schaffhausen
CATEGORIES:Saison 2024/25
END:VEVENT
BEGIN:VEVENT
DTSTAMP:20260424T231841Z
DTSTART;TZID=Europe/Berlin:20250301T150000
DTEND;TZID=Europe/Berlin:20250301T180000
SUMMARY:STTL Men Meyrin vs Young Stars ZH (16)
UID:ac978a0f-f9ac-45cc-9098-2002c3fba493
STATUS:CONFIRMED
LAST-MODIFIED:20250303T062825Z
DESCRIPTION:Swiss Table Tennis League Men\nBegegnungs-Nr: 16\nHeim: Meyrin\nGast: Young Stars ZH\n\nAdresse: Rue De-Livron 2\, 1217 Meyrin\n
LOCATION:Rue De-Livron 2\, 1217 Meyrin
CATEGORIES:Saison 2024/25
END:VEVENT
BEGIN:VEVENT
DTSTAMP:20260424T231841Z
DTSTART;TZID=Europe/Berlin:20250330T140000
DTEND;TZID=Europe/Berlin:20250330T170000
SUMMARY:STTL Men Rapperswil-Jona vs Young Stars ZH (26)
UID:55064543-f8dc-4834-8964-70fe96015e8d
STATUS:CONFIRMED
LAST-MODIFIED:20250403T092503Z
DESCRIPTION:Swiss Table Tennis League Men\nBegegnungs-Nr: 26\nHeim: Rapperswil-Jona\nGast: Young Stars ZH\n\nAdresse: Kreuzstrasse 43\, 8640 Rapperswil\n
LOCATION:Kreuzstrasse 43\, 8640 Rapperswil
CATEGORIES:Saison 2024/25
END:VEVENT
BEGIN:VEVENT
DTSTAMP:20260424T231841Z
DTSTART;TZID=Europe/Berlin:20250112T150000
DTEND;TZID=Europe/Berlin:20250112T180000
SUMMARY:STTL Men Carouge vs Young Stars ZH (9)
UID:037d43aa-3997-450b-af55-30543b9f9c60
STATUS:CONFIRMED
LAST-MODIFIED:20250113T131203Z
DESCRIPTION:Swiss Table Tennis League Men\nBegegnungs-Nr: 9\nHeim: Carouge\nGast: Young Stars ZH\n\nAdresse: Route de Veyrier 44\, 1227 Carouge GE\n
LOCATION:Route de Veyrier 44\, 1227 Carouge GE
CATEGORIES:Saison 2024/25
END:VEVENT
BEGIN:VEVENT
DTSTAMP:20260424T231841Z
DTSTART;TZID=Europe/Berlin:20241214T140000
DTEND;TZID=Europe/Berlin:20241214T170000
SUMMARY:STTL Men Rio-Star Muttenz vs Young Stars ZH (28)
UID:aef92986-9ba9-4d24-8bd4-438564980db5
STATUS:CONFIRMED
LAST-MODIFIED:20241218T172703Z
DESCRIPTION:Swiss Table Tennis League Men\nBegegnungs-Nr: 28\nHeim: Rio-Star Muttenz\nGast: Young Stars ZH\n\nAdresse: Gründenstrasse 32\, 4132 Muttenz\n
LOCATION:Gründenstrasse 32\, 4132 Muttenz
CATEGORIES:Saison 2024/25
END:VEVENT
BEGIN:VEVENT
DTSTAMP:20260424T231841Z
DTSTART;TZID=Europe/Berlin:20250411T190000
DTEND;TZID=Europe/Berlin:20250411T220000
SUMMARY:STTL Men Play-Out Rapperswil-Jona vs Young Stars ZH (1)
UID:4d2663bc-711e-47b3-9296-0b26e65c6b8c
STATUS:CONFIRMED
LAST-MODIFIED:20250414T075211Z
DESCRIPTION:Swiss Table Tennis League Men Play-Out\nBegegnungs-Nr: 1\nHeim: Rapperswil-Jona\nGast: Young Stars ZH\n\nAdresse: Kreuzstrasse 43\, 8640 Rapperswil\n
LOCATION:Kreuzstrasse 43\, 8640 Rapperswil
CATEGORIES:Saison 2024/25
END:VEVENT
END:VCALENDAR
