BEGIN:VCALENDAR
PRODID:-//nuDatenautomaten//framework iCal4j //DE
VERSION:2.0
CALSCALE:GREGORIAN
BEGIN:VTIMEZONE
TZID:Europe/Berlin
LAST-MODIFIED:20260306T231828Z
TZURL:https://www.tzurl.org/zoneinfo/Europe/Berlin
X-LIC-LOCATION:Europe/Berlin
X-PROLEPTIC-TZNAME:LMT
BEGIN:STANDARD
TZNAME:CET
TZOFFSETFROM:+005328
TZOFFSETTO:+0100
DTSTART:18930401T000000
END:STANDARD
BEGIN:DAYLIGHT
TZNAME:CEST
TZOFFSETFROM:+0100
TZOFFSETTO:+0200
DTSTART:19160430T230000
RDATE:19400401T020000
RDATE:19430329T020000
RDATE:19460414T020000
RDATE:19470406T030000
RDATE:19480418T020000
RDATE:19490410T020000
RDATE:19800406T020000
END:DAYLIGHT
BEGIN:STANDARD
TZNAME:CET
TZOFFSETFROM:+0200
TZOFFSETTO:+0100
DTSTART:19161001T010000
RDATE:19421102T030000
RDATE:19431004T030000
RDATE:19441002T030000
RDATE:19451118T030000
RDATE:19461007T030000
END:STANDARD
BEGIN:DAYLIGHT
TZNAME:CEST
TZOFFSETFROM:+0100
TZOFFSETTO:+0200
DTSTART:19170416T020000
RRULE:FREQ=YEARLY;UNTIL=19180415T010000Z;BYMONTH=4;BYDAY=3MO
END:DAYLIGHT
BEGIN:STANDARD
TZNAME:CET
TZOFFSETFROM:+0200
TZOFFSETTO:+0100
DTSTART:19170917T030000
RRULE:FREQ=YEARLY;UNTIL=19180916T010000Z;BYMONTH=9;BYDAY=3MO
END:STANDARD
BEGIN:DAYLIGHT
TZNAME:CEST
TZOFFSETFROM:+0100
TZOFFSETTO:+0200
DTSTART:19440403T020000
RRULE:FREQ=YEARLY;UNTIL=19450402T010000Z;BYMONTH=4;BYDAY=1MO
END:DAYLIGHT
BEGIN:DAYLIGHT
TZNAME:CEMT
TZOFFSETFROM:+0200
TZOFFSETTO:+0300
DTSTART:19450524T020000
RDATE:19470511T030000
END:DAYLIGHT
BEGIN:DAYLIGHT
TZNAME:CEST
TZOFFSETFROM:+0300
TZOFFSETTO:+0200
DTSTART:19450924T030000
RDATE:19470629T030000
END:DAYLIGHT
BEGIN:STANDARD
TZNAME:CET
TZOFFSETFROM:+0100
TZOFFSETTO:+0100
DTSTART:19460101T000000
RDATE:19800101T000000
END:STANDARD
BEGIN:STANDARD
TZNAME:CET
TZOFFSETFROM:+0200
TZOFFSETTO:+0100
DTSTART:19471005T030000
RRULE:FREQ=YEARLY;UNTIL=19491002T010000Z;BYMONTH=10;BYDAY=1SU
END:STANDARD
BEGIN:STANDARD
TZNAME:CET
TZOFFSETFROM:+0200
TZOFFSETTO:+0100
DTSTART:19800928T030000
RRULE:FREQ=YEARLY;UNTIL=19950924T010000Z;BYMONTH=9;BYDAY=-1SU
END:STANDARD
BEGIN:DAYLIGHT
TZNAME:CEST
TZOFFSETFROM:+0100
TZOFFSETTO:+0200
DTSTART:19810329T020000
RRULE:FREQ=YEARLY;BYMONTH=3;BYDAY=-1SU
END:DAYLIGHT
BEGIN:STANDARD
TZNAME:CET
TZOFFSETFROM:+0200
TZOFFSETTO:+0100
DTSTART:19961027T030000
RRULE:FREQ=YEARLY;BYMONTH=10;BYDAY=-1SU
END:STANDARD
END:VTIMEZONE
BEGIN:VEVENT
DTSTAMP:20260425T005112Z
DTSTART;TZID=Europe/Berlin:20241108T201500
DTEND;TZID=Europe/Berlin:20241108T231500
SUMMARY:HE 4. Liga Gr. 6 Flums IV vs Affoltern A/A IV (0)
UID:9b558e1a-ed9d-46f9-b5ab-11a6d7f90514
STATUS:CONFIRMED
LAST-MODIFIED:20241114T074327Z
DESCRIPTION:4. Liga Herren Gruppe 6\nBegegnungs-Nr: 0\nHeim: Flums IV\nGast: Affoltern A/A IV\n\nAdresse: Bahnhofstrasse 23\, 8890 Flums\n
LOCATION:Bahnhofstrasse 23\, 8890 Flums
CATEGORIES:Saison 2024/25
END:VEVENT
BEGIN:VEVENT
DTSTAMP:20260425T005112Z
DTSTART;TZID=Europe/Berlin:20240920T201500
DTEND;TZID=Europe/Berlin:20240920T231500
SUMMARY:HE 4. Liga Gr. 6 Flums IV vs Sihltal (0)
UID:1c854032-2a5c-496e-8d4e-a504a0eb1aa4
STATUS:CONFIRMED
LAST-MODIFIED:20240926T114011Z
DESCRIPTION:4. Liga Herren Gruppe 6\nBegegnungs-Nr: 0\nHeim: Flums IV\nGast: Sihltal\n\nAdresse: Bahnhofstrasse 23\, 8890 Flums\n
LOCATION:Bahnhofstrasse 23\, 8890 Flums
CATEGORIES:Saison 2024/25
END:VEVENT
BEGIN:VEVENT
DTSTAMP:20260425T005112Z
DTSTART;TZID=Europe/Berlin:20240830T201500
DTEND;TZID=Europe/Berlin:20240830T231500
SUMMARY:HE 4. Liga Gr. 6 Flums IV vs Thalwil II (0)
UID:f4b0122b-a6f5-4d19-809f-df2d0e62edf1
STATUS:CONFIRMED
LAST-MODIFIED:20240904T103015Z
DESCRIPTION:4. Liga Herren Gruppe 6\nBegegnungs-Nr: 0\nHeim: Flums IV\nGast: Thalwil II\n\nAdresse: Bahnhofstrasse 23\, 8890 Flums\n
LOCATION:Bahnhofstrasse 23\, 8890 Flums
CATEGORIES:Saison 2024/25
END:VEVENT
BEGIN:VEVENT
DTSTAMP:20260425T005112Z
DTSTART;TZID=Europe/Berlin:20250328T201500
DTEND;TZID=Europe/Berlin:20250328T231500
SUMMARY:HE 4. Liga Gr. 6 Flums IV vs BW-Wollishofen II (0)
UID:96d08db5-6f5f-41dc-9c15-dbbae194440a
STATUS:CONFIRMED
LAST-MODIFIED:20250404T083041Z
DESCRIPTION:4. Liga Herren Gruppe 6\nBegegnungs-Nr: 0\nHeim: Flums IV\nGast: BW-Wollishofen II\n\nAdresse: Bahnhofstrasse 23\, 8890 Flums\n
LOCATION:Bahnhofstrasse 23\, 8890 Flums
CATEGORIES:Saison 2024/25
END:VEVENT
BEGIN:VEVENT
DTSTAMP:20260425T005112Z
DTSTART;TZID=Europe/Berlin:20250221T201500
DTEND;TZID=Europe/Berlin:20250221T231500
SUMMARY:HE 4. Liga Gr. 6 Flums IV vs Wettswil (0)
UID:7fdcb80f-ef51-4437-8faa-4906502cd349
STATUS:CONFIRMED
LAST-MODIFIED:20250227T112644Z
DESCRIPTION:4. Liga Herren Gruppe 6\nBegegnungs-Nr: 0\nHeim: Flums IV\nGast: Wettswil\n\nAdresse: Bahnhofstrasse 23\, 8890 Flums\n
LOCATION:Bahnhofstrasse 23\, 8890 Flums
CATEGORIES:Saison 2024/25
END:VEVENT
BEGIN:VEVENT
DTSTAMP:20260425T005112Z
DTSTART;TZID=Europe/Berlin:20250214T201500
DTEND;TZID=Europe/Berlin:20250214T231500
SUMMARY:HE 4. Liga Gr. 6 Flums IV vs Urdorf II (0)
UID:4113e6e2-cf04-4c5f-9f90-f17864ee288c
STATUS:CONFIRMED
LAST-MODIFIED:20250219T113037Z
DESCRIPTION:4. Liga Herren Gruppe 6\nBegegnungs-Nr: 0\nHeim: Flums IV\nGast: Urdorf II\n\nAdresse: Bahnhofstrasse 23\, 8890 Flums\n
LOCATION:Bahnhofstrasse 23\, 8890 Flums
CATEGORIES:Saison 2024/25
END:VEVENT
BEGIN:VEVENT
DTSTAMP:20260425T005112Z
DTSTART;TZID=Europe/Berlin:20250124T201500
DTEND;TZID=Europe/Berlin:20250124T231500
SUMMARY:HE 4. Liga Gr. 6 Flums IV vs Wädenswil V (0)
UID:2a4a1a99-7881-44c8-a172-789f81abd209
STATUS:CONFIRMED
LAST-MODIFIED:20250129T123829Z
DESCRIPTION:4. Liga Herren Gruppe 6\nBegegnungs-Nr: 0\nHeim: Flums IV\nGast: Wädenswil V\n\nAdresse: Bahnhofstrasse 23\, 8890 Flums\n
LOCATION:Bahnhofstrasse 23\, 8890 Flums
CATEGORIES:Saison 2024/25
END:VEVENT
BEGIN:VEVENT
DTSTAMP:20260425T005112Z
DTSTART;TZID=Europe/Berlin:20241204T200000
DTEND;TZID=Europe/Berlin:20241204T230000
SUMMARY:HE 4. Liga Gr. 6 BW-Wollishofen II vs Flums IV (0)
UID:8aabde33-3955-49fc-812b-fdd2801be1b7
STATUS:CONFIRMED
LAST-MODIFIED:20241205T124632Z
DESCRIPTION:4. Liga Herren Gruppe 6\nBegegnungs-Nr: 0\nHeim: BW-Wollishofen II\nGast: Flums IV\n\nAdresse: Kilchbergstr. 28\, 8038 Zürich\n
LOCATION:Kilchbergstr. 28\, 8038 Zürich
CATEGORIES:Saison 2024/25
END:VEVENT
BEGIN:VEVENT
DTSTAMP:20260425T005112Z
DTSTART;TZID=Europe/Berlin:20241029T194500
DTEND;TZID=Europe/Berlin:20241029T224500
SUMMARY:HE 4. Liga Gr. 6 Wettswil vs Flums IV (0)
UID:a95b1bde-9e6d-4ada-af21-b5013b900f9b
STATUS:CONFIRMED
LAST-MODIFIED:20241030T104313Z
DESCRIPTION:4. Liga Herren Gruppe 6\nBegegnungs-Nr: 0\nHeim: Wettswil\nGast: Flums IV\n\nAdresse: Hirsächersteig\, 8907 Wettswil\n
LOCATION:Hirsächersteig\, 8907 Wettswil
CATEGORIES:Saison 2024/25
END:VEVENT
BEGIN:VEVENT
DTSTAMP:20260425T005112Z
DTSTART;TZID=Europe/Berlin:20240925T201500
DTEND;TZID=Europe/Berlin:20240925T231500
SUMMARY:HE 4. Liga Gr. 6 Urdorf II vs Flums IV (0)
UID:3a3086ef-2f1e-44c7-a5f8-d969439a1375
STATUS:CONFIRMED
LAST-MODIFIED:20240926T114033Z
DESCRIPTION:4. Liga Herren Gruppe 6\nBegegnungs-Nr: 0\nHeim: Urdorf II\nGast: Flums IV\n\nAdresse: Weihermattstrasse 50\, 8902 Urdorf\n
LOCATION:Weihermattstrasse 50\, 8902 Urdorf
CATEGORIES:Saison 2024/25
END:VEVENT
BEGIN:VEVENT
DTSTAMP:20260425T005112Z
DTSTART;TZID=Europe/Berlin:20240905T200000
DTEND;TZID=Europe/Berlin:20240905T230000
SUMMARY:HE 4. Liga Gr. 6 Wädenswil V vs Flums IV (0)
UID:7fb311ee-2db6-4a1f-b293-965d8b6bf2f5
STATUS:CONFIRMED
LAST-MODIFIED:20240906T095839Z
DESCRIPTION:4. Liga Herren Gruppe 6\nBegegnungs-Nr: 0\nHeim: Wädenswil V\nGast: Flums IV\n\nAdresse: Fuhrstrasse 16b\, 8820 Wädenswil\n
LOCATION:Fuhrstrasse 16b\, 8820 Wädenswil
CATEGORIES:Saison 2024/25
END:VEVENT
BEGIN:VEVENT
DTSTAMP:20260425T005112Z
DTSTART;TZID=Europe/Berlin:20250314T200000
DTEND;TZID=Europe/Berlin:20250314T230000
SUMMARY:HE 4. Liga Gr. 6 Affoltern A/A IV vs Flums IV (0)
UID:2e5f95d9-f09f-47dd-b8f9-65b170f68ac6
STATUS:CONFIRMED
LAST-MODIFIED:20250319T094335Z
DESCRIPTION:4. Liga Herren Gruppe 6\nBegegnungs-Nr: 0\nHeim: Affoltern A/A IV\nGast: Flums IV\n\nAdresse: Butzenstr. 2\, 8910 Affoltern am Albis\n
LOCATION:Butzenstr. 2\, 8910 Affoltern am Albis
CATEGORIES:Saison 2024/25
END:VEVENT
BEGIN:VEVENT
DTSTAMP:20260425T005112Z
DTSTART;TZID=Europe/Berlin:20250318T201500
DTEND;TZID=Europe/Berlin:20250318T231500
SUMMARY:HE 4. Liga Gr. 6 Sihltal vs Flums IV (0)
UID:aeaffc94-56a7-4acb-8d89-56611c145452
STATUS:CONFIRMED
LAST-MODIFIED:20250319T094346Z
DESCRIPTION:4. Liga Herren Gruppe 6\nBegegnungs-Nr: 0\nHeim: Sihltal\nGast: Flums IV\n\nAdresse: In der Schwerzi 4\, 8135 Langnau a/A\n
LOCATION:In der Schwerzi 4\, 8135 Langnau a/A
CATEGORIES:Saison 2024/25
END:VEVENT
BEGIN:VEVENT
DTSTAMP:20260425T005112Z
DTSTART;TZID=Europe/Berlin:20250108T201500
DTEND;TZID=Europe/Berlin:20250108T231500
SUMMARY:HE 4. Liga Gr. 6 Thalwil II vs Flums IV (0)
UID:9d6ba38d-1f18-4e0d-8817-2fa78798c19b
STATUS:CONFIRMED
LAST-MODIFIED:20250110T151129Z
DESCRIPTION:4. Liga Herren Gruppe 6\nBegegnungs-Nr: 0\nHeim: Thalwil II\nGast: Flums IV\n\nAdresse: Bergstrasse 2\, 8800 Thalwil\n
LOCATION:Bergstrasse 2\, 8800 Thalwil
CATEGORIES:Saison 2024/25
END:VEVENT
END:VCALENDAR
