BEGIN:VCALENDAR
PRODID:-//nuDatenautomaten//framework iCal4j //DE
VERSION:2.0
CALSCALE:GREGORIAN
BEGIN:VTIMEZONE
TZID:Europe/Berlin
LAST-MODIFIED:20260306T231828Z
TZURL:https://www.tzurl.org/zoneinfo/Europe/Berlin
X-LIC-LOCATION:Europe/Berlin
X-PROLEPTIC-TZNAME:LMT
BEGIN:STANDARD
TZNAME:CET
TZOFFSETFROM:+005328
TZOFFSETTO:+0100
DTSTART:18930401T000000
END:STANDARD
BEGIN:DAYLIGHT
TZNAME:CEST
TZOFFSETFROM:+0100
TZOFFSETTO:+0200
DTSTART:19160430T230000
RDATE:19400401T020000
RDATE:19430329T020000
RDATE:19460414T020000
RDATE:19470406T030000
RDATE:19480418T020000
RDATE:19490410T020000
RDATE:19800406T020000
END:DAYLIGHT
BEGIN:STANDARD
TZNAME:CET
TZOFFSETFROM:+0200
TZOFFSETTO:+0100
DTSTART:19161001T010000
RDATE:19421102T030000
RDATE:19431004T030000
RDATE:19441002T030000
RDATE:19451118T030000
RDATE:19461007T030000
END:STANDARD
BEGIN:DAYLIGHT
TZNAME:CEST
TZOFFSETFROM:+0100
TZOFFSETTO:+0200
DTSTART:19170416T020000
RRULE:FREQ=YEARLY;UNTIL=19180415T010000Z;BYMONTH=4;BYDAY=3MO
END:DAYLIGHT
BEGIN:STANDARD
TZNAME:CET
TZOFFSETFROM:+0200
TZOFFSETTO:+0100
DTSTART:19170917T030000
RRULE:FREQ=YEARLY;UNTIL=19180916T010000Z;BYMONTH=9;BYDAY=3MO
END:STANDARD
BEGIN:DAYLIGHT
TZNAME:CEST
TZOFFSETFROM:+0100
TZOFFSETTO:+0200
DTSTART:19440403T020000
RRULE:FREQ=YEARLY;UNTIL=19450402T010000Z;BYMONTH=4;BYDAY=1MO
END:DAYLIGHT
BEGIN:DAYLIGHT
TZNAME:CEMT
TZOFFSETFROM:+0200
TZOFFSETTO:+0300
DTSTART:19450524T020000
RDATE:19470511T030000
END:DAYLIGHT
BEGIN:DAYLIGHT
TZNAME:CEST
TZOFFSETFROM:+0300
TZOFFSETTO:+0200
DTSTART:19450924T030000
RDATE:19470629T030000
END:DAYLIGHT
BEGIN:STANDARD
TZNAME:CET
TZOFFSETFROM:+0100
TZOFFSETTO:+0100
DTSTART:19460101T000000
RDATE:19800101T000000
END:STANDARD
BEGIN:STANDARD
TZNAME:CET
TZOFFSETFROM:+0200
TZOFFSETTO:+0100
DTSTART:19471005T030000
RRULE:FREQ=YEARLY;UNTIL=19491002T010000Z;BYMONTH=10;BYDAY=1SU
END:STANDARD
BEGIN:STANDARD
TZNAME:CET
TZOFFSETFROM:+0200
TZOFFSETTO:+0100
DTSTART:19800928T030000
RRULE:FREQ=YEARLY;UNTIL=19950924T010000Z;BYMONTH=9;BYDAY=-1SU
END:STANDARD
BEGIN:DAYLIGHT
TZNAME:CEST
TZOFFSETFROM:+0100
TZOFFSETTO:+0200
DTSTART:19810329T020000
RRULE:FREQ=YEARLY;BYMONTH=3;BYDAY=-1SU
END:DAYLIGHT
BEGIN:STANDARD
TZNAME:CET
TZOFFSETFROM:+0200
TZOFFSETTO:+0100
DTSTART:19961027T030000
RRULE:FREQ=YEARLY;BYMONTH=10;BYDAY=-1SU
END:STANDARD
END:VTIMEZONE
BEGIN:VEVENT
DTSTAMP:20260424T231841Z
DTSTART;TZID=Europe/Berlin:20250406T150000
DTEND;TZID=Europe/Berlin:20250406T180000
SUMMARY:HE NLC Gr. 1 Carouge II vs Vevey II (26)
UID:8dcd9387-8490-448f-b1af-e63404c50953
STATUS:CONFIRMED
LAST-MODIFIED:20250408T102137Z
DESCRIPTION:Herren Nationalliga C Gruppe 1\nBegegnungs-Nr: 26\nHeim: Carouge II\nGast: Vevey II\n\nAdresse: Route de Veyrier 44\, 1227 Carouge GE\n
LOCATION:Route de Veyrier 44\, 1227 Carouge GE
CATEGORIES:Saison 2024/25
END:VEVENT
BEGIN:VEVENT
DTSTAMP:20260424T231841Z
DTSTART;TZID=Europe/Berlin:20250403T194500
DTEND;TZID=Europe/Berlin:20250403T224500
SUMMARY:HE NLC Gr. 1 Carouge II vs Lausanne (22)
UID:80c4b6f8-161f-472f-85bd-087cba1cad6b
STATUS:CONFIRMED
LAST-MODIFIED:20250408T102036Z
DESCRIPTION:Herren Nationalliga C Gruppe 1\nBegegnungs-Nr: 22\nHeim: Carouge II\nGast: Lausanne\n\nAdresse: Route de Veyrier 44\, 1227 Carouge GE\n
LOCATION:Route de Veyrier 44\, 1227 Carouge GE
CATEGORIES:Saison 2024/25
END:VEVENT
BEGIN:VEVENT
DTSTAMP:20260424T231841Z
DTSTART;TZID=Europe/Berlin:20250116T194500
DTEND;TZID=Europe/Berlin:20250116T224500
SUMMARY:HE NLC Gr. 1 Carouge II vs Meyrin II (2)
UID:cbff9577-ee0f-4bfa-a77e-4ea180e3ff6b
STATUS:CONFIRMED
LAST-MODIFIED:20250117T085936Z
DESCRIPTION:Herren Nationalliga C Gruppe 1\nBegegnungs-Nr: 2\nHeim: Carouge II\nGast: Meyrin II\n\nAdresse: Route de Veyrier 44\, 1227 Carouge GE\n
LOCATION:Route de Veyrier 44\, 1227 Carouge GE
CATEGORIES:Saison 2024/25
END:VEVENT
BEGIN:VEVENT
DTSTAMP:20260424T231841Z
DTSTART;TZID=Europe/Berlin:20250213T194500
DTEND;TZID=Europe/Berlin:20250213T224500
SUMMARY:HE NLC Gr. 1 Carouge II vs UGS-Chênois II (10)
UID:fb5aed01-4139-48ed-b148-32289dd1e704
STATUS:CONFIRMED
LAST-MODIFIED:20250217T143453Z
DESCRIPTION:Herren Nationalliga C Gruppe 1\nBegegnungs-Nr: 10\nHeim: Carouge II\nGast: UGS-Chênois II\n\nAdresse: Route de Veyrier 44\, 1227 Carouge GE\n
LOCATION:Route de Veyrier 44\, 1227 Carouge GE
CATEGORIES:Saison 2024/25
END:VEVENT
BEGIN:VEVENT
DTSTAMP:20260424T231841Z
DTSTART;TZID=Europe/Berlin:20250130T194500
DTEND;TZID=Europe/Berlin:20250130T224500
SUMMARY:HE NLC Gr. 1 Carouge II vs ZZ-Lancy III (5)
UID:377dc384-f03c-4ad6-b798-37f13f106c6e
STATUS:CONFIRMED
LAST-MODIFIED:20250203T092444Z
DESCRIPTION:Herren Nationalliga C Gruppe 1\nBegegnungs-Nr: 5\nHeim: Carouge II\nGast: ZZ-Lancy III\n\nAdresse: Route de Veyrier 44\, 1227 Carouge GE\n
LOCATION:Route de Veyrier 44\, 1227 Carouge GE
CATEGORIES:Saison 2024/25
END:VEVENT
BEGIN:VEVENT
DTSTAMP:20260424T231841Z
DTSTART;TZID=Europe/Berlin:20240912T194500
DTEND;TZID=Europe/Berlin:20240912T224500
SUMMARY:HE NLC Gr. 1 Carouge II vs Mandement (3)
UID:6b4d1697-f643-4e7a-ac40-8028834427bf
STATUS:CONFIRMED
LAST-MODIFIED:20240926T072404Z
DESCRIPTION:Herren Nationalliga C Gruppe 1\nBegegnungs-Nr: 3\nHeim: Carouge II\nGast: Mandement\n\nAdresse: Route de Veyrier 44\, 1227 Carouge GE\n
LOCATION:Route de Veyrier 44\, 1227 Carouge GE
CATEGORIES:Saison 2024/25
END:VEVENT
BEGIN:VEVENT
DTSTAMP:20260424T231841Z
DTSTART;TZID=Europe/Berlin:20241017T194500
DTEND;TZID=Europe/Berlin:20241017T224500
SUMMARY:HE NLC Gr. 1 Carouge II vs Bernex (9)
UID:fccf31f0-e458-41f6-95cb-fbc9e1932939
STATUS:CONFIRMED
LAST-MODIFIED:20241021T101359Z
DESCRIPTION:Herren Nationalliga C Gruppe 1\nBegegnungs-Nr: 9\nHeim: Carouge II\nGast: Bernex\n\nAdresse: Route de Veyrier 44\, 1227 Carouge GE\n
LOCATION:Route de Veyrier 44\, 1227 Carouge GE
CATEGORIES:Saison 2024/25
END:VEVENT
BEGIN:VEVENT
DTSTAMP:20260424T231841Z
DTSTART;TZID=Europe/Berlin:20241107T194500
DTEND;TZID=Europe/Berlin:20241107T224500
SUMMARY:HE NLC Gr. 1 Carouge II vs Meyrin II (18)
UID:d178cca2-fe66-4c36-a5b5-c6f9bcff5723
STATUS:CONFIRMED
LAST-MODIFIED:20241108T121836Z
DESCRIPTION:Herren Nationalliga C Gruppe 1\nBegegnungs-Nr: 18\nHeim: Carouge II\nGast: Meyrin II\n\nAdresse: Route de Veyrier 44\, 1227 Carouge GE\n
LOCATION:Route de Veyrier 44\, 1227 Carouge GE
CATEGORIES:Saison 2024/25
END:VEVENT
BEGIN:VEVENT
DTSTAMP:20260424T231841Z
DTSTART;TZID=Europe/Berlin:20250413T150000
DTEND;TZID=Europe/Berlin:20250413T180000
SUMMARY:HE NLC Play-Off 1/4-Final Carouge II vs Heimberg (6)
UID:009ad2dc-86b2-427e-a67c-efe2d4a7491e
STATUS:CONFIRMED
LAST-MODIFIED:20250415T122421Z
DESCRIPTION:Herren Nationalliga C Play-Off 1/4-Final\nBegegnungs-Nr: 6\nHeim: Carouge II\nGast: Heimberg\n\nAdresse: Route de Veyrier 44\, 1227 Carouge GE\n
LOCATION:Route de Veyrier 44\, 1227 Carouge GE
CATEGORIES:Saison 2024/25
END:VEVENT
BEGIN:VEVENT
DTSTAMP:20260424T231841Z
DTSTART;TZID=Europe/Berlin:20250510T000000
DTEND;TZID=Europe/Berlin:20250510T030000
SUMMARY:HE NLC Play-Off 1/2-Final Carouge II vs Mandement (3)
UID:159336f3-92a4-45d2-a9b9-93f36e0568c2
STATUS:CONFIRMED
LAST-MODIFIED:20250502T105754Z
DESCRIPTION:Herren Nationalliga C Play-Off 1/2-Final\nBegegnungs-Nr: 3\nHeim: Carouge II\nGast: Mandement\n
LOCATION:
CATEGORIES:Saison 2024/25
END:VEVENT
BEGIN:VEVENT
DTSTAMP:20260424T231841Z
DTSTART;TZID=Europe/Berlin:20250301T160000
DTEND;TZID=Europe/Berlin:20250301T190000
SUMMARY:HE NLC Gr. 1 Bernex vs Carouge II (13)
UID:6de70969-3c07-4ed6-8bf8-a499ee924aa2
STATUS:CONFIRMED
LAST-MODIFIED:20250303T065440Z
DESCRIPTION:Herren Nationalliga C Gruppe 1\nBegegnungs-Nr: 13\nHeim: Bernex\nGast: Carouge II\n\nAdresse: Chemin de Saule 120\, 1233 Bernex\n
LOCATION:Chemin de Saule 120\, 1233 Bernex
CATEGORIES:Saison 2024/25
END:VEVENT
BEGIN:VEVENT
DTSTAMP:20260424T231841Z
DTSTART;TZID=Europe/Berlin:20250314T200000
DTEND;TZID=Europe/Berlin:20250314T230000
SUMMARY:HE NLC Gr. 1 Mandement vs Carouge II (19)
UID:c894dfa1-d312-4244-953b-6e1c2eb34130
STATUS:CONFIRMED
LAST-MODIFIED:20250318T120752Z
DESCRIPTION:Herren Nationalliga C Gruppe 1\nBegegnungs-Nr: 19\nHeim: Mandement\nGast: Carouge II\n\nAdresse: Route de la Gare de Satigny 27A\, 1242 Satigny\n
LOCATION:Route de la Gare de Satigny 27A\, 1242 Satigny
CATEGORIES:Saison 2024/25
END:VEVENT
BEGIN:VEVENT
DTSTAMP:20260424T231841Z
DTSTART;TZID=Europe/Berlin:20240929T140000
DTEND;TZID=Europe/Berlin:20240929T170000
SUMMARY:HE NLC Gr. 1 Vevey II vs Carouge II (6)
UID:ee76ed15-2bac-49fa-ba2d-930738d50a7b
STATUS:CONFIRMED
LAST-MODIFIED:20241001T072325Z
DESCRIPTION:Herren Nationalliga C Gruppe 1\nBegegnungs-Nr: 6\nHeim: Vevey II\nGast: Carouge II\n\nAdresse: Rue Louis-Meyer\, 1800 Vevey\n
LOCATION:Rue Louis-Meyer\, 1800 Vevey
CATEGORIES:Saison 2024/25
END:VEVENT
BEGIN:VEVENT
DTSTAMP:20260424T231841Z
DTSTART;TZID=Europe/Berlin:20241208T150000
DTEND;TZID=Europe/Berlin:20241208T180000
SUMMARY:HE NLC Gr. 1 ZZ-Lancy III vs Carouge II (25)
UID:50358b26-a00c-4749-9cda-01e47bca242e
STATUS:CONFIRMED
LAST-MODIFIED:20241209T111733Z
DESCRIPTION:Herren Nationalliga C Gruppe 1\nBegegnungs-Nr: 25\nHeim: ZZ-Lancy III\nGast: Carouge II\n\nAdresse: Avenue du Curé-Baud 40\, 1212 Grand-Lancy\n
LOCATION:Avenue du Curé-Baud 40\, 1212 Grand-Lancy
CATEGORIES:Saison 2024/25
END:VEVENT
BEGIN:VEVENT
DTSTAMP:20260424T231841Z
DTSTART;TZID=Europe/Berlin:20241116T170000
DTEND;TZID=Europe/Berlin:20241116T200000
SUMMARY:HE NLC Gr. 1 UGS-Chênois II vs Carouge II (22)
UID:2fbe5988-b0d2-49c0-a15b-8542312c222f
STATUS:CONFIRMED
LAST-MODIFIED:20241118T111827Z
DESCRIPTION:Herren Nationalliga C Gruppe 1\nBegegnungs-Nr: 22\nHeim: UGS-Chênois II\nGast: Carouge II\n\nAdresse: Route de Frontenex 68\, 1208 Genève\n
LOCATION:Route de Frontenex 68\, 1208 Genève
CATEGORIES:Saison 2024/25
END:VEVENT
BEGIN:VEVENT
DTSTAMP:20260424T231841Z
DTSTART;TZID=Europe/Berlin:20241026T150000
DTEND;TZID=Europe/Berlin:20241026T180000
SUMMARY:HE NLC Gr. 1 Lausanne vs Carouge II (14)
UID:5f24e7d9-5bfd-4480-acc3-4620895e300c
STATUS:CONFIRMED
LAST-MODIFIED:20241031T083021Z
DESCRIPTION:Herren Nationalliga C Gruppe 1\nBegegnungs-Nr: 14\nHeim: Lausanne\nGast: Carouge II\n\nAdresse: Vaudoise Aréna\, Ch. du Viaduc 14\, 1008 Prilly\n
LOCATION:Vaudoise Aréna\, Ch. du Viaduc 14\, 1008 Prilly
CATEGORIES:Saison 2024/25
END:VEVENT
BEGIN:VEVENT
DTSTAMP:20260424T231841Z
DTSTART;TZID=Europe/Berlin:20250412T160000
DTEND;TZID=Europe/Berlin:20250412T190000
SUMMARY:HE NLC Play-Off 1/4-Final Heimberg vs Carouge II (2)
UID:d15c3554-8599-48d4-bb43-0626455baecd
STATUS:CONFIRMED
LAST-MODIFIED:20250415T122504Z
DESCRIPTION:Herren Nationalliga C Play-Off 1/4-Final\nBegegnungs-Nr: 2\nHeim: Heimberg\nGast: Carouge II\n\nAdresse: Niesenstrasse 38\, 3627 Heimberg\n
LOCATION:Niesenstrasse 38\, 3627 Heimberg
CATEGORIES:Saison 2024/25
END:VEVENT
BEGIN:VEVENT
DTSTAMP:20260424T231841Z
DTSTART;TZID=Europe/Berlin:20250509T000000
DTEND;TZID=Europe/Berlin:20250509T030000
SUMMARY:HE NLC Play-Off 1/2-Final Mandement vs Carouge II (1)
UID:1bacd806-cebe-478e-9f8f-4102584e4be9
STATUS:CONFIRMED
LAST-MODIFIED:20250502T105807Z
DESCRIPTION:Herren Nationalliga C Play-Off 1/2-Final\nBegegnungs-Nr: 1\nHeim: Mandement\nGast: Carouge II\n
LOCATION:
CATEGORIES:Saison 2024/25
END:VEVENT
END:VCALENDAR
