BEGIN:VCALENDAR
PRODID:-//nuDatenautomaten//framework iCal4j //DE
VERSION:2.0
CALSCALE:GREGORIAN
BEGIN:VTIMEZONE
TZID:Europe/Berlin
LAST-MODIFIED:20260306T231828Z
TZURL:https://www.tzurl.org/zoneinfo/Europe/Berlin
X-LIC-LOCATION:Europe/Berlin
X-PROLEPTIC-TZNAME:LMT
BEGIN:STANDARD
TZNAME:CET
TZOFFSETFROM:+005328
TZOFFSETTO:+0100
DTSTART:18930401T000000
END:STANDARD
BEGIN:DAYLIGHT
TZNAME:CEST
TZOFFSETFROM:+0100
TZOFFSETTO:+0200
DTSTART:19160430T230000
RDATE:19400401T020000
RDATE:19430329T020000
RDATE:19460414T020000
RDATE:19470406T030000
RDATE:19480418T020000
RDATE:19490410T020000
RDATE:19800406T020000
END:DAYLIGHT
BEGIN:STANDARD
TZNAME:CET
TZOFFSETFROM:+0200
TZOFFSETTO:+0100
DTSTART:19161001T010000
RDATE:19421102T030000
RDATE:19431004T030000
RDATE:19441002T030000
RDATE:19451118T030000
RDATE:19461007T030000
END:STANDARD
BEGIN:DAYLIGHT
TZNAME:CEST
TZOFFSETFROM:+0100
TZOFFSETTO:+0200
DTSTART:19170416T020000
RRULE:FREQ=YEARLY;UNTIL=19180415T010000Z;BYMONTH=4;BYDAY=3MO
END:DAYLIGHT
BEGIN:STANDARD
TZNAME:CET
TZOFFSETFROM:+0200
TZOFFSETTO:+0100
DTSTART:19170917T030000
RRULE:FREQ=YEARLY;UNTIL=19180916T010000Z;BYMONTH=9;BYDAY=3MO
END:STANDARD
BEGIN:DAYLIGHT
TZNAME:CEST
TZOFFSETFROM:+0100
TZOFFSETTO:+0200
DTSTART:19440403T020000
RRULE:FREQ=YEARLY;UNTIL=19450402T010000Z;BYMONTH=4;BYDAY=1MO
END:DAYLIGHT
BEGIN:DAYLIGHT
TZNAME:CEMT
TZOFFSETFROM:+0200
TZOFFSETTO:+0300
DTSTART:19450524T020000
RDATE:19470511T030000
END:DAYLIGHT
BEGIN:DAYLIGHT
TZNAME:CEST
TZOFFSETFROM:+0300
TZOFFSETTO:+0200
DTSTART:19450924T030000
RDATE:19470629T030000
END:DAYLIGHT
BEGIN:STANDARD
TZNAME:CET
TZOFFSETFROM:+0100
TZOFFSETTO:+0100
DTSTART:19460101T000000
RDATE:19800101T000000
END:STANDARD
BEGIN:STANDARD
TZNAME:CET
TZOFFSETFROM:+0200
TZOFFSETTO:+0100
DTSTART:19471005T030000
RRULE:FREQ=YEARLY;UNTIL=19491002T010000Z;BYMONTH=10;BYDAY=1SU
END:STANDARD
BEGIN:STANDARD
TZNAME:CET
TZOFFSETFROM:+0200
TZOFFSETTO:+0100
DTSTART:19800928T030000
RRULE:FREQ=YEARLY;UNTIL=19950924T010000Z;BYMONTH=9;BYDAY=-1SU
END:STANDARD
BEGIN:DAYLIGHT
TZNAME:CEST
TZOFFSETFROM:+0100
TZOFFSETTO:+0200
DTSTART:19810329T020000
RRULE:FREQ=YEARLY;BYMONTH=3;BYDAY=-1SU
END:DAYLIGHT
BEGIN:STANDARD
TZNAME:CET
TZOFFSETFROM:+0200
TZOFFSETTO:+0100
DTSTART:19961027T030000
RRULE:FREQ=YEARLY;BYMONTH=10;BYDAY=-1SU
END:STANDARD
END:VTIMEZONE
BEGIN:VEVENT
DTSTAMP:20260425T005106Z
DTSTART;TZID=Europe/Berlin:20241106T201500
DTEND;TZID=Europe/Berlin:20241106T231500
SUMMARY:HE 4. Liga Gr. 2 Ettenhausen II vs Gossau St.Gallen (0)
UID:f67501d2-5206-465a-b3d4-d26cd8fef069
STATUS:CONFIRMED
LAST-MODIFIED:20241108T134540Z
DESCRIPTION:4. Liga Herren Gruppe 2\nBegegnungs-Nr: 0\nHeim: Ettenhausen II\nGast: Gossau St.Gallen\n\nAdresse: Weidlistrasse 12\, 8356 Ettenhausen\n
LOCATION:Weidlistrasse 12\, 8356 Ettenhausen
CATEGORIES:Saison 2024/25
END:VEVENT
BEGIN:VEVENT
DTSTAMP:20260425T005106Z
DTSTART;TZID=Europe/Berlin:20240918T201500
DTEND;TZID=Europe/Berlin:20240918T231500
SUMMARY:HE 4. Liga Gr. 2 Ettenhausen II vs Weinfelden II (0)
UID:6be836d8-f7fc-4813-b1eb-e181eba9c63f
STATUS:CONFIRMED
LAST-MODIFIED:20240919T151133Z
DESCRIPTION:4. Liga Herren Gruppe 2\nBegegnungs-Nr: 0\nHeim: Ettenhausen II\nGast: Weinfelden II\n\nAdresse: Weidlistrasse 12\, 8356 Ettenhausen\n
LOCATION:Weidlistrasse 12\, 8356 Ettenhausen
CATEGORIES:Saison 2024/25
END:VEVENT
BEGIN:VEVENT
DTSTAMP:20260425T005106Z
DTSTART;TZID=Europe/Berlin:20240904T201500
DTEND;TZID=Europe/Berlin:20240904T231500
SUMMARY:HE 4. Liga Gr. 2 Ettenhausen II vs Wil SG IV (0)
UID:9d1912b1-e9ab-4a60-b765-80c5caa67db1
STATUS:CONFIRMED
LAST-MODIFIED:20240905T062937Z
DESCRIPTION:4. Liga Herren Gruppe 2\nBegegnungs-Nr: 0\nHeim: Ettenhausen II\nGast: Wil SG IV\n\nAdresse: Weidlistrasse 12\, 8356 Ettenhausen\n
LOCATION:Weidlistrasse 12\, 8356 Ettenhausen
CATEGORIES:Saison 2024/25
END:VEVENT
BEGIN:VEVENT
DTSTAMP:20260425T005106Z
DTSTART;TZID=Europe/Berlin:20250326T201500
DTEND;TZID=Europe/Berlin:20250326T231500
SUMMARY:HE 4. Liga Gr. 2 Ettenhausen II vs Bronschhofen III (0)
UID:577ccf2c-6fc1-48df-9c55-49fdbba87f7b
STATUS:CONFIRMED
LAST-MODIFIED:20250327T133543Z
DESCRIPTION:4. Liga Herren Gruppe 2\nBegegnungs-Nr: 0\nHeim: Ettenhausen II\nGast: Bronschhofen III\n\nAdresse: Weidlistrasse 12\, 8356 Ettenhausen\n
LOCATION:Weidlistrasse 12\, 8356 Ettenhausen
CATEGORIES:Saison 2024/25
END:VEVENT
BEGIN:VEVENT
DTSTAMP:20260425T005106Z
DTSTART;TZID=Europe/Berlin:20250305T201500
DTEND;TZID=Europe/Berlin:20250305T231500
SUMMARY:HE 4. Liga Gr. 2 Ettenhausen II vs Steckborn-Homburg III (0)
UID:777065e1-411f-4f47-b55d-4584032e6970
STATUS:CONFIRMED
LAST-MODIFIED:20250308T110147Z
DESCRIPTION:4. Liga Herren Gruppe 2\nBegegnungs-Nr: 0\nHeim: Ettenhausen II\nGast: Steckborn-Homburg III\n\nAdresse: Weidlistrasse 12\, 8356 Ettenhausen\n
LOCATION:Weidlistrasse 12\, 8356 Ettenhausen
CATEGORIES:Saison 2024/25
END:VEVENT
BEGIN:VEVENT
DTSTAMP:20260425T005106Z
DTSTART;TZID=Europe/Berlin:20250205T201500
DTEND;TZID=Europe/Berlin:20250205T231500
SUMMARY:HE 4. Liga Gr. 2 Ettenhausen II vs Winterthur IV (0)
UID:8afa0d24-e978-4692-8b9d-f5afd87089ce
STATUS:CONFIRMED
LAST-MODIFIED:20250206T140708Z
DESCRIPTION:4. Liga Herren Gruppe 2\nBegegnungs-Nr: 0\nHeim: Ettenhausen II\nGast: Winterthur IV\n\nAdresse: Weidlistrasse 12\, 8356 Ettenhausen\n
LOCATION:Weidlistrasse 12\, 8356 Ettenhausen
CATEGORIES:Saison 2024/25
END:VEVENT
BEGIN:VEVENT
DTSTAMP:20260425T005106Z
DTSTART;TZID=Europe/Berlin:20250108T201500
DTEND;TZID=Europe/Berlin:20250108T231500
SUMMARY:HE 4. Liga Gr. 2 Ettenhausen II vs Wuppenau II (0)
UID:e0c6e2a5-7225-4c5e-9e23-13c3a5ceb1bc
STATUS:CONFIRMED
LAST-MODIFIED:20250110T150939Z
DESCRIPTION:4. Liga Herren Gruppe 2\nBegegnungs-Nr: 0\nHeim: Ettenhausen II\nGast: Wuppenau II\n\nAdresse: Weidlistrasse 12\, 8356 Ettenhausen\n
LOCATION:Weidlistrasse 12\, 8356 Ettenhausen
CATEGORIES:Saison 2024/25
END:VEVENT
BEGIN:VEVENT
DTSTAMP:20260425T005106Z
DTSTART;TZID=Europe/Berlin:20250506T201500
DTEND;TZID=Europe/Berlin:20250506T231500
SUMMARY:HE 4.Liga Abstieg St. Gallen VI vs Ettenhausen II (411)
UID:4ae76e3d-376d-4caf-9b58-042d23fdbd1f
STATUS:CONFIRMED
LAST-MODIFIED:20250508T082233Z
DESCRIPTION:4. Liga Herren Abstieg\nBegegnungs-Nr: 411\nHeim: St. Gallen VI\nGast: Ettenhausen II\n
LOCATION:
CATEGORIES:Saison 2024/25
END:VEVENT
BEGIN:VEVENT
DTSTAMP:20260425T005106Z
DTSTART;TZID=Europe/Berlin:20241202T200000
DTEND;TZID=Europe/Berlin:20241202T230000
SUMMARY:HE 4. Liga Gr. 2 Bronschhofen III vs Ettenhausen II (0)
UID:a7d70bd7-2b45-4df8-9a10-0a0fca8fae1e
STATUS:CONFIRMED
LAST-MODIFIED:20241205T124453Z
DESCRIPTION:4. Liga Herren Gruppe 2\nBegegnungs-Nr: 0\nHeim: Bronschhofen III\nGast: Ettenhausen II\n\nAdresse: Schulstrasse 6\, 9552 Bronschhofen\n
LOCATION:Schulstrasse 6\, 9552 Bronschhofen
CATEGORIES:Saison 2024/25
END:VEVENT
BEGIN:VEVENT
DTSTAMP:20260425T005106Z
DTSTART;TZID=Europe/Berlin:20241030T200000
DTEND;TZID=Europe/Berlin:20241030T230000
SUMMARY:HE 4. Liga Gr. 2 Steckborn-Homburg III vs Ettenhausen II (0)
UID:7284ac77-9874-47b3-8263-399d614e03d3
STATUS:CONFIRMED
LAST-MODIFIED:20241108T134518Z
DESCRIPTION:4. Liga Herren Gruppe 2\nBegegnungs-Nr: 0\nHeim: Steckborn-Homburg III\nGast: Ettenhausen II\n\nAdresse: Schulstrasse 4\, 8508 Unterhörstetten\n
LOCATION:Schulstrasse 4\, 8508 Unterhörstetten
CATEGORIES:Saison 2024/25
END:VEVENT
BEGIN:VEVENT
DTSTAMP:20260425T005106Z
DTSTART;TZID=Europe/Berlin:20240919T200000
DTEND;TZID=Europe/Berlin:20240919T230000
SUMMARY:HE 4. Liga Gr. 2 Winterthur IV vs Ettenhausen II (0)
UID:dde4e0ab-f746-4049-82e7-30f493355286
STATUS:CONFIRMED
LAST-MODIFIED:20240920T135816Z
DESCRIPTION:4. Liga Herren Gruppe 2\nBegegnungs-Nr: 0\nHeim: Winterthur IV\nGast: Ettenhausen II\n\nAdresse: Buchackerstrasse 54\, 8400 Winterthur\n
LOCATION:Buchackerstrasse 54\, 8400 Winterthur
CATEGORIES:Saison 2024/25
END:VEVENT
BEGIN:VEVENT
DTSTAMP:20260425T005106Z
DTSTART;TZID=Europe/Berlin:20240823T200000
DTEND;TZID=Europe/Berlin:20240823T230000
SUMMARY:HE 4. Liga Gr. 2 Wuppenau II vs Ettenhausen II (0)
UID:ccf104bb-1de6-4c63-a01f-5f018a94f986
STATUS:CONFIRMED
LAST-MODIFIED:20240828T083650Z
DESCRIPTION:4. Liga Herren Gruppe 2\nBegegnungs-Nr: 0\nHeim: Wuppenau II\nGast: Ettenhausen II\n\nAdresse: Nollenstrasse\, 9514 Wuppenau\n
LOCATION:Nollenstrasse\, 9514 Wuppenau
CATEGORIES:Saison 2024/25
END:VEVENT
BEGIN:VEVENT
DTSTAMP:20260425T005106Z
DTSTART;TZID=Europe/Berlin:20250310T200000
DTEND;TZID=Europe/Berlin:20250310T230000
SUMMARY:HE 4. Liga Gr. 2 Gossau St.Gallen vs Ettenhausen II (0)
UID:1abe2fbc-a8b7-40b5-bb6e-d2f28ccb7612
STATUS:CONFIRMED
LAST-MODIFIED:20250311T151946Z
DESCRIPTION:4. Liga Herren Gruppe 2\nBegegnungs-Nr: 0\nHeim: Gossau St.Gallen\nGast: Ettenhausen II\n\nAdresse: Falkenstrasse 21\, 9200 Gossau\n
LOCATION:Falkenstrasse 21\, 9200 Gossau
CATEGORIES:Saison 2024/25
END:VEVENT
BEGIN:VEVENT
DTSTAMP:20260425T005106Z
DTSTART;TZID=Europe/Berlin:20250213T200000
DTEND;TZID=Europe/Berlin:20250213T230000
SUMMARY:HE 4. Liga Gr. 2 Weinfelden II vs Ettenhausen II (0)
UID:a7b596cd-56b9-4ff8-aa0d-c6c7952c4e7d
STATUS:CONFIRMED
LAST-MODIFIED:20250219T112940Z
DESCRIPTION:4. Liga Herren Gruppe 2\nBegegnungs-Nr: 0\nHeim: Weinfelden II\nGast: Ettenhausen II\n\nAdresse: Bleichestrasse 3 (neben Hallenbad)\, 8570 Weinfelden\n
LOCATION:Bleichestrasse 3 (neben Hallenbad)\, 8570 Weinfelden
CATEGORIES:Saison 2024/25
END:VEVENT
BEGIN:VEVENT
DTSTAMP:20260425T005106Z
DTSTART;TZID=Europe/Berlin:20250121T201500
DTEND;TZID=Europe/Berlin:20250121T231500
SUMMARY:HE 4. Liga Gr. 2 Wil SG IV vs Ettenhausen II (0)
UID:cbb9d383-d8f7-46ae-b640-be144342aa1f
STATUS:CONFIRMED
LAST-MODIFIED:20250123T073534Z
DESCRIPTION:4. Liga Herren Gruppe 2\nBegegnungs-Nr: 0\nHeim: Wil SG IV\nGast: Ettenhausen II\n\nAdresse: Lindenhofstr. 23\, 9500 Wil\n
LOCATION:Lindenhofstr. 23\, 9500 Wil
CATEGORIES:Saison 2024/25
END:VEVENT
END:VCALENDAR
