BEGIN:VCALENDAR
PRODID:-//nuDatenautomaten//framework iCal4j //DE
VERSION:2.0
CALSCALE:GREGORIAN
BEGIN:VTIMEZONE
TZID:Europe/Berlin
LAST-MODIFIED:20260306T231828Z
TZURL:https://www.tzurl.org/zoneinfo/Europe/Berlin
X-LIC-LOCATION:Europe/Berlin
X-PROLEPTIC-TZNAME:LMT
BEGIN:STANDARD
TZNAME:CET
TZOFFSETFROM:+005328
TZOFFSETTO:+0100
DTSTART:18930401T000000
END:STANDARD
BEGIN:DAYLIGHT
TZNAME:CEST
TZOFFSETFROM:+0100
TZOFFSETTO:+0200
DTSTART:19160430T230000
RDATE:19400401T020000
RDATE:19430329T020000
RDATE:19460414T020000
RDATE:19470406T030000
RDATE:19480418T020000
RDATE:19490410T020000
RDATE:19800406T020000
END:DAYLIGHT
BEGIN:STANDARD
TZNAME:CET
TZOFFSETFROM:+0200
TZOFFSETTO:+0100
DTSTART:19161001T010000
RDATE:19421102T030000
RDATE:19431004T030000
RDATE:19441002T030000
RDATE:19451118T030000
RDATE:19461007T030000
END:STANDARD
BEGIN:DAYLIGHT
TZNAME:CEST
TZOFFSETFROM:+0100
TZOFFSETTO:+0200
DTSTART:19170416T020000
RRULE:FREQ=YEARLY;UNTIL=19180415T010000Z;BYMONTH=4;BYDAY=3MO
END:DAYLIGHT
BEGIN:STANDARD
TZNAME:CET
TZOFFSETFROM:+0200
TZOFFSETTO:+0100
DTSTART:19170917T030000
RRULE:FREQ=YEARLY;UNTIL=19180916T010000Z;BYMONTH=9;BYDAY=3MO
END:STANDARD
BEGIN:DAYLIGHT
TZNAME:CEST
TZOFFSETFROM:+0100
TZOFFSETTO:+0200
DTSTART:19440403T020000
RRULE:FREQ=YEARLY;UNTIL=19450402T010000Z;BYMONTH=4;BYDAY=1MO
END:DAYLIGHT
BEGIN:DAYLIGHT
TZNAME:CEMT
TZOFFSETFROM:+0200
TZOFFSETTO:+0300
DTSTART:19450524T020000
RDATE:19470511T030000
END:DAYLIGHT
BEGIN:DAYLIGHT
TZNAME:CEST
TZOFFSETFROM:+0300
TZOFFSETTO:+0200
DTSTART:19450924T030000
RDATE:19470629T030000
END:DAYLIGHT
BEGIN:STANDARD
TZNAME:CET
TZOFFSETFROM:+0100
TZOFFSETTO:+0100
DTSTART:19460101T000000
RDATE:19800101T000000
END:STANDARD
BEGIN:STANDARD
TZNAME:CET
TZOFFSETFROM:+0200
TZOFFSETTO:+0100
DTSTART:19471005T030000
RRULE:FREQ=YEARLY;UNTIL=19491002T010000Z;BYMONTH=10;BYDAY=1SU
END:STANDARD
BEGIN:STANDARD
TZNAME:CET
TZOFFSETFROM:+0200
TZOFFSETTO:+0100
DTSTART:19800928T030000
RRULE:FREQ=YEARLY;UNTIL=19950924T010000Z;BYMONTH=9;BYDAY=-1SU
END:STANDARD
BEGIN:DAYLIGHT
TZNAME:CEST
TZOFFSETFROM:+0100
TZOFFSETTO:+0200
DTSTART:19810329T020000
RRULE:FREQ=YEARLY;BYMONTH=3;BYDAY=-1SU
END:DAYLIGHT
BEGIN:STANDARD
TZNAME:CET
TZOFFSETFROM:+0200
TZOFFSETTO:+0100
DTSTART:19961027T030000
RRULE:FREQ=YEARLY;BYMONTH=10;BYDAY=-1SU
END:STANDARD
END:VTIMEZONE
BEGIN:VEVENT
DTSTAMP:20260425T004242Z
DTSTART;TZID=Europe/Berlin:20241204T193000
DTEND;TZID=Europe/Berlin:20241204T223000
SUMMARY:O40 1. Liga Gr. 1 Niederhasli vs Gaiserwald (0)
UID:a806fccb-18ae-41b9-a825-d57307f5e4c5
STATUS:CONFIRMED
LAST-MODIFIED:20241205T130040Z
DESCRIPTION: 1. Liga O40 Gruppe 1\nBegegnungs-Nr: 0\nHeim: Niederhasli\nGast: Gaiserwald\n\nAdresse: Dorfstrasse 22\, 8155 Niederhasli\n
LOCATION:Dorfstrasse 22\, 8155 Niederhasli
CATEGORIES:Saison 2024/25
END:VEVENT
BEGIN:VEVENT
DTSTAMP:20260425T004242Z
DTSTART;TZID=Europe/Berlin:20241122T193000
DTEND;TZID=Europe/Berlin:20241122T223000
SUMMARY:O40 1. Liga Gr. 1 Niederhasli vs Wetzikon (0)
UID:7e75d28f-4ead-4fe5-a598-43672759ad4d
STATUS:CONFIRMED
LAST-MODIFIED:20241126T090810Z
DESCRIPTION: 1. Liga O40 Gruppe 1\nBegegnungs-Nr: 0\nHeim: Niederhasli\nGast: Wetzikon\n\nAdresse: Dorfstrasse 22\, 8155 Niederhasli\n
LOCATION:Dorfstrasse 22\, 8155 Niederhasli
CATEGORIES:Saison 2024/25
END:VEVENT
BEGIN:VEVENT
DTSTAMP:20260425T004242Z
DTSTART;TZID=Europe/Berlin:20240913T193000
DTEND;TZID=Europe/Berlin:20240913T223000
SUMMARY:O40 1. Liga Gr. 1 Niederhasli vs Zürich-Affoltern (0)
UID:42f68746-c16f-4104-a3f5-9cba8038d25a
STATUS:CONFIRMED
LAST-MODIFIED:20240917T072623Z
DESCRIPTION: 1. Liga O40 Gruppe 1\nBegegnungs-Nr: 0\nHeim: Niederhasli\nGast: Zürich-Affoltern\n\nAdresse: Dorfstrasse 22\, 8155 Niederhasli\n
LOCATION:Dorfstrasse 22\, 8155 Niederhasli
CATEGORIES:Saison 2024/25
END:VEVENT
BEGIN:VEVENT
DTSTAMP:20260425T004242Z
DTSTART;TZID=Europe/Berlin:20250402T193000
DTEND;TZID=Europe/Berlin:20250402T223000
SUMMARY:O40 1. Liga Gr. 1 Niederhasli vs Romanshorn (0)
UID:c362b4d3-4fd0-44dc-a021-66e59c02b647
STATUS:CONFIRMED
LAST-MODIFIED:20250404T083813Z
DESCRIPTION: 1. Liga O40 Gruppe 1\nBegegnungs-Nr: 0\nHeim: Niederhasli\nGast: Romanshorn\n\nAdresse: Dorfstrasse 22\, 8155 Niederhasli\n
LOCATION:Dorfstrasse 22\, 8155 Niederhasli
CATEGORIES:Saison 2024/25
END:VEVENT
BEGIN:VEVENT
DTSTAMP:20260425T004242Z
DTSTART;TZID=Europe/Berlin:20250321T193000
DTEND;TZID=Europe/Berlin:20250321T223000
SUMMARY:O40 1. Liga Gr. 1 Niederhasli vs Chur (0)
UID:e45b04c9-3665-48bd-84dd-602d305f786b
STATUS:CONFIRMED
LAST-MODIFIED:20250327T134622Z
DESCRIPTION: 1. Liga O40 Gruppe 1\nBegegnungs-Nr: 0\nHeim: Niederhasli\nGast: Chur\n\nAdresse: Dorfstrasse 22\, 8155 Niederhasli\n
LOCATION:Dorfstrasse 22\, 8155 Niederhasli
CATEGORIES:Saison 2024/25
END:VEVENT
BEGIN:VEVENT
DTSTAMP:20260425T004242Z
DTSTART;TZID=Europe/Berlin:20250227T200000
DTEND;TZID=Europe/Berlin:20250227T230000
SUMMARY:O40 1. Liga Gr. 1 Niederhasli vs Wädenswil (0)
UID:d60eebd4-fec2-4827-8432-6d74e4160df1
STATUS:CONFIRMED
LAST-MODIFIED:20250228T145637Z
DESCRIPTION: 1. Liga O40 Gruppe 1\nBegegnungs-Nr: 0\nHeim: Niederhasli\nGast: Wädenswil\n\nAdresse: Dorfstrasse 22\, 8155 Niederhasli\n
LOCATION:Dorfstrasse 22\, 8155 Niederhasli
CATEGORIES:Saison 2024/25
END:VEVENT
BEGIN:VEVENT
DTSTAMP:20260425T004242Z
DTSTART;TZID=Europe/Berlin:20241129T201500
DTEND;TZID=Europe/Berlin:20241129T231500
SUMMARY:O40 1. Liga Gr. 1 Romanshorn vs Niederhasli (0)
UID:06555347-5e8b-4e9b-aca0-ac2155f47d2d
STATUS:CONFIRMED
LAST-MODIFIED:20241205T130030Z
DESCRIPTION: 1. Liga O40 Gruppe 1\nBegegnungs-Nr: 0\nHeim: Romanshorn\nGast: Niederhasli\n\nAdresse: Florastrasse\, 8590 Romanshorn\n
LOCATION:Florastrasse\, 8590 Romanshorn
CATEGORIES:Saison 2024/25
END:VEVENT
BEGIN:VEVENT
DTSTAMP:20260425T004242Z
DTSTART;TZID=Europe/Berlin:20241024T200000
DTEND;TZID=Europe/Berlin:20241024T230000
SUMMARY:O40 1. Liga Gr. 1 Chur vs Niederhasli (0)
UID:cc688933-fe7a-4e7d-a75a-4e87371d1257
STATUS:CONFIRMED
LAST-MODIFIED:20241030T131205Z
DESCRIPTION: 1. Liga O40 Gruppe 1\nBegegnungs-Nr: 0\nHeim: Chur\nGast: Niederhasli\n\nAdresse: Sandstr. 35\, 7000 Chur\n
LOCATION:Sandstr. 35\, 7000 Chur
CATEGORIES:Saison 2024/25
END:VEVENT
BEGIN:VEVENT
DTSTAMP:20260425T004242Z
DTSTART;TZID=Europe/Berlin:20240822T200000
DTEND;TZID=Europe/Berlin:20240822T230000
SUMMARY:O40 1. Liga Gr. 1 Wädenswil vs Niederhasli (0)
UID:ae7d708d-63fb-4586-b3ed-68a6a50c28d5
STATUS:CONFIRMED
LAST-MODIFIED:20240828T085058Z
DESCRIPTION: 1. Liga O40 Gruppe 1\nBegegnungs-Nr: 0\nHeim: Wädenswil\nGast: Niederhasli\n\nAdresse: Speerstrasse 95\, 8820 Wädenswil\n
LOCATION:Speerstrasse 95\, 8820 Wädenswil
CATEGORIES:Saison 2024/25
END:VEVENT
BEGIN:VEVENT
DTSTAMP:20260425T004242Z
DTSTART;TZID=Europe/Berlin:20250218T200000
DTEND;TZID=Europe/Berlin:20250218T230000
SUMMARY:O40 1. Liga Gr. 1 Gaiserwald vs Niederhasli (0)
UID:358403e8-ac3e-494c-9126-51d97b8c57f5
STATUS:CONFIRMED
LAST-MODIFIED:20250227T113054Z
DESCRIPTION: 1. Liga O40 Gruppe 1\nBegegnungs-Nr: 0\nHeim: Gaiserwald\nGast: Niederhasli\n\nAdresse: Sonnenbergstrasse 15\, 9030 Abtwil\n
LOCATION:Sonnenbergstrasse 15\, 9030 Abtwil
CATEGORIES:Saison 2024/25
END:VEVENT
BEGIN:VEVENT
DTSTAMP:20260425T004242Z
DTSTART;TZID=Europe/Berlin:20250404T194500
DTEND;TZID=Europe/Berlin:20250404T224500
SUMMARY:O40 1. Liga Gr. 1 Wetzikon vs Niederhasli (0)
UID:7b550fe9-f1ae-4398-913a-25cd55fccb65
STATUS:CONFIRMED
LAST-MODIFIED:20250407T122953Z
DESCRIPTION: 1. Liga O40 Gruppe 1\nBegegnungs-Nr: 0\nHeim: Wetzikon\nGast: Niederhasli\n\nAdresse: Usterstrasse 37\, 8620 Wetzikon\n
LOCATION:Usterstrasse 37\, 8620 Wetzikon
CATEGORIES:Saison 2024/25
END:VEVENT
BEGIN:VEVENT
DTSTAMP:20260425T004242Z
DTSTART;TZID=Europe/Berlin:20250228T201500
DTEND;TZID=Europe/Berlin:20250228T231500
SUMMARY:O40 1. Liga Gr. 1 Zürich-Affoltern vs Niederhasli (0)
UID:97bd17e1-7e5a-49f9-93b9-db7669d96f9a
STATUS:CONFIRMED
LAST-MODIFIED:20250306T143142Z
DESCRIPTION: 1. Liga O40 Gruppe 1\nBegegnungs-Nr: 0\nHeim: Zürich-Affoltern\nGast: Niederhasli\n
LOCATION:
CATEGORIES:Saison 2024/25
END:VEVENT
END:VCALENDAR
