BEGIN:VCALENDAR
PRODID:-//nuDatenautomaten//framework iCal4j //DE
VERSION:2.0
CALSCALE:GREGORIAN
BEGIN:VTIMEZONE
TZID:Europe/Berlin
LAST-MODIFIED:20260306T231828Z
TZURL:https://www.tzurl.org/zoneinfo/Europe/Berlin
X-LIC-LOCATION:Europe/Berlin
X-PROLEPTIC-TZNAME:LMT
BEGIN:STANDARD
TZNAME:CET
TZOFFSETFROM:+005328
TZOFFSETTO:+0100
DTSTART:18930401T000000
END:STANDARD
BEGIN:DAYLIGHT
TZNAME:CEST
TZOFFSETFROM:+0100
TZOFFSETTO:+0200
DTSTART:19160430T230000
RDATE:19400401T020000
RDATE:19430329T020000
RDATE:19460414T020000
RDATE:19470406T030000
RDATE:19480418T020000
RDATE:19490410T020000
RDATE:19800406T020000
END:DAYLIGHT
BEGIN:STANDARD
TZNAME:CET
TZOFFSETFROM:+0200
TZOFFSETTO:+0100
DTSTART:19161001T010000
RDATE:19421102T030000
RDATE:19431004T030000
RDATE:19441002T030000
RDATE:19451118T030000
RDATE:19461007T030000
END:STANDARD
BEGIN:DAYLIGHT
TZNAME:CEST
TZOFFSETFROM:+0100
TZOFFSETTO:+0200
DTSTART:19170416T020000
RRULE:FREQ=YEARLY;UNTIL=19180415T010000Z;BYMONTH=4;BYDAY=3MO
END:DAYLIGHT
BEGIN:STANDARD
TZNAME:CET
TZOFFSETFROM:+0200
TZOFFSETTO:+0100
DTSTART:19170917T030000
RRULE:FREQ=YEARLY;UNTIL=19180916T010000Z;BYMONTH=9;BYDAY=3MO
END:STANDARD
BEGIN:DAYLIGHT
TZNAME:CEST
TZOFFSETFROM:+0100
TZOFFSETTO:+0200
DTSTART:19440403T020000
RRULE:FREQ=YEARLY;UNTIL=19450402T010000Z;BYMONTH=4;BYDAY=1MO
END:DAYLIGHT
BEGIN:DAYLIGHT
TZNAME:CEMT
TZOFFSETFROM:+0200
TZOFFSETTO:+0300
DTSTART:19450524T020000
RDATE:19470511T030000
END:DAYLIGHT
BEGIN:DAYLIGHT
TZNAME:CEST
TZOFFSETFROM:+0300
TZOFFSETTO:+0200
DTSTART:19450924T030000
RDATE:19470629T030000
END:DAYLIGHT
BEGIN:STANDARD
TZNAME:CET
TZOFFSETFROM:+0100
TZOFFSETTO:+0100
DTSTART:19460101T000000
RDATE:19800101T000000
END:STANDARD
BEGIN:STANDARD
TZNAME:CET
TZOFFSETFROM:+0200
TZOFFSETTO:+0100
DTSTART:19471005T030000
RRULE:FREQ=YEARLY;UNTIL=19491002T010000Z;BYMONTH=10;BYDAY=1SU
END:STANDARD
BEGIN:STANDARD
TZNAME:CET
TZOFFSETFROM:+0200
TZOFFSETTO:+0100
DTSTART:19800928T030000
RRULE:FREQ=YEARLY;UNTIL=19950924T010000Z;BYMONTH=9;BYDAY=-1SU
END:STANDARD
BEGIN:DAYLIGHT
TZNAME:CEST
TZOFFSETFROM:+0100
TZOFFSETTO:+0200
DTSTART:19810329T020000
RRULE:FREQ=YEARLY;BYMONTH=3;BYDAY=-1SU
END:DAYLIGHT
BEGIN:STANDARD
TZNAME:CET
TZOFFSETFROM:+0200
TZOFFSETTO:+0100
DTSTART:19961027T030000
RRULE:FREQ=YEARLY;BYMONTH=10;BYDAY=-1SU
END:STANDARD
END:VTIMEZONE
BEGIN:VEVENT
DTSTAMP:20260425T020448Z
DTSTART;TZID=Europe/Berlin:20241118T194500
DTEND;TZID=Europe/Berlin:20241118T224500
SUMMARY:Ligue 1 Ph.A Châtelaine vs Mandement II (37)
UID:e509c06a-ab10-42d0-bbe6-965682bb0da7
STATUS:CONFIRMED
LAST-MODIFIED:20241119T100322Z
DESCRIPTION:1ère ligue Homme Gr. unique Phase A\nBegegnungs-Nr: 37\nHeim: Châtelaine\nGast: Mandement II\n\nAdresse: Avenue de Pailly 15\, 1219 Châtelaine\n
LOCATION:Avenue de Pailly 15\, 1219 Châtelaine
CATEGORIES:Saison 2024/25
END:VEVENT
BEGIN:VEVENT
DTSTAMP:20260425T020448Z
DTSTART;TZID=Europe/Berlin:20241111T200000
DTEND;TZID=Europe/Berlin:20241111T230000
SUMMARY:Ligue 1 Ph.A Châtelaine vs Carouge III (32)
UID:017821f9-82a7-4e64-99d1-9f7a1e6ed28c
STATUS:CONFIRMED
LAST-MODIFIED:20241113T103342Z
DESCRIPTION:1ère ligue Homme Gr. unique Phase A\nBegegnungs-Nr: 32\nHeim: Châtelaine\nGast: Carouge III\n
LOCATION:
CATEGORIES:Saison 2024/25
END:VEVENT
BEGIN:VEVENT
DTSTAMP:20260425T020448Z
DTSTART;TZID=Europe/Berlin:20240909T200000
DTEND;TZID=Europe/Berlin:20240909T230000
SUMMARY:Ligue 1 Ph.A Châtelaine vs Châtelaine II (2)
UID:cc698e77-a135-456d-a1d3-7c3585d1ed7e
STATUS:CONFIRMED
LAST-MODIFIED:20240910T072413Z
DESCRIPTION:1ère ligue Homme Gr. unique Phase A\nBegegnungs-Nr: 2\nHeim: Châtelaine\nGast: Châtelaine II\n
LOCATION:
CATEGORIES:Saison 2024/25
END:VEVENT
BEGIN:VEVENT
DTSTAMP:20260425T020448Z
DTSTART;TZID=Europe/Berlin:20241028T194500
DTEND;TZID=Europe/Berlin:20241028T224500
SUMMARY:Ligue 1 Ph.A Châtelaine vs ZZ-Lancy IV (12)
UID:de5e14a7-9e2d-4fe5-987e-d7242076c0f7
STATUS:CONFIRMED
LAST-MODIFIED:20241029T175943Z
DESCRIPTION:1ère ligue Homme Gr. unique Phase A\nBegegnungs-Nr: 12\nHeim: Châtelaine\nGast: ZZ-Lancy IV\n
LOCATION:
CATEGORIES:Saison 2024/25
END:VEVENT
BEGIN:VEVENT
DTSTAMP:20260425T020448Z
DTSTART;TZID=Europe/Berlin:20250127T200000
DTEND;TZID=Europe/Berlin:20250127T230000
SUMMARY:Ligue 1 Ph.B Châtelaine vs UGS-Chênois III (11)
UID:85e02ad7-8ad8-4bf1-9e99-de4d7fe539e6
STATUS:CONFIRMED
LAST-MODIFIED:20250128T092425Z
DESCRIPTION:1ère ligue Homme Gr. unique Phase B\nBegegnungs-Nr: 11\nHeim: Châtelaine\nGast: UGS-Chênois III\n
LOCATION:
CATEGORIES:Saison 2024/25
END:VEVENT
BEGIN:VEVENT
DTSTAMP:20260425T020448Z
DTSTART;TZID=Europe/Berlin:20250407T200000
DTEND;TZID=Europe/Berlin:20250407T230000
SUMMARY:Ligue 1 Ph.B Châtelaine vs Mandement II (41)
UID:dbed3e50-d337-43f5-aa1a-3d76eb80e657
STATUS:CONFIRMED
LAST-MODIFIED:20250408T071525Z
DESCRIPTION:1ère ligue Homme Gr. unique Phase B\nBegegnungs-Nr: 41\nHeim: Châtelaine\nGast: Mandement II\n
LOCATION:
CATEGORIES:Saison 2024/25
END:VEVENT
BEGIN:VEVENT
DTSTAMP:20260425T020448Z
DTSTART;TZID=Europe/Berlin:20250317T200000
DTEND;TZID=Europe/Berlin:20250317T230000
SUMMARY:Ligue 1 Ph.B Châtelaine vs Mandement III (31)
UID:a57900d8-1dd0-4991-bc6e-b22277c797ad
STATUS:CONFIRMED
LAST-MODIFIED:20250318T071603Z
DESCRIPTION:1ère ligue Homme Gr. unique Phase B\nBegegnungs-Nr: 31\nHeim: Châtelaine\nGast: Mandement III\n
LOCATION:
CATEGORIES:Saison 2024/25
END:VEVENT
BEGIN:VEVENT
DTSTAMP:20260425T020448Z
DTSTART;TZID=Europe/Berlin:20250113T200000
DTEND;TZID=Europe/Berlin:20250113T230000
SUMMARY:Ligue 1 Ph.B Châtelaine vs Bernex II (1)
UID:43fb47e1-55cd-4018-9b96-3f7677731ef1
STATUS:CONFIRMED
LAST-MODIFIED:20250114T083349Z
DESCRIPTION:1ère ligue Homme Gr. unique Phase B\nBegegnungs-Nr: 1\nHeim: Châtelaine\nGast: Bernex II\n
LOCATION:
CATEGORIES:Saison 2024/25
END:VEVENT
BEGIN:VEVENT
DTSTAMP:20260425T020448Z
DTSTART;TZID=Europe/Berlin:20250217T200000
DTEND;TZID=Europe/Berlin:20250217T230000
SUMMARY:Ligue 1 Ph.B Châtelaine vs UGS-Chênois IV (21)
UID:53bec90a-5b11-4c27-89de-d31f86e9a645
STATUS:CONFIRMED
LAST-MODIFIED:20250218T185318Z
DESCRIPTION:1ère ligue Homme Gr. unique Phase B\nBegegnungs-Nr: 21\nHeim: Châtelaine\nGast: UGS-Chênois IV\n
LOCATION:
CATEGORIES:Saison 2024/25
END:VEVENT
BEGIN:VEVENT
DTSTAMP:20260425T020448Z
DTSTART;TZID=Europe/Berlin:20241125T194500
DTEND;TZID=Europe/Berlin:20241125T224500
SUMMARY:Ligue 1 Ph.A Versoix vs Châtelaine (41)
UID:d0b34da7-c3f4-4cdd-af0f-816ec3ff8712
STATUS:CONFIRMED
LAST-MODIFIED:20241126T181022Z
DESCRIPTION:1ère ligue Homme Gr. unique Phase A\nBegegnungs-Nr: 41\nHeim: Versoix\nGast: Châtelaine\n
LOCATION:
CATEGORIES:Saison 2024/25
END:VEVENT
BEGIN:VEVENT
DTSTAMP:20260425T020448Z
DTSTART;TZID=Europe/Berlin:20240917T194500
DTEND;TZID=Europe/Berlin:20240917T224500
SUMMARY:Ligue 1 Ph.A Châtelaine III vs Châtelaine (7)
UID:93506dd5-09e6-4663-9581-9fc5d77d03a2
STATUS:CONFIRMED
LAST-MODIFIED:20240919T085118Z
DESCRIPTION:1ère ligue Homme Gr. unique Phase A\nBegegnungs-Nr: 7\nHeim: Châtelaine III\nGast: Châtelaine\n
LOCATION:
CATEGORIES:Saison 2024/25
END:VEVENT
BEGIN:VEVENT
DTSTAMP:20260425T020448Z
DTSTART;TZID=Europe/Berlin:20240923T194500
DTEND;TZID=Europe/Berlin:20240923T224500
SUMMARY:Ligue 1 Ph.A UGS-Chênois III vs Châtelaine (27)
UID:40267842-02ac-4a94-9f21-fb3f9acfe85d
STATUS:CONFIRMED
LAST-MODIFIED:20240924T072433Z
DESCRIPTION:1ère ligue Homme Gr. unique Phase A\nBegegnungs-Nr: 27\nHeim: UGS-Chênois III\nGast: Châtelaine\n
LOCATION:
CATEGORIES:Saison 2024/25
END:VEVENT
BEGIN:VEVENT
DTSTAMP:20260425T020448Z
DTSTART;TZID=Europe/Berlin:20241014T200000
DTEND;TZID=Europe/Berlin:20241014T230000
SUMMARY:Ligue 1 Ph.A Silver Star II vs Châtelaine (22)
UID:55075df6-6b6e-4b96-b54c-4bb597b04a7a
STATUS:CONFIRMED
LAST-MODIFIED:20241015T082744Z
DESCRIPTION:1ère ligue Homme Gr. unique Phase A\nBegegnungs-Nr: 22\nHeim: Silver Star II\nGast: Châtelaine\n\nAdresse: Rue de Vermont 33\, 1202 Genève\n
LOCATION:Rue de Vermont 33\, 1202 Genève
CATEGORIES:Saison 2024/25
END:VEVENT
BEGIN:VEVENT
DTSTAMP:20260425T020448Z
DTSTART;TZID=Europe/Berlin:20241007T194500
DTEND;TZID=Europe/Berlin:20241007T224500
SUMMARY:Ligue 1 Ph.A UGS-Chênois IV vs Châtelaine (17)
UID:dca10b48-dab9-4829-9b22-2f8060484adc
STATUS:CONFIRMED
LAST-MODIFIED:20241008T070358Z
DESCRIPTION:1ère ligue Homme Gr. unique Phase A\nBegegnungs-Nr: 17\nHeim: UGS-Chênois IV\nGast: Châtelaine\n
LOCATION:
CATEGORIES:Saison 2024/25
END:VEVENT
BEGIN:VEVENT
DTSTAMP:20260425T020448Z
DTSTART;TZID=Europe/Berlin:20250120T194500
DTEND;TZID=Europe/Berlin:20250120T224500
SUMMARY:Ligue 1 Ph.B ZZ-Lancy IV vs Châtelaine (6)
UID:e34972d7-85be-4b57-85f4-68cebdb0ff77
STATUS:CONFIRMED
LAST-MODIFIED:20250121T080305Z
DESCRIPTION:1ère ligue Homme Gr. unique Phase B\nBegegnungs-Nr: 6\nHeim: ZZ-Lancy IV\nGast: Châtelaine\n
LOCATION:
CATEGORIES:Saison 2024/25
END:VEVENT
BEGIN:VEVENT
DTSTAMP:20260425T020448Z
DTSTART;TZID=Europe/Berlin:20250331T200000
DTEND;TZID=Europe/Berlin:20250331T230000
SUMMARY:Ligue 1 Ph.B Carouge III vs Châtelaine (36)
UID:824d80c9-6d0c-47bc-bcab-d34ab52fb30b
STATUS:CONFIRMED
LAST-MODIFIED:20250401T072633Z
DESCRIPTION:1ère ligue Homme Gr. unique Phase B\nBegegnungs-Nr: 36\nHeim: Carouge III\nGast: Châtelaine\n
LOCATION:
CATEGORIES:Saison 2024/25
END:VEVENT
BEGIN:VEVENT
DTSTAMP:20260425T020448Z
DTSTART;TZID=Europe/Berlin:20250310T194500
DTEND;TZID=Europe/Berlin:20250310T224500
SUMMARY:Ligue 1 Ph.B Silver Star II vs Châtelaine (26)
UID:730cce63-2486-486a-87e2-1ac8dcad2520
STATUS:CONFIRMED
LAST-MODIFIED:20250311T082522Z
DESCRIPTION:1ère ligue Homme Gr. unique Phase B\nBegegnungs-Nr: 26\nHeim: Silver Star II\nGast: Châtelaine\n
LOCATION:
CATEGORIES:Saison 2024/25
END:VEVENT
BEGIN:VEVENT
DTSTAMP:20260425T020448Z
DTSTART;TZID=Europe/Berlin:20250210T194500
DTEND;TZID=Europe/Berlin:20250210T224500
SUMMARY:Ligue 1 Ph.B Versoix vs Châtelaine (16)
UID:762de726-35d4-45e2-afdd-7e35a8768e2e
STATUS:CONFIRMED
LAST-MODIFIED:20250211T084851Z
DESCRIPTION:1ère ligue Homme Gr. unique Phase B\nBegegnungs-Nr: 16\nHeim: Versoix\nGast: Châtelaine\n
LOCATION:
CATEGORIES:Saison 2024/25
END:VEVENT
END:VCALENDAR
