BEGIN:VCALENDAR
PRODID:-//nuDatenautomaten//framework iCal4j //DE
VERSION:2.0
CALSCALE:GREGORIAN
BEGIN:VTIMEZONE
TZID:Europe/Berlin
LAST-MODIFIED:20260306T231828Z
TZURL:https://www.tzurl.org/zoneinfo/Europe/Berlin
X-LIC-LOCATION:Europe/Berlin
X-PROLEPTIC-TZNAME:LMT
BEGIN:STANDARD
TZNAME:CET
TZOFFSETFROM:+005328
TZOFFSETTO:+0100
DTSTART:18930401T000000
END:STANDARD
BEGIN:DAYLIGHT
TZNAME:CEST
TZOFFSETFROM:+0100
TZOFFSETTO:+0200
DTSTART:19160430T230000
RDATE:19400401T020000
RDATE:19430329T020000
RDATE:19460414T020000
RDATE:19470406T030000
RDATE:19480418T020000
RDATE:19490410T020000
RDATE:19800406T020000
END:DAYLIGHT
BEGIN:STANDARD
TZNAME:CET
TZOFFSETFROM:+0200
TZOFFSETTO:+0100
DTSTART:19161001T010000
RDATE:19421102T030000
RDATE:19431004T030000
RDATE:19441002T030000
RDATE:19451118T030000
RDATE:19461007T030000
END:STANDARD
BEGIN:DAYLIGHT
TZNAME:CEST
TZOFFSETFROM:+0100
TZOFFSETTO:+0200
DTSTART:19170416T020000
RRULE:FREQ=YEARLY;UNTIL=19180415T010000Z;BYMONTH=4;BYDAY=3MO
END:DAYLIGHT
BEGIN:STANDARD
TZNAME:CET
TZOFFSETFROM:+0200
TZOFFSETTO:+0100
DTSTART:19170917T030000
RRULE:FREQ=YEARLY;UNTIL=19180916T010000Z;BYMONTH=9;BYDAY=3MO
END:STANDARD
BEGIN:DAYLIGHT
TZNAME:CEST
TZOFFSETFROM:+0100
TZOFFSETTO:+0200
DTSTART:19440403T020000
RRULE:FREQ=YEARLY;UNTIL=19450402T010000Z;BYMONTH=4;BYDAY=1MO
END:DAYLIGHT
BEGIN:DAYLIGHT
TZNAME:CEMT
TZOFFSETFROM:+0200
TZOFFSETTO:+0300
DTSTART:19450524T020000
RDATE:19470511T030000
END:DAYLIGHT
BEGIN:DAYLIGHT
TZNAME:CEST
TZOFFSETFROM:+0300
TZOFFSETTO:+0200
DTSTART:19450924T030000
RDATE:19470629T030000
END:DAYLIGHT
BEGIN:STANDARD
TZNAME:CET
TZOFFSETFROM:+0100
TZOFFSETTO:+0100
DTSTART:19460101T000000
RDATE:19800101T000000
END:STANDARD
BEGIN:STANDARD
TZNAME:CET
TZOFFSETFROM:+0200
TZOFFSETTO:+0100
DTSTART:19471005T030000
RRULE:FREQ=YEARLY;UNTIL=19491002T010000Z;BYMONTH=10;BYDAY=1SU
END:STANDARD
BEGIN:STANDARD
TZNAME:CET
TZOFFSETFROM:+0200
TZOFFSETTO:+0100
DTSTART:19800928T030000
RRULE:FREQ=YEARLY;UNTIL=19950924T010000Z;BYMONTH=9;BYDAY=-1SU
END:STANDARD
BEGIN:DAYLIGHT
TZNAME:CEST
TZOFFSETFROM:+0100
TZOFFSETTO:+0200
DTSTART:19810329T020000
RRULE:FREQ=YEARLY;BYMONTH=3;BYDAY=-1SU
END:DAYLIGHT
BEGIN:STANDARD
TZNAME:CET
TZOFFSETFROM:+0200
TZOFFSETTO:+0100
DTSTART:19961027T030000
RRULE:FREQ=YEARLY;BYMONTH=10;BYDAY=-1SU
END:STANDARD
END:VTIMEZONE
BEGIN:VEVENT
DTSTAMP:20260425T004939Z
DTSTART;TZID=Europe/Berlin:20241111T200000
DTEND;TZID=Europe/Berlin:20241111T230000
SUMMARY:O40 2. Liga Gr. 1 Dübendorf-Volketswil vs Winterthur (0)
UID:bd6ef087-4bc4-489a-a153-9f236653686e
STATUS:CONFIRMED
LAST-MODIFIED:20241114T080556Z
DESCRIPTION:2. Liga O40 Gruppe 1\nBegegnungs-Nr: 0\nHeim: Dübendorf-Volketswil\nGast: Winterthur\n\nAdresse: Usterstrasse 35\, 8604 Volketswil\n
LOCATION:Usterstrasse 35\, 8604 Volketswil
CATEGORIES:Saison 2024/25
END:VEVENT
BEGIN:VEVENT
DTSTAMP:20260425T004939Z
DTSTART;TZID=Europe/Berlin:20240930T200000
DTEND;TZID=Europe/Berlin:20240930T230000
SUMMARY:O40 2. Liga Gr. 1 Dübendorf-Volketswil vs Uster (0)
UID:8cd501cf-ac56-4829-ba27-4d5bd4f543c5
STATUS:CONFIRMED
LAST-MODIFIED:20241004T082031Z
DESCRIPTION:2. Liga O40 Gruppe 1\nBegegnungs-Nr: 0\nHeim: Dübendorf-Volketswil\nGast: Uster\n\nAdresse: Usterstrasse 35\, 8604 Volketswil\n
LOCATION:Usterstrasse 35\, 8604 Volketswil
CATEGORIES:Saison 2024/25
END:VEVENT
BEGIN:VEVENT
DTSTAMP:20260425T004939Z
DTSTART;TZID=Europe/Berlin:20241216T200000
DTEND;TZID=Europe/Berlin:20241216T230000
SUMMARY:O40 2. Liga Gr. 1 Dübendorf-Volketswil vs Niederhasli II (0)
UID:336e6dab-e09d-4e44-82e1-b3d6870d266c
STATUS:CONFIRMED
LAST-MODIFIED:20241217T104255Z
DESCRIPTION:2. Liga O40 Gruppe 1\nBegegnungs-Nr: 0\nHeim: Dübendorf-Volketswil\nGast: Niederhasli II\n\nAdresse: Usterstrasse 35\, 8604 Volketswil\n
LOCATION:Usterstrasse 35\, 8604 Volketswil
CATEGORIES:Saison 2024/25
END:VEVENT
BEGIN:VEVENT
DTSTAMP:20260425T004939Z
DTSTART;TZID=Europe/Berlin:20250210T200000
DTEND;TZID=Europe/Berlin:20250210T230000
SUMMARY:O40 2. Liga Gr. 1 Dübendorf-Volketswil vs Gaiserwald II (0)
UID:b41bfdb5-9671-463c-8ad1-e7cf8e64c2bd
STATUS:CONFIRMED
LAST-MODIFIED:20250213T133329Z
DESCRIPTION:2. Liga O40 Gruppe 1\nBegegnungs-Nr: 0\nHeim: Dübendorf-Volketswil\nGast: Gaiserwald II\n\nAdresse: Usterstrasse 35\, 8604 Volketswil\n
LOCATION:Usterstrasse 35\, 8604 Volketswil
CATEGORIES:Saison 2024/25
END:VEVENT
BEGIN:VEVENT
DTSTAMP:20260425T004939Z
DTSTART;TZID=Europe/Berlin:20250120T200000
DTEND;TZID=Europe/Berlin:20250120T230000
SUMMARY:O40 2. Liga Gr. 1 Dübendorf-Volketswil vs Embrachertal (0)
UID:584a1a94-e807-4370-bcfd-6f8bae8a12cc
STATUS:CONFIRMED
LAST-MODIFIED:20250123T084543Z
DESCRIPTION:2. Liga O40 Gruppe 1\nBegegnungs-Nr: 0\nHeim: Dübendorf-Volketswil\nGast: Embrachertal\n\nAdresse: Usterstrasse 35\, 8604 Volketswil\n
LOCATION:Usterstrasse 35\, 8604 Volketswil
CATEGORIES:Saison 2024/25
END:VEVENT
BEGIN:VEVENT
DTSTAMP:20260425T004939Z
DTSTART;TZID=Europe/Berlin:20241209T200000
DTEND;TZID=Europe/Berlin:20241209T230000
SUMMARY:O40 2. Liga Gr. 1 Dübendorf-Volketswil vs Buchs Zürich (0)
UID:71156146-4f87-4fcb-86f0-ff962b7d16af
STATUS:CONFIRMED
LAST-MODIFIED:20241211T103357Z
DESCRIPTION:2. Liga O40 Gruppe 1\nBegegnungs-Nr: 0\nHeim: Dübendorf-Volketswil\nGast: Buchs Zürich\n\nAdresse: Usterstrasse 35\, 8604 Volketswil\n
LOCATION:Usterstrasse 35\, 8604 Volketswil
CATEGORIES:Saison 2024/25
END:VEVENT
BEGIN:VEVENT
DTSTAMP:20260425T004939Z
DTSTART;TZID=Europe/Berlin:20240912T200000
DTEND;TZID=Europe/Berlin:20240912T230000
SUMMARY:O40 2. Liga Gr. 1 Gaiserwald II vs Dübendorf-Volketswil (0)
UID:5d0864c9-e44e-465b-b684-2b251b4684ee
STATUS:CONFIRMED
LAST-MODIFIED:20240913T103715Z
DESCRIPTION:2. Liga O40 Gruppe 1\nBegegnungs-Nr: 0\nHeim: Gaiserwald II\nGast: Dübendorf-Volketswil\n\nAdresse: Sonnenbergstrasse 15\, 9030 Abtwil\n
LOCATION:Sonnenbergstrasse 15\, 9030 Abtwil
CATEGORIES:Saison 2024/25
END:VEVENT
BEGIN:VEVENT
DTSTAMP:20260425T004939Z
DTSTART;TZID=Europe/Berlin:20241001T193000
DTEND;TZID=Europe/Berlin:20241001T223000
SUMMARY:O40 2. Liga Gr. 1 Embrachertal vs Dübendorf-Volketswil (0)
UID:530da6c8-4a0e-4f09-8cd1-4934bc6b31dd
STATUS:CONFIRMED
LAST-MODIFIED:20241004T082044Z
DESCRIPTION:2. Liga O40 Gruppe 1\nBegegnungs-Nr: 0\nHeim: Embrachertal\nGast: Dübendorf-Volketswil\n\nAdresse: Hintermarchlenstrasse 31 + 33\, 8426 Lufingen\n
LOCATION:Hintermarchlenstrasse 31 + 33\, 8426 Lufingen
CATEGORIES:Saison 2024/25
END:VEVENT
BEGIN:VEVENT
DTSTAMP:20260425T004939Z
DTSTART;TZID=Europe/Berlin:20250414T201500
DTEND;TZID=Europe/Berlin:20250414T231500
SUMMARY:O40 2. Liga Gr. 1 Buchs Zürich vs Dübendorf-Volketswil (0)
UID:6047d662-eaf3-4517-86e9-e04cf8e3fd8a
STATUS:CONFIRMED
LAST-MODIFIED:20250423T070203Z
DESCRIPTION:2. Liga O40 Gruppe 1\nBegegnungs-Nr: 0\nHeim: Buchs Zürich\nGast: Dübendorf-Volketswil\n\nAdresse: Schulstrasse 73\, 8105 Regensdorf\n
LOCATION:Schulstrasse 73\, 8105 Regensdorf
CATEGORIES:Saison 2024/25
END:VEVENT
BEGIN:VEVENT
DTSTAMP:20260425T004939Z
DTSTART;TZID=Europe/Berlin:20250403T200000
DTEND;TZID=Europe/Berlin:20250403T230000
SUMMARY:O40 2. Liga Gr. 1 Winterthur vs Dübendorf-Volketswil (0)
UID:2b8a8854-1770-4d9b-84de-f1581bafbde8
STATUS:CONFIRMED
LAST-MODIFIED:20250404T085719Z
DESCRIPTION:2. Liga O40 Gruppe 1\nBegegnungs-Nr: 0\nHeim: Winterthur\nGast: Dübendorf-Volketswil\n\nAdresse: Buchackerstrasse 54\, 8400 Winterthur\n
LOCATION:Buchackerstrasse 54\, 8400 Winterthur
CATEGORIES:Saison 2024/25
END:VEVENT
BEGIN:VEVENT
DTSTAMP:20260425T004939Z
DTSTART;TZID=Europe/Berlin:20250318T201500
DTEND;TZID=Europe/Berlin:20250318T231500
SUMMARY:O40 2. Liga Gr. 1 Uster vs Dübendorf-Volketswil (0)
UID:9ca49aae-6726-4cd0-a278-caa91079410c
STATUS:CONFIRMED
LAST-MODIFIED:20250327T145337Z
DESCRIPTION:2. Liga O40 Gruppe 1\nBegegnungs-Nr: 0\nHeim: Uster\nGast: Dübendorf-Volketswil\n\nAdresse: Wilstrasse 30 / Zürcherstrasse\, 8610 Uster\n
LOCATION:Wilstrasse 30 / Zürcherstrasse\, 8610 Uster
CATEGORIES:Saison 2024/25
END:VEVENT
BEGIN:VEVENT
DTSTAMP:20260425T004939Z
DTSTART;TZID=Europe/Berlin:20250212T193000
DTEND;TZID=Europe/Berlin:20250212T223000
SUMMARY:O40 2. Liga Gr. 1 Niederhasli II vs Dübendorf-Volketswil (0)
UID:491ff3c7-9317-45ed-9391-79dac9cb9ee4
STATUS:CONFIRMED
LAST-MODIFIED:20250213T133339Z
DESCRIPTION:2. Liga O40 Gruppe 1\nBegegnungs-Nr: 0\nHeim: Niederhasli II\nGast: Dübendorf-Volketswil\n\nAdresse: Dorfstrasse 22\, 8155 Niederhasli\n
LOCATION:Dorfstrasse 22\, 8155 Niederhasli
CATEGORIES:Saison 2024/25
END:VEVENT
END:VCALENDAR
