BEGIN:VCALENDAR
PRODID:-//nuDatenautomaten//framework iCal4j //DE
VERSION:2.0
CALSCALE:GREGORIAN
BEGIN:VTIMEZONE
TZID:Europe/Berlin
LAST-MODIFIED:20260306T231828Z
TZURL:https://www.tzurl.org/zoneinfo/Europe/Berlin
X-LIC-LOCATION:Europe/Berlin
X-PROLEPTIC-TZNAME:LMT
BEGIN:STANDARD
TZNAME:CET
TZOFFSETFROM:+005328
TZOFFSETTO:+0100
DTSTART:18930401T000000
END:STANDARD
BEGIN:DAYLIGHT
TZNAME:CEST
TZOFFSETFROM:+0100
TZOFFSETTO:+0200
DTSTART:19160430T230000
RDATE:19400401T020000
RDATE:19430329T020000
RDATE:19460414T020000
RDATE:19470406T030000
RDATE:19480418T020000
RDATE:19490410T020000
RDATE:19800406T020000
END:DAYLIGHT
BEGIN:STANDARD
TZNAME:CET
TZOFFSETFROM:+0200
TZOFFSETTO:+0100
DTSTART:19161001T010000
RDATE:19421102T030000
RDATE:19431004T030000
RDATE:19441002T030000
RDATE:19451118T030000
RDATE:19461007T030000
END:STANDARD
BEGIN:DAYLIGHT
TZNAME:CEST
TZOFFSETFROM:+0100
TZOFFSETTO:+0200
DTSTART:19170416T020000
RRULE:FREQ=YEARLY;UNTIL=19180415T010000Z;BYMONTH=4;BYDAY=3MO
END:DAYLIGHT
BEGIN:STANDARD
TZNAME:CET
TZOFFSETFROM:+0200
TZOFFSETTO:+0100
DTSTART:19170917T030000
RRULE:FREQ=YEARLY;UNTIL=19180916T010000Z;BYMONTH=9;BYDAY=3MO
END:STANDARD
BEGIN:DAYLIGHT
TZNAME:CEST
TZOFFSETFROM:+0100
TZOFFSETTO:+0200
DTSTART:19440403T020000
RRULE:FREQ=YEARLY;UNTIL=19450402T010000Z;BYMONTH=4;BYDAY=1MO
END:DAYLIGHT
BEGIN:DAYLIGHT
TZNAME:CEMT
TZOFFSETFROM:+0200
TZOFFSETTO:+0300
DTSTART:19450524T020000
RDATE:19470511T030000
END:DAYLIGHT
BEGIN:DAYLIGHT
TZNAME:CEST
TZOFFSETFROM:+0300
TZOFFSETTO:+0200
DTSTART:19450924T030000
RDATE:19470629T030000
END:DAYLIGHT
BEGIN:STANDARD
TZNAME:CET
TZOFFSETFROM:+0100
TZOFFSETTO:+0100
DTSTART:19460101T000000
RDATE:19800101T000000
END:STANDARD
BEGIN:STANDARD
TZNAME:CET
TZOFFSETFROM:+0200
TZOFFSETTO:+0100
DTSTART:19471005T030000
RRULE:FREQ=YEARLY;UNTIL=19491002T010000Z;BYMONTH=10;BYDAY=1SU
END:STANDARD
BEGIN:STANDARD
TZNAME:CET
TZOFFSETFROM:+0200
TZOFFSETTO:+0100
DTSTART:19800928T030000
RRULE:FREQ=YEARLY;UNTIL=19950924T010000Z;BYMONTH=9;BYDAY=-1SU
END:STANDARD
BEGIN:DAYLIGHT
TZNAME:CEST
TZOFFSETFROM:+0100
TZOFFSETTO:+0200
DTSTART:19810329T020000
RRULE:FREQ=YEARLY;BYMONTH=3;BYDAY=-1SU
END:DAYLIGHT
BEGIN:STANDARD
TZNAME:CET
TZOFFSETFROM:+0200
TZOFFSETTO:+0100
DTSTART:19961027T030000
RRULE:FREQ=YEARLY;BYMONTH=10;BYDAY=-1SU
END:STANDARD
END:VTIMEZONE
BEGIN:VEVENT
DTSTAMP:20260425T005108Z
DTSTART;TZID=Europe/Berlin:20250307T200000
DTEND;TZID=Europe/Berlin:20250307T230000
SUMMARY:HE 4. Liga Gr. 4 Dietikon-Weiningen II vs Niederhasli IV (0)
UID:8997fe98-0902-4c04-a3e8-9d3ce448180b
STATUS:CONFIRMED
LAST-MODIFIED:20250311T152055Z
DESCRIPTION:4. Liga Herren Gruppe 4\nBegegnungs-Nr: 0\nHeim: Dietikon-Weiningen II\nGast: Niederhasli IV\n\nAdresse: Bohnackerstrasse 5\, 8953 Dietikon\n
LOCATION:Bohnackerstrasse 5\, 8953 Dietikon
CATEGORIES:Saison 2024/25
END:VEVENT
BEGIN:VEVENT
DTSTAMP:20260425T005108Z
DTSTART;TZID=Europe/Berlin:20250207T200000
DTEND;TZID=Europe/Berlin:20250207T230000
SUMMARY:HE 4. Liga Gr. 4 Dietikon-Weiningen II vs Seebach-Kügeliloo (0)
UID:5bb90af9-a94b-4a73-98e2-19f53627cc22
STATUS:CONFIRMED
LAST-MODIFIED:20250213T131824Z
DESCRIPTION:4. Liga Herren Gruppe 4\nBegegnungs-Nr: 0\nHeim: Dietikon-Weiningen II\nGast: Seebach-Kügeliloo\n\nAdresse: Bohnackerstrasse 5\, 8953 Dietikon\n
LOCATION:Bohnackerstrasse 5\, 8953 Dietikon
CATEGORIES:Saison 2024/25
END:VEVENT
BEGIN:VEVENT
DTSTAMP:20260425T005108Z
DTSTART;TZID=Europe/Berlin:20241213T200000
DTEND;TZID=Europe/Berlin:20241213T230000
SUMMARY:HE 4. Liga Gr. 4 Dietikon-Weiningen II vs Höngg II (0)
UID:024b083d-62e9-4b8b-8080-5f823ba94133
STATUS:CONFIRMED
LAST-MODIFIED:20241217T104204Z
DESCRIPTION:4. Liga Herren Gruppe 4\nBegegnungs-Nr: 0\nHeim: Dietikon-Weiningen II\nGast: Höngg II\n\nAdresse: Bohnackerstrasse 5\, 8953 Dietikon\n
LOCATION:Bohnackerstrasse 5\, 8953 Dietikon
CATEGORIES:Saison 2024/25
END:VEVENT
BEGIN:VEVENT
DTSTAMP:20260425T005108Z
DTSTART;TZID=Europe/Berlin:20241206T200000
DTEND;TZID=Europe/Berlin:20241206T230000
SUMMARY:HE 4. Liga Gr. 4 Dietikon-Weiningen II vs Pinguin Zürich IV (0)
UID:00f1a263-148f-45fb-ac3b-152257845743
STATUS:CONFIRMED
LAST-MODIFIED:20241211T090534Z
DESCRIPTION:4. Liga Herren Gruppe 4\nBegegnungs-Nr: 0\nHeim: Dietikon-Weiningen II\nGast: Pinguin Zürich IV\n\nAdresse: Bohnackerstrasse 5\, 8953 Dietikon\n
LOCATION:Bohnackerstrasse 5\, 8953 Dietikon
CATEGORIES:Saison 2024/25
END:VEVENT
BEGIN:VEVENT
DTSTAMP:20260425T005108Z
DTSTART;TZID=Europe/Berlin:20241108T200000
DTEND;TZID=Europe/Berlin:20241108T230000
SUMMARY:HE 4. Liga Gr. 4 Dietikon-Weiningen II vs Buchs Zürich II (0)
UID:fd5c60d0-82f2-4c70-abb8-b630f575f039
STATUS:CONFIRMED
LAST-MODIFIED:20241114T072943Z
DESCRIPTION:4. Liga Herren Gruppe 4\nBegegnungs-Nr: 0\nHeim: Dietikon-Weiningen II\nGast: Buchs Zürich II\n\nAdresse: Bohnackerstrasse 5\, 8953 Dietikon\n
LOCATION:Bohnackerstrasse 5\, 8953 Dietikon
CATEGORIES:Saison 2024/25
END:VEVENT
BEGIN:VEVENT
DTSTAMP:20260425T005108Z
DTSTART;TZID=Europe/Berlin:20240920T200000
DTEND;TZID=Europe/Berlin:20240920T230000
SUMMARY:HE 4. Liga Gr. 4 Dietikon-Weiningen II vs Thalwil III (0)
UID:550f9358-eb51-4844-a4ff-4aeb20271a31
STATUS:CONFIRMED
LAST-MODIFIED:20240926T114727Z
DESCRIPTION:4. Liga Herren Gruppe 4\nBegegnungs-Nr: 0\nHeim: Dietikon-Weiningen II\nGast: Thalwil III\n\nAdresse: Bohnackerstrasse 5\, 8953 Dietikon\n
LOCATION:Bohnackerstrasse 5\, 8953 Dietikon
CATEGORIES:Saison 2024/25
END:VEVENT
BEGIN:VEVENT
DTSTAMP:20260425T005108Z
DTSTART;TZID=Europe/Berlin:20240830T200000
DTEND;TZID=Europe/Berlin:20240830T230000
SUMMARY:HE 4. Liga Gr. 4 Dietikon-Weiningen II vs Young Stars ZH VIII (0)
UID:0b2c7091-531a-4f53-88a9-083818c1c92b
STATUS:CONFIRMED
LAST-MODIFIED:20240904T102507Z
DESCRIPTION:4. Liga Herren Gruppe 4\nBegegnungs-Nr: 0\nHeim: Dietikon-Weiningen II\nGast: Young Stars ZH VIII\n\nAdresse: Bohnackerstrasse 5\, 8953 Dietikon\n
LOCATION:Bohnackerstrasse 5\, 8953 Dietikon
CATEGORIES:Saison 2024/25
END:VEVENT
BEGIN:VEVENT
DTSTAMP:20260425T005108Z
DTSTART;TZID=Europe/Berlin:20250328T193000
DTEND;TZID=Europe/Berlin:20250328T223000
SUMMARY:HE 4. Liga Gr. 4 Pinguin Zürich IV vs Dietikon-Weiningen II (0)
UID:9dbe42e8-5a4f-4a01-98d6-99238a82dd6e
STATUS:CONFIRMED
LAST-MODIFIED:20250404T082951Z
DESCRIPTION:4. Liga Herren Gruppe 4\nBegegnungs-Nr: 0\nHeim: Pinguin Zürich IV\nGast: Dietikon-Weiningen II\n\nAdresse: Basteiplatz\, 8001 Zürich\n
LOCATION:Basteiplatz\, 8001 Zürich
CATEGORIES:Saison 2024/25
END:VEVENT
BEGIN:VEVENT
DTSTAMP:20260425T005108Z
DTSTART;TZID=Europe/Berlin:20250314T201500
DTEND;TZID=Europe/Berlin:20250314T231500
SUMMARY:HE 4. Liga Gr. 4 Buchs Zürich II vs Dietikon-Weiningen II (0)
UID:90939a5f-ca7d-4a38-9456-e64c5d81017e
STATUS:CONFIRMED
LAST-MODIFIED:20250319T094324Z
DESCRIPTION:4. Liga Herren Gruppe 4\nBegegnungs-Nr: 0\nHeim: Buchs Zürich II\nGast: Dietikon-Weiningen II\n\nAdresse: Drisglerstrasse 3\, 8107 Buchs ZH\n
LOCATION:Drisglerstrasse 3\, 8107 Buchs ZH
CATEGORIES:Saison 2024/25
END:VEVENT
BEGIN:VEVENT
DTSTAMP:20260425T005108Z
DTSTART;TZID=Europe/Berlin:20250131T201500
DTEND;TZID=Europe/Berlin:20250131T231500
SUMMARY:HE 4. Liga Gr. 4 Thalwil III vs Dietikon-Weiningen II (0)
UID:90fa6172-b457-4693-93d1-0c509c1f5858
STATUS:CONFIRMED
LAST-MODIFIED:20250203T110158Z
DESCRIPTION:4. Liga Herren Gruppe 4\nBegegnungs-Nr: 0\nHeim: Thalwil III\nGast: Dietikon-Weiningen II\n\nAdresse: Bergstrasse 2\, 8800 Thalwil\n
LOCATION:Bergstrasse 2\, 8800 Thalwil
CATEGORIES:Saison 2024/25
END:VEVENT
BEGIN:VEVENT
DTSTAMP:20260425T005108Z
DTSTART;TZID=Europe/Berlin:20250205T201500
DTEND;TZID=Europe/Berlin:20250205T231500
SUMMARY:HE 4. Liga Gr. 4 Young Stars ZH VIII vs Dietikon-Weiningen II (0)
UID:0706ad13-b1e9-474c-8afe-67620e23f147
STATUS:CONFIRMED
LAST-MODIFIED:20250207T115352Z
DESCRIPTION:4. Liga Herren Gruppe 4\nBegegnungs-Nr: 0\nHeim: Young Stars ZH VIII\nGast: Dietikon-Weiningen II\n\nAdresse: Seefeldstrasse 93\, 8008 Zürich\n
LOCATION:Seefeldstrasse 93\, 8008 Zürich
CATEGORIES:Saison 2024/25
END:VEVENT
BEGIN:VEVENT
DTSTAMP:20260425T005108Z
DTSTART;TZID=Europe/Berlin:20241104T193000
DTEND;TZID=Europe/Berlin:20241104T223000
SUMMARY:HE 4. Liga Gr. 4 Niederhasli IV vs Dietikon-Weiningen II (0)
UID:0b9054d8-3bc3-4a61-a808-9429b8707c65
STATUS:CONFIRMED
LAST-MODIFIED:20241108T134713Z
DESCRIPTION:4. Liga Herren Gruppe 4\nBegegnungs-Nr: 0\nHeim: Niederhasli IV\nGast: Dietikon-Weiningen II\n\nAdresse: Dorfstrasse 22\, 8155 Niederhasli\n
LOCATION:Dorfstrasse 22\, 8155 Niederhasli
CATEGORIES:Saison 2024/25
END:VEVENT
BEGIN:VEVENT
DTSTAMP:20260425T005108Z
DTSTART;TZID=Europe/Berlin:20241113T193000
DTEND;TZID=Europe/Berlin:20241113T223000
SUMMARY:HE 4. Liga Gr. 4 Seebach-Kügeliloo vs Dietikon-Weiningen II (0)
UID:48f123ad-5f86-42bc-9482-557c8c2f5931
STATUS:CONFIRMED
LAST-MODIFIED:20241114T073612Z
DESCRIPTION:4. Liga Herren Gruppe 4\nBegegnungs-Nr: 0\nHeim: Seebach-Kügeliloo\nGast: Dietikon-Weiningen II\n\nAdresse: Maienstrasse 9\, 8050 Zürich\n
LOCATION:Maienstrasse 9\, 8050 Zürich
CATEGORIES:Saison 2024/25
END:VEVENT
BEGIN:VEVENT
DTSTAMP:20260425T005108Z
DTSTART;TZID=Europe/Berlin:20240906T200000
DTEND;TZID=Europe/Berlin:20240906T230000
SUMMARY:HE 4. Liga Gr. 4 Höngg II vs Dietikon-Weiningen II (0)
UID:46f19eb3-949e-4083-81bd-9e5d5cd3e64d
STATUS:CONFIRMED
LAST-MODIFIED:20240912T075605Z
DESCRIPTION:4. Liga Herren Gruppe 4\nBegegnungs-Nr: 0\nHeim: Höngg II\nGast: Dietikon-Weiningen II\n\nAdresse: Bläsistrasse 2\, 8049 Zürich\n
LOCATION:Bläsistrasse 2\, 8049 Zürich
CATEGORIES:Saison 2024/25
END:VEVENT
END:VCALENDAR
