BEGIN:VCALENDAR
PRODID:-//nuDatenautomaten//framework iCal4j //DE
VERSION:2.0
CALSCALE:GREGORIAN
BEGIN:VTIMEZONE
TZID:Europe/Berlin
LAST-MODIFIED:20260306T231828Z
TZURL:https://www.tzurl.org/zoneinfo/Europe/Berlin
X-LIC-LOCATION:Europe/Berlin
X-PROLEPTIC-TZNAME:LMT
BEGIN:STANDARD
TZNAME:CET
TZOFFSETFROM:+005328
TZOFFSETTO:+0100
DTSTART:18930401T000000
END:STANDARD
BEGIN:DAYLIGHT
TZNAME:CEST
TZOFFSETFROM:+0100
TZOFFSETTO:+0200
DTSTART:19160430T230000
RDATE:19400401T020000
RDATE:19430329T020000
RDATE:19460414T020000
RDATE:19470406T030000
RDATE:19480418T020000
RDATE:19490410T020000
RDATE:19800406T020000
END:DAYLIGHT
BEGIN:STANDARD
TZNAME:CET
TZOFFSETFROM:+0200
TZOFFSETTO:+0100
DTSTART:19161001T010000
RDATE:19421102T030000
RDATE:19431004T030000
RDATE:19441002T030000
RDATE:19451118T030000
RDATE:19461007T030000
END:STANDARD
BEGIN:DAYLIGHT
TZNAME:CEST
TZOFFSETFROM:+0100
TZOFFSETTO:+0200
DTSTART:19170416T020000
RRULE:FREQ=YEARLY;UNTIL=19180415T010000Z;BYMONTH=4;BYDAY=3MO
END:DAYLIGHT
BEGIN:STANDARD
TZNAME:CET
TZOFFSETFROM:+0200
TZOFFSETTO:+0100
DTSTART:19170917T030000
RRULE:FREQ=YEARLY;UNTIL=19180916T010000Z;BYMONTH=9;BYDAY=3MO
END:STANDARD
BEGIN:DAYLIGHT
TZNAME:CEST
TZOFFSETFROM:+0100
TZOFFSETTO:+0200
DTSTART:19440403T020000
RRULE:FREQ=YEARLY;UNTIL=19450402T010000Z;BYMONTH=4;BYDAY=1MO
END:DAYLIGHT
BEGIN:DAYLIGHT
TZNAME:CEMT
TZOFFSETFROM:+0200
TZOFFSETTO:+0300
DTSTART:19450524T020000
RDATE:19470511T030000
END:DAYLIGHT
BEGIN:DAYLIGHT
TZNAME:CEST
TZOFFSETFROM:+0300
TZOFFSETTO:+0200
DTSTART:19450924T030000
RDATE:19470629T030000
END:DAYLIGHT
BEGIN:STANDARD
TZNAME:CET
TZOFFSETFROM:+0100
TZOFFSETTO:+0100
DTSTART:19460101T000000
RDATE:19800101T000000
END:STANDARD
BEGIN:STANDARD
TZNAME:CET
TZOFFSETFROM:+0200
TZOFFSETTO:+0100
DTSTART:19471005T030000
RRULE:FREQ=YEARLY;UNTIL=19491002T010000Z;BYMONTH=10;BYDAY=1SU
END:STANDARD
BEGIN:STANDARD
TZNAME:CET
TZOFFSETFROM:+0200
TZOFFSETTO:+0100
DTSTART:19800928T030000
RRULE:FREQ=YEARLY;UNTIL=19950924T010000Z;BYMONTH=9;BYDAY=-1SU
END:STANDARD
BEGIN:DAYLIGHT
TZNAME:CEST
TZOFFSETFROM:+0100
TZOFFSETTO:+0200
DTSTART:19810329T020000
RRULE:FREQ=YEARLY;BYMONTH=3;BYDAY=-1SU
END:DAYLIGHT
BEGIN:STANDARD
TZNAME:CET
TZOFFSETFROM:+0200
TZOFFSETTO:+0100
DTSTART:19961027T030000
RRULE:FREQ=YEARLY;BYMONTH=10;BYDAY=-1SU
END:STANDARD
END:VTIMEZONE
BEGIN:VEVENT
DTSTAMP:20260425T032803Z
DTSTART;TZID=Europe/Berlin:20250311T201500
DTEND;TZID=Europe/Berlin:20250311T231500
SUMMARY:HE 5. Liga Gr. 5 Dübendorf-Volketswil II vs Seebach-Kügeliloo II (0)
UID:e6dcff9b-a3fd-4772-aa19-0bdc28fb432e
STATUS:CONFIRMED
LAST-MODIFIED:20250313T103006Z
DESCRIPTION:5. Liga Herren Gruppe 5\nBegegnungs-Nr: 0\nHeim: Dübendorf-Volketswil II\nGast: Seebach-Kügeliloo II\n\nAdresse: Dübendorfstrasse 46\, 8602 Wangen ZH\n
LOCATION:Dübendorfstrasse 46\, 8602 Wangen ZH
CATEGORIES:Saison 2024/25
END:VEVENT
BEGIN:VEVENT
DTSTAMP:20260425T032803Z
DTSTART;TZID=Europe/Berlin:20250204T201500
DTEND;TZID=Europe/Berlin:20250204T231500
SUMMARY:HE 5. Liga Gr. 5 Dübendorf-Volketswil II vs Greifensee II (0)
UID:e7c0747f-b263-4309-8b6c-132ceeff171e
STATUS:CONFIRMED
LAST-MODIFIED:20250206T141042Z
DESCRIPTION:5. Liga Herren Gruppe 5\nBegegnungs-Nr: 0\nHeim: Dübendorf-Volketswil II\nGast: Greifensee II\n\nAdresse: Dübendorfstrasse 46\, 8602 Wangen ZH\n
LOCATION:Dübendorfstrasse 46\, 8602 Wangen ZH
CATEGORIES:Saison 2024/25
END:VEVENT
BEGIN:VEVENT
DTSTAMP:20260425T032803Z
DTSTART;TZID=Europe/Berlin:20250121T201500
DTEND;TZID=Europe/Berlin:20250121T231500
SUMMARY:HE 5. Liga Gr. 5 Dübendorf-Volketswil II vs Meilen-Männedorf V (0)
UID:469d026c-3a91-4c18-8bed-84ec94355e4d
STATUS:CONFIRMED
LAST-MODIFIED:20250123T083745Z
DESCRIPTION:5. Liga Herren Gruppe 5\nBegegnungs-Nr: 0\nHeim: Dübendorf-Volketswil II\nGast: Meilen-Männedorf V\n\nAdresse: Dübendorfstrasse 46\, 8602 Wangen ZH\n
LOCATION:Dübendorfstrasse 46\, 8602 Wangen ZH
CATEGORIES:Saison 2024/25
END:VEVENT
BEGIN:VEVENT
DTSTAMP:20260425T032803Z
DTSTART;TZID=Europe/Berlin:20240917T201500
DTEND;TZID=Europe/Berlin:20240917T231500
SUMMARY:HE 5. Liga Gr. 5 Dübendorf-Volketswil II vs Uster V (0)
UID:9239b4c6-8ba0-41be-a628-bbd90e4c0b72
STATUS:CONFIRMED
LAST-MODIFIED:20240918T102038Z
DESCRIPTION:5. Liga Herren Gruppe 5\nBegegnungs-Nr: 0\nHeim: Dübendorf-Volketswil II\nGast: Uster V\n\nAdresse: Dübendorfstrasse 46\, 8602 Wangen ZH\n
LOCATION:Dübendorfstrasse 46\, 8602 Wangen ZH
CATEGORIES:Saison 2024/25
END:VEVENT
BEGIN:VEVENT
DTSTAMP:20260425T032803Z
DTSTART;TZID=Europe/Berlin:20241203T201500
DTEND;TZID=Europe/Berlin:20241203T231500
SUMMARY:HE 5. Liga Gr. 5 Dübendorf-Volketswil II vs Bülach V (0)
UID:ede9bdc5-a1d1-477d-8786-6233f85bfa0c
STATUS:CONFIRMED
LAST-MODIFIED:20241205T125642Z
DESCRIPTION:5. Liga Herren Gruppe 5\nBegegnungs-Nr: 0\nHeim: Dübendorf-Volketswil II\nGast: Bülach V\n\nAdresse: Dübendorfstrasse 46\, 8602 Wangen ZH\n
LOCATION:Dübendorfstrasse 46\, 8602 Wangen ZH
CATEGORIES:Saison 2024/25
END:VEVENT
BEGIN:VEVENT
DTSTAMP:20260425T032803Z
DTSTART;TZID=Europe/Berlin:20241029T201500
DTEND;TZID=Europe/Berlin:20241029T231500
SUMMARY:HE 5. Liga Gr. 5 Dübendorf-Volketswil II vs Kloten II (0)
UID:5b8d228f-7ee1-425a-9730-46757bc96f18
STATUS:CONFIRMED
LAST-MODIFIED:20241030T112349Z
DESCRIPTION:5. Liga Herren Gruppe 5\nBegegnungs-Nr: 0\nHeim: Dübendorf-Volketswil II\nGast: Kloten II\n\nAdresse: Dübendorfstrasse 46\, 8602 Wangen ZH\n
LOCATION:Dübendorfstrasse 46\, 8602 Wangen ZH
CATEGORIES:Saison 2024/25
END:VEVENT
BEGIN:VEVENT
DTSTAMP:20260425T032803Z
DTSTART;TZID=Europe/Berlin:20240827T201500
DTEND;TZID=Europe/Berlin:20240827T231500
SUMMARY:HE 5. Liga Gr. 5 Dübendorf-Volketswil II vs Dübendorf-Volketswil III (0)
UID:2434c8b8-e30b-4c92-ad73-b4c15817a97d
STATUS:CONFIRMED
LAST-MODIFIED:20240828T084009Z
DESCRIPTION:5. Liga Herren Gruppe 5\nBegegnungs-Nr: 0\nHeim: Dübendorf-Volketswil II\nGast: Dübendorf-Volketswil III\n\nAdresse: Dübendorfstrasse 46\, 8602 Wangen ZH\n
LOCATION:Dübendorfstrasse 46\, 8602 Wangen ZH
CATEGORIES:Saison 2024/25
END:VEVENT
BEGIN:VEVENT
DTSTAMP:20260425T032803Z
DTSTART;TZID=Europe/Berlin:20250328T193000
DTEND;TZID=Europe/Berlin:20250328T223000
SUMMARY:HE 5. Liga Gr. 5 Bülach V vs Dübendorf-Volketswil II (0)
UID:c725d06d-3b8f-46cd-a63b-c48be25594fb
STATUS:CONFIRMED
LAST-MODIFIED:20250407T115032Z
DESCRIPTION:5. Liga Herren Gruppe 5\nBegegnungs-Nr: 0\nHeim: Bülach V\nGast: Dübendorf-Volketswil II\n\nAdresse: Schwerzgruebstrasse 28\, 8180 Bülach\n
LOCATION:Schwerzgruebstrasse 28\, 8180 Bülach
CATEGORIES:Saison 2024/25
END:VEVENT
BEGIN:VEVENT
DTSTAMP:20260425T032803Z
DTSTART;TZID=Europe/Berlin:20250305T193000
DTEND;TZID=Europe/Berlin:20250305T223000
SUMMARY:HE 5. Liga Gr. 5 Kloten II vs Dübendorf-Volketswil II (0)
UID:348bb5c5-d68d-4ced-abb9-0ba88bc1b07c
STATUS:CONFIRMED
LAST-MODIFIED:20250306T142733Z
DESCRIPTION:5. Liga Herren Gruppe 5\nBegegnungs-Nr: 0\nHeim: Kloten II\nGast: Dübendorf-Volketswil II\n\nAdresse: Schluefweg 10\, 8302 Kloten\n
LOCATION:Schluefweg 10\, 8302 Kloten
CATEGORIES:Saison 2024/25
END:VEVENT
BEGIN:VEVENT
DTSTAMP:20260425T032803Z
DTSTART;TZID=Europe/Berlin:20250130T201500
DTEND;TZID=Europe/Berlin:20250130T231500
SUMMARY:HE 5. Liga Gr. 5 Uster V vs Dübendorf-Volketswil II (0)
UID:f21bf6c4-5832-46f9-957c-5987bf9089c7
STATUS:CONFIRMED
LAST-MODIFIED:20250131T144001Z
DESCRIPTION:5. Liga Herren Gruppe 5\nBegegnungs-Nr: 0\nHeim: Uster V\nGast: Dübendorf-Volketswil II\n\nAdresse: Wilstrasse 30 / Zürcherstrasse\, 8610 Uster\n
LOCATION:Wilstrasse 30 / Zürcherstrasse\, 8610 Uster
CATEGORIES:Saison 2024/25
END:VEVENT
BEGIN:VEVENT
DTSTAMP:20260425T032803Z
DTSTART;TZID=Europe/Berlin:20250109T194500
DTEND;TZID=Europe/Berlin:20250109T224500
SUMMARY:HE 5. Liga Gr. 5 Dübendorf-Volketswil III vs Dübendorf-Volketswil II (0)
UID:df42d99d-efad-4352-8779-14ae0cdc2336
STATUS:CONFIRMED
LAST-MODIFIED:20250110T151447Z
DESCRIPTION:5. Liga Herren Gruppe 5\nBegegnungs-Nr: 0\nHeim: Dübendorf-Volketswil III\nGast: Dübendorf-Volketswil II\n\nAdresse: Wasserfurrenstrasse 7\, 8600 Dübendorf\n
LOCATION:Wasserfurrenstrasse 7\, 8600 Dübendorf
CATEGORIES:Saison 2024/25
END:VEVENT
BEGIN:VEVENT
DTSTAMP:20260425T032803Z
DTSTART;TZID=Europe/Berlin:20241105T200000
DTEND;TZID=Europe/Berlin:20241105T230000
SUMMARY:HE 5. Liga Gr. 5 Seebach-Kügeliloo II vs Dübendorf-Volketswil II (0)
UID:e2b7842f-7bcb-4e77-99ee-443cbe04972a
STATUS:CONFIRMED
LAST-MODIFIED:20241108T142859Z
DESCRIPTION:5. Liga Herren Gruppe 5\nBegegnungs-Nr: 0\nHeim: Seebach-Kügeliloo II\nGast: Dübendorf-Volketswil II\n\nAdresse: Sperletweg 71\, 8052 Zürich\n
LOCATION:Sperletweg 71\, 8052 Zürich
CATEGORIES:Saison 2024/25
END:VEVENT
BEGIN:VEVENT
DTSTAMP:20260425T032803Z
DTSTART;TZID=Europe/Berlin:20240924T200000
DTEND;TZID=Europe/Berlin:20240924T230000
SUMMARY:HE 5. Liga Gr. 5 Greifensee II vs Dübendorf-Volketswil II (0)
UID:cacbca56-2542-4404-a7bc-535cd9167ee7
STATUS:CONFIRMED
LAST-MODIFIED:20240926T115100Z
DESCRIPTION:5. Liga Herren Gruppe 5\nBegegnungs-Nr: 0\nHeim: Greifensee II\nGast: Dübendorf-Volketswil II\n\nAdresse: Stationsstrasse\, 8606 Nänikon\n
LOCATION:Stationsstrasse\, 8606 Nänikon
CATEGORIES:Saison 2024/25
END:VEVENT
BEGIN:VEVENT
DTSTAMP:20260425T032803Z
DTSTART;TZID=Europe/Berlin:20241003T194500
DTEND;TZID=Europe/Berlin:20241003T224500
SUMMARY:HE 5. Liga Gr. 5 Meilen-Männedorf V vs Dübendorf-Volketswil II (0)
UID:97efc10a-cdf2-408c-b678-68e6c9363c89
STATUS:CONFIRMED
LAST-MODIFIED:20241010T105756Z
DESCRIPTION:5. Liga Herren Gruppe 5\nBegegnungs-Nr: 0\nHeim: Meilen-Männedorf V\nGast: Dübendorf-Volketswil II\n\nAdresse: Schulhausstr. 27\, 8706 Meilen\n
LOCATION:Schulhausstr. 27\, 8706 Meilen
CATEGORIES:Saison 2024/25
END:VEVENT
END:VCALENDAR
