BEGIN:VCALENDAR
PRODID:-//nuDatenautomaten//framework iCal4j //DE
VERSION:2.0
CALSCALE:GREGORIAN
BEGIN:VTIMEZONE
TZID:Europe/Berlin
LAST-MODIFIED:20260306T231828Z
TZURL:https://www.tzurl.org/zoneinfo/Europe/Berlin
X-LIC-LOCATION:Europe/Berlin
X-PROLEPTIC-TZNAME:LMT
BEGIN:STANDARD
TZNAME:CET
TZOFFSETFROM:+005328
TZOFFSETTO:+0100
DTSTART:18930401T000000
END:STANDARD
BEGIN:DAYLIGHT
TZNAME:CEST
TZOFFSETFROM:+0100
TZOFFSETTO:+0200
DTSTART:19160430T230000
RDATE:19400401T020000
RDATE:19430329T020000
RDATE:19460414T020000
RDATE:19470406T030000
RDATE:19480418T020000
RDATE:19490410T020000
RDATE:19800406T020000
END:DAYLIGHT
BEGIN:STANDARD
TZNAME:CET
TZOFFSETFROM:+0200
TZOFFSETTO:+0100
DTSTART:19161001T010000
RDATE:19421102T030000
RDATE:19431004T030000
RDATE:19441002T030000
RDATE:19451118T030000
RDATE:19461007T030000
END:STANDARD
BEGIN:DAYLIGHT
TZNAME:CEST
TZOFFSETFROM:+0100
TZOFFSETTO:+0200
DTSTART:19170416T020000
RRULE:FREQ=YEARLY;UNTIL=19180415T010000Z;BYMONTH=4;BYDAY=3MO
END:DAYLIGHT
BEGIN:STANDARD
TZNAME:CET
TZOFFSETFROM:+0200
TZOFFSETTO:+0100
DTSTART:19170917T030000
RRULE:FREQ=YEARLY;UNTIL=19180916T010000Z;BYMONTH=9;BYDAY=3MO
END:STANDARD
BEGIN:DAYLIGHT
TZNAME:CEST
TZOFFSETFROM:+0100
TZOFFSETTO:+0200
DTSTART:19440403T020000
RRULE:FREQ=YEARLY;UNTIL=19450402T010000Z;BYMONTH=4;BYDAY=1MO
END:DAYLIGHT
BEGIN:DAYLIGHT
TZNAME:CEMT
TZOFFSETFROM:+0200
TZOFFSETTO:+0300
DTSTART:19450524T020000
RDATE:19470511T030000
END:DAYLIGHT
BEGIN:DAYLIGHT
TZNAME:CEST
TZOFFSETFROM:+0300
TZOFFSETTO:+0200
DTSTART:19450924T030000
RDATE:19470629T030000
END:DAYLIGHT
BEGIN:STANDARD
TZNAME:CET
TZOFFSETFROM:+0100
TZOFFSETTO:+0100
DTSTART:19460101T000000
RDATE:19800101T000000
END:STANDARD
BEGIN:STANDARD
TZNAME:CET
TZOFFSETFROM:+0200
TZOFFSETTO:+0100
DTSTART:19471005T030000
RRULE:FREQ=YEARLY;UNTIL=19491002T010000Z;BYMONTH=10;BYDAY=1SU
END:STANDARD
BEGIN:STANDARD
TZNAME:CET
TZOFFSETFROM:+0200
TZOFFSETTO:+0100
DTSTART:19800928T030000
RRULE:FREQ=YEARLY;UNTIL=19950924T010000Z;BYMONTH=9;BYDAY=-1SU
END:STANDARD
BEGIN:DAYLIGHT
TZNAME:CEST
TZOFFSETFROM:+0100
TZOFFSETTO:+0200
DTSTART:19810329T020000
RRULE:FREQ=YEARLY;BYMONTH=3;BYDAY=-1SU
END:DAYLIGHT
BEGIN:STANDARD
TZNAME:CET
TZOFFSETFROM:+0200
TZOFFSETTO:+0100
DTSTART:19961027T030000
RRULE:FREQ=YEARLY;BYMONTH=10;BYDAY=-1SU
END:STANDARD
END:VTIMEZONE
BEGIN:VEVENT
DTSTAMP:20260425T005105Z
DTSTART;TZID=Europe/Berlin:20241104T200000
DTEND;TZID=Europe/Berlin:20241104T230000
SUMMARY:HE 3. Liga Gr. 6 Wollerau vs Wetzikon V (0)
UID:8d34252d-dd0d-4e00-9fbb-65a76a5bb90a
STATUS:CONFIRMED
LAST-MODIFIED:20241107T162702Z
DESCRIPTION:3. Liga Herren Gruppe 6\nBegegnungs-Nr: 0\nHeim: Wollerau\nGast: Wetzikon V\n\nAdresse: Erlenstrasse 18\, 8832 Wollerau\n
LOCATION:Erlenstrasse 18\, 8832 Wollerau
CATEGORIES:Saison 2024/25
END:VEVENT
BEGIN:VEVENT
DTSTAMP:20260425T005105Z
DTSTART;TZID=Europe/Berlin:20240923T200000
DTEND;TZID=Europe/Berlin:20240923T230000
SUMMARY:HE 3. Liga Gr. 6 Wollerau vs Wädenswil III (0)
UID:fff99403-99ab-46ab-a406-6f66d13ed5b3
STATUS:CONFIRMED
LAST-MODIFIED:20240926T114656Z
DESCRIPTION:3. Liga Herren Gruppe 6\nBegegnungs-Nr: 0\nHeim: Wollerau\nGast: Wädenswil III\n\nAdresse: Erlenstrasse 18\, 8832 Wollerau\n
LOCATION:Erlenstrasse 18\, 8832 Wollerau
CATEGORIES:Saison 2024/25
END:VEVENT
BEGIN:VEVENT
DTSTAMP:20260425T005105Z
DTSTART;TZID=Europe/Berlin:20240902T200000
DTEND;TZID=Europe/Berlin:20240902T230000
SUMMARY:HE 3. Liga Gr. 6 Wollerau vs Meilen-Männedorf (0)
UID:e168b464-dd1c-4c3f-9a4a-b22c69422332
STATUS:CONFIRMED
LAST-MODIFIED:20240904T095821Z
DESCRIPTION:3. Liga Herren Gruppe 6\nBegegnungs-Nr: 0\nHeim: Wollerau\nGast: Meilen-Männedorf\n\nAdresse: Erlenstrasse 18\, 8832 Wollerau\n
LOCATION:Erlenstrasse 18\, 8832 Wollerau
CATEGORIES:Saison 2024/25
END:VEVENT
BEGIN:VEVENT
DTSTAMP:20260425T005105Z
DTSTART;TZID=Europe/Berlin:20250324T200000
DTEND;TZID=Europe/Berlin:20250324T230000
SUMMARY:HE 3. Liga Gr. 6 Wollerau vs Glarus (0)
UID:ba8c31ba-6623-4b24-9b74-6f1d876d0df3
STATUS:CONFIRMED
LAST-MODIFIED:20250327T133500Z
DESCRIPTION:3. Liga Herren Gruppe 6\nBegegnungs-Nr: 0\nHeim: Wollerau\nGast: Glarus\n\nAdresse: Erlenstrasse 18\, 8832 Wollerau\n
LOCATION:Erlenstrasse 18\, 8832 Wollerau
CATEGORIES:Saison 2024/25
END:VEVENT
BEGIN:VEVENT
DTSTAMP:20260425T005105Z
DTSTART;TZID=Europe/Berlin:20250217T200000
DTEND;TZID=Europe/Berlin:20250217T230000
SUMMARY:HE 3. Liga Gr. 6 Wollerau vs Rapperswil-Jona VI (0)
UID:e46fcaf4-eda3-43bd-b089-f62ca73af064
STATUS:CONFIRMED
LAST-MODIFIED:20250219T112832Z
DESCRIPTION:3. Liga Herren Gruppe 6\nBegegnungs-Nr: 0\nHeim: Wollerau\nGast: Rapperswil-Jona VI\n\nAdresse: Erlenstrasse 18\, 8832 Wollerau\n
LOCATION:Erlenstrasse 18\, 8832 Wollerau
CATEGORIES:Saison 2024/25
END:VEVENT
BEGIN:VEVENT
DTSTAMP:20260425T005105Z
DTSTART;TZID=Europe/Berlin:20250127T200000
DTEND;TZID=Europe/Berlin:20250127T230000
SUMMARY:HE 3. Liga Gr. 6 Wollerau vs Flums (0)
UID:5b7c441d-845a-4431-a5b7-1118ea3927fd
STATUS:CONFIRMED
LAST-MODIFIED:20250128T105844Z
DESCRIPTION:3. Liga Herren Gruppe 6\nBegegnungs-Nr: 0\nHeim: Wollerau\nGast: Flums\n\nAdresse: Erlenstrasse 18\, 8832 Wollerau\n
LOCATION:Erlenstrasse 18\, 8832 Wollerau
CATEGORIES:Saison 2024/25
END:VEVENT
BEGIN:VEVENT
DTSTAMP:20260425T005105Z
DTSTART;TZID=Europe/Berlin:20250203T200000
DTEND;TZID=Europe/Berlin:20250203T230000
SUMMARY:HE 3. Liga Gr. 6 Wollerau vs Wolfhausen (0)
UID:944ff377-bbf1-428b-ad6c-aa3552729ab6
STATUS:CONFIRMED
LAST-MODIFIED:20250204T123547Z
DESCRIPTION:3. Liga Herren Gruppe 6\nBegegnungs-Nr: 0\nHeim: Wollerau\nGast: Wolfhausen\n\nAdresse: Erlenstrasse 18\, 8832 Wollerau\n
LOCATION:Erlenstrasse 18\, 8832 Wollerau
CATEGORIES:Saison 2024/25
END:VEVENT
BEGIN:VEVENT
DTSTAMP:20260425T005105Z
DTSTART;TZID=Europe/Berlin:20241206T200000
DTEND;TZID=Europe/Berlin:20241206T230000
SUMMARY:HE 3. Liga Gr. 6 Glarus vs Wollerau (0)
UID:ed409668-0ada-441f-90e3-80b04dbe51cc
STATUS:CONFIRMED
LAST-MODIFIED:20241211T090337Z
DESCRIPTION:3. Liga Herren Gruppe 6\nBegegnungs-Nr: 0\nHeim: Glarus\nGast: Wollerau\n\nAdresse: Schwertgasse 23\, 8750 Glarus\n
LOCATION:Schwertgasse 23\, 8750 Glarus
CATEGORIES:Saison 2024/25
END:VEVENT
BEGIN:VEVENT
DTSTAMP:20260425T005105Z
DTSTART;TZID=Europe/Berlin:20241115T193000
DTEND;TZID=Europe/Berlin:20241115T223000
SUMMARY:HE 3. Liga Gr. 6 Rapperswil-Jona VI vs Wollerau (0)
UID:460db85e-f7b0-4f54-a605-ee465a8e78ca
STATUS:CONFIRMED
LAST-MODIFIED:20241122T150823Z
DESCRIPTION:3. Liga Herren Gruppe 6\nBegegnungs-Nr: 0\nHeim: Rapperswil-Jona VI\nGast: Wollerau\n\nAdresse: Kreuzstrasse 43\, 8640 Rapperswil\n
LOCATION:Kreuzstrasse 43\, 8640 Rapperswil
CATEGORIES:Saison 2024/25
END:VEVENT
BEGIN:VEVENT
DTSTAMP:20260425T005105Z
DTSTART;TZID=Europe/Berlin:20240916T201500
DTEND;TZID=Europe/Berlin:20240916T231500
SUMMARY:HE 3. Liga Gr. 6 Flums vs Wollerau (0)
UID:ef2c424e-a06b-4a71-81b7-02012f6d4f80
STATUS:CONFIRMED
LAST-MODIFIED:20240917T070928Z
DESCRIPTION:3. Liga Herren Gruppe 6\nBegegnungs-Nr: 0\nHeim: Flums\nGast: Wollerau\n\nAdresse: Bergstrasse\, 8890 Flums\n
LOCATION:Bergstrasse\, 8890 Flums
CATEGORIES:Saison 2024/25
END:VEVENT
BEGIN:VEVENT
DTSTAMP:20260425T005105Z
DTSTART;TZID=Europe/Berlin:20240826T200000
DTEND;TZID=Europe/Berlin:20240826T230000
SUMMARY:HE 3. Liga Gr. 6 Wolfhausen vs Wollerau (0)
UID:27dd3704-82cc-4fa5-b62e-c1028a72a890
STATUS:CONFIRMED
LAST-MODIFIED:20240828T083040Z
DESCRIPTION:3. Liga Herren Gruppe 6\nBegegnungs-Nr: 0\nHeim: Wolfhausen\nGast: Wollerau\n\nAdresse: Schulstrasse 9\, 8633 Wolfhausen\n
LOCATION:Schulstrasse 9\, 8633 Wolfhausen
CATEGORIES:Saison 2024/25
END:VEVENT
BEGIN:VEVENT
DTSTAMP:20260425T005105Z
DTSTART;TZID=Europe/Berlin:20250310T194500
DTEND;TZID=Europe/Berlin:20250310T224500
SUMMARY:HE 3. Liga Gr. 6 Wetzikon V vs Wollerau (0)
UID:37ac7aaa-2403-4a49-88bc-8e3ff2b6e3c1
STATUS:CONFIRMED
LAST-MODIFIED:20250311T150951Z
DESCRIPTION:3. Liga Herren Gruppe 6\nBegegnungs-Nr: 0\nHeim: Wetzikon V\nGast: Wollerau\n\nAdresse: Usterstrasse 37\, 8620 Wetzikon\n
LOCATION:Usterstrasse 37\, 8620 Wetzikon
CATEGORIES:Saison 2024/25
END:VEVENT
BEGIN:VEVENT
DTSTAMP:20260425T005105Z
DTSTART;TZID=Europe/Berlin:20250213T200000
DTEND;TZID=Europe/Berlin:20250213T230000
SUMMARY:HE 3. Liga Gr. 6 Wädenswil III vs Wollerau (0)
UID:b711c839-731b-4477-917e-02a361337c4e
STATUS:CONFIRMED
LAST-MODIFIED:20250219T112812Z
DESCRIPTION:3. Liga Herren Gruppe 6\nBegegnungs-Nr: 0\nHeim: Wädenswil III\nGast: Wollerau\n\nAdresse: Speerstrasse 95\, 8820 Wädenswil\n
LOCATION:Speerstrasse 95\, 8820 Wädenswil
CATEGORIES:Saison 2024/25
END:VEVENT
BEGIN:VEVENT
DTSTAMP:20260425T005105Z
DTSTART;TZID=Europe/Berlin:20250120T194500
DTEND;TZID=Europe/Berlin:20250120T224500
SUMMARY:HE 3. Liga Gr. 6 Meilen-Männedorf vs Wollerau (0)
UID:5a64ed33-aed7-4f25-a246-68c13aa30248
STATUS:CONFIRMED
LAST-MODIFIED:20250123T071402Z
DESCRIPTION:3. Liga Herren Gruppe 6\nBegegnungs-Nr: 0\nHeim: Meilen-Männedorf\nGast: Wollerau\n\nAdresse: Schulstrasse 10\, 8708 Männedorf\n
LOCATION:Schulstrasse 10\, 8708 Männedorf
CATEGORIES:Saison 2024/25
END:VEVENT
END:VCALENDAR
