BEGIN:VCALENDAR
PRODID:-//nuDatenautomaten//framework iCal4j //DE
VERSION:2.0
CALSCALE:GREGORIAN
BEGIN:VTIMEZONE
TZID:Europe/Berlin
LAST-MODIFIED:20260306T231828Z
TZURL:https://www.tzurl.org/zoneinfo/Europe/Berlin
X-LIC-LOCATION:Europe/Berlin
X-PROLEPTIC-TZNAME:LMT
BEGIN:STANDARD
TZNAME:CET
TZOFFSETFROM:+005328
TZOFFSETTO:+0100
DTSTART:18930401T000000
END:STANDARD
BEGIN:DAYLIGHT
TZNAME:CEST
TZOFFSETFROM:+0100
TZOFFSETTO:+0200
DTSTART:19160430T230000
RDATE:19400401T020000
RDATE:19430329T020000
RDATE:19460414T020000
RDATE:19470406T030000
RDATE:19480418T020000
RDATE:19490410T020000
RDATE:19800406T020000
END:DAYLIGHT
BEGIN:STANDARD
TZNAME:CET
TZOFFSETFROM:+0200
TZOFFSETTO:+0100
DTSTART:19161001T010000
RDATE:19421102T030000
RDATE:19431004T030000
RDATE:19441002T030000
RDATE:19451118T030000
RDATE:19461007T030000
END:STANDARD
BEGIN:DAYLIGHT
TZNAME:CEST
TZOFFSETFROM:+0100
TZOFFSETTO:+0200
DTSTART:19170416T020000
RRULE:FREQ=YEARLY;UNTIL=19180415T010000Z;BYMONTH=4;BYDAY=3MO
END:DAYLIGHT
BEGIN:STANDARD
TZNAME:CET
TZOFFSETFROM:+0200
TZOFFSETTO:+0100
DTSTART:19170917T030000
RRULE:FREQ=YEARLY;UNTIL=19180916T010000Z;BYMONTH=9;BYDAY=3MO
END:STANDARD
BEGIN:DAYLIGHT
TZNAME:CEST
TZOFFSETFROM:+0100
TZOFFSETTO:+0200
DTSTART:19440403T020000
RRULE:FREQ=YEARLY;UNTIL=19450402T010000Z;BYMONTH=4;BYDAY=1MO
END:DAYLIGHT
BEGIN:DAYLIGHT
TZNAME:CEMT
TZOFFSETFROM:+0200
TZOFFSETTO:+0300
DTSTART:19450524T020000
RDATE:19470511T030000
END:DAYLIGHT
BEGIN:DAYLIGHT
TZNAME:CEST
TZOFFSETFROM:+0300
TZOFFSETTO:+0200
DTSTART:19450924T030000
RDATE:19470629T030000
END:DAYLIGHT
BEGIN:STANDARD
TZNAME:CET
TZOFFSETFROM:+0100
TZOFFSETTO:+0100
DTSTART:19460101T000000
RDATE:19800101T000000
END:STANDARD
BEGIN:STANDARD
TZNAME:CET
TZOFFSETFROM:+0200
TZOFFSETTO:+0100
DTSTART:19471005T030000
RRULE:FREQ=YEARLY;UNTIL=19491002T010000Z;BYMONTH=10;BYDAY=1SU
END:STANDARD
BEGIN:STANDARD
TZNAME:CET
TZOFFSETFROM:+0200
TZOFFSETTO:+0100
DTSTART:19800928T030000
RRULE:FREQ=YEARLY;UNTIL=19950924T010000Z;BYMONTH=9;BYDAY=-1SU
END:STANDARD
BEGIN:DAYLIGHT
TZNAME:CEST
TZOFFSETFROM:+0100
TZOFFSETTO:+0200
DTSTART:19810329T020000
RRULE:FREQ=YEARLY;BYMONTH=3;BYDAY=-1SU
END:DAYLIGHT
BEGIN:STANDARD
TZNAME:CET
TZOFFSETFROM:+0200
TZOFFSETTO:+0100
DTSTART:19961027T030000
RRULE:FREQ=YEARLY;BYMONTH=10;BYDAY=-1SU
END:STANDARD
END:VTIMEZONE
BEGIN:VEVENT
DTSTAMP:20260424T231841Z
DTSTART;TZID=Europe/Berlin:20250201T180000
DTEND;TZID=Europe/Berlin:20250201T210000
SUMMARY:HE NLC Gr. 4 Zürich-Affoltern vs Young Stars ZH III (6)
UID:1e0644d5-19f7-48e8-82e0-0f73b1ccfb56
STATUS:CONFIRMED
LAST-MODIFIED:20250203T093249Z
DESCRIPTION:Herren Nationalliga C Gruppe 4\nBegegnungs-Nr: 6\nHeim: Zürich-Affoltern\nGast: Young Stars ZH III\n
LOCATION:
CATEGORIES:Saison 2024/25
END:VEVENT
BEGIN:VEVENT
DTSTAMP:20260424T231841Z
DTSTART;TZID=Europe/Berlin:20250111T180000
DTEND;TZID=Europe/Berlin:20250111T210000
SUMMARY:HE NLC Gr. 4 Zürich-Affoltern vs Rapid Luzern III (3)
UID:c6d52021-9a36-4d48-966e-f2a4fd2776d8
STATUS:CONFIRMED
LAST-MODIFIED:20250113T084154Z
DESCRIPTION:Herren Nationalliga C Gruppe 4\nBegegnungs-Nr: 3\nHeim: Zürich-Affoltern\nGast: Rapid Luzern III\n\nAdresse: Rümlangstr. 89\, 8052 Zürich\n
LOCATION:Rümlangstr. 89\, 8052 Zürich
CATEGORIES:Saison 2024/25
END:VEVENT
BEGIN:VEVENT
DTSTAMP:20260424T231841Z
DTSTART;TZID=Europe/Berlin:20250405T180000
DTEND;TZID=Europe/Berlin:20250405T210000
SUMMARY:HE NLC Gr. 4 Zürich-Affoltern vs Affoltern A/A (23)
UID:9c32b71d-0341-4618-9718-9bfb41dafe7a
STATUS:CONFIRMED
LAST-MODIFIED:20250409T124737Z
DESCRIPTION:Herren Nationalliga C Gruppe 4\nBegegnungs-Nr: 23\nHeim: Zürich-Affoltern\nGast: Affoltern A/A\n
LOCATION:
CATEGORIES:Saison 2024/25
END:VEVENT
BEGIN:VEVENT
DTSTAMP:20260424T231841Z
DTSTART;TZID=Europe/Berlin:20240928T160000
DTEND;TZID=Europe/Berlin:20240928T190000
SUMMARY:HE NLC Gr. 4 Zürich-Affoltern vs Neuhausen II (5)
UID:96a6b5cf-002c-4a5c-8aee-5aab790b2b3e
STATUS:CONFIRMED
LAST-MODIFIED:20241001T072134Z
DESCRIPTION:Herren Nationalliga C Gruppe 4\nBegegnungs-Nr: 5\nHeim: Zürich-Affoltern\nGast: Neuhausen II\n\nAdresse: Rümlangstr. 89\, 8052 Zürich\n
LOCATION:Rümlangstr. 89\, 8052 Zürich
CATEGORIES:Saison 2024/25
END:VEVENT
BEGIN:VEVENT
DTSTAMP:20260424T231841Z
DTSTART;TZID=Europe/Berlin:20241207T180000
DTEND;TZID=Europe/Berlin:20241207T210000
SUMMARY:HE NLC Gr. 4 Zürich-Affoltern vs Wädenswil (28)
UID:6191bc23-f41e-42df-89e5-7033c9dbe092
STATUS:CONFIRMED
LAST-MODIFIED:20241209T112013Z
DESCRIPTION:Herren Nationalliga C Gruppe 4\nBegegnungs-Nr: 28\nHeim: Zürich-Affoltern\nGast: Wädenswil\n\nAdresse: Rümlangstr. 89\, 8052 Zürich\n
LOCATION:Rümlangstr. 89\, 8052 Zürich
CATEGORIES:Saison 2024/25
END:VEVENT
BEGIN:VEVENT
DTSTAMP:20260424T231841Z
DTSTART;TZID=Europe/Berlin:20241116T180000
DTEND;TZID=Europe/Berlin:20241116T210000
SUMMARY:HE NLC Gr. 4 Zürich-Affoltern vs Horgen (24)
UID:f08d2de2-b612-4fd2-8af4-5161edb3f49b
STATUS:CONFIRMED
LAST-MODIFIED:20241118T112132Z
DESCRIPTION:Herren Nationalliga C Gruppe 4\nBegegnungs-Nr: 24\nHeim: Zürich-Affoltern\nGast: Horgen\n\nAdresse: Rümlangstr. 89\, 8052 Zürich\n
LOCATION:Rümlangstr. 89\, 8052 Zürich
CATEGORIES:Saison 2024/25
END:VEVENT
BEGIN:VEVENT
DTSTAMP:20260424T231841Z
DTSTART;TZID=Europe/Berlin:20241026T180000
DTEND;TZID=Europe/Berlin:20241026T210000
SUMMARY:HE NLC Gr. 4 Zürich-Affoltern vs Wetzikon (15)
UID:b7fd3dbb-631f-4103-822c-9df5c778d26c
STATUS:CONFIRMED
LAST-MODIFIED:20241031T082757Z
DESCRIPTION:Herren Nationalliga C Gruppe 4\nBegegnungs-Nr: 15\nHeim: Zürich-Affoltern\nGast: Wetzikon\n\nAdresse: Rümlangstr. 89\, 8052 Zürich\n
LOCATION:Rümlangstr. 89\, 8052 Zürich
CATEGORIES:Saison 2024/25
END:VEVENT
BEGIN:VEVENT
DTSTAMP:20260424T231841Z
DTSTART;TZID=Europe/Berlin:20250406T130000
DTEND;TZID=Europe/Berlin:20250406T160000
SUMMARY:HE NLC Gr. 4 Neuhausen II vs Zürich-Affoltern (25)
UID:f056db65-0e37-4d6b-9c8c-9d91e48a97ae
STATUS:CONFIRMED
LAST-MODIFIED:20250408T102621Z
DESCRIPTION:Herren Nationalliga C Gruppe 4\nBegegnungs-Nr: 25\nHeim: Neuhausen II\nGast: Zürich-Affoltern\n\nAdresse: Ebnatstrasse 35\, 8200 Schaffhausen\n
LOCATION:Ebnatstrasse 35\, 8200 Schaffhausen
CATEGORIES:Saison 2024/25
END:VEVENT
BEGIN:VEVENT
DTSTAMP:20260424T231841Z
DTSTART;TZID=Europe/Berlin:20250208T180000
DTEND;TZID=Europe/Berlin:20250208T210000
SUMMARY:HE NLC Gr. 4 Wädenswil vs Zürich-Affoltern (12)
UID:5f310daf-daa1-4ef8-883c-72fc00414df8
STATUS:CONFIRMED
LAST-MODIFIED:20250210T073634Z
DESCRIPTION:Herren Nationalliga C Gruppe 4\nBegegnungs-Nr: 12\nHeim: Wädenswil\nGast: Zürich-Affoltern\n\nAdresse: Fuhrstrasse 16b\, 8820 Wädenswil\n
LOCATION:Fuhrstrasse 16b\, 8820 Wädenswil
CATEGORIES:Saison 2024/25
END:VEVENT
BEGIN:VEVENT
DTSTAMP:20260424T231841Z
DTSTART;TZID=Europe/Berlin:20250302T110000
DTEND;TZID=Europe/Berlin:20250302T140000
SUMMARY:HE NLC Gr. 4 Wetzikon vs Zürich-Affoltern (15)
UID:05c5bf53-24d3-4fd9-9861-94bfc09bd7cb
STATUS:CONFIRMED
LAST-MODIFIED:20250303T071408Z
DESCRIPTION:Herren Nationalliga C Gruppe 4\nBegegnungs-Nr: 15\nHeim: Wetzikon\nGast: Zürich-Affoltern\n\nAdresse: Bühlstrasse 26\, 8620 Wetzikon\n
LOCATION:Bühlstrasse 26\, 8620 Wetzikon
CATEGORIES:Saison 2024/25
END:VEVENT
BEGIN:VEVENT
DTSTAMP:20260424T231841Z
DTSTART;TZID=Europe/Berlin:20250312T200000
DTEND;TZID=Europe/Berlin:20250312T230000
SUMMARY:HE NLC Gr. 4 Horgen vs Zürich-Affoltern (20)
UID:5b68cbdd-5b74-45f5-aaff-7db90a106a9f
STATUS:CONFIRMED
LAST-MODIFIED:20250313T143212Z
DESCRIPTION:Herren Nationalliga C Gruppe 4\nBegegnungs-Nr: 20\nHeim: Horgen\nGast: Zürich-Affoltern\n\nAdresse: Seestrasse 110\, 8810 Horgen\n
LOCATION:Seestrasse 110\, 8810 Horgen
CATEGORIES:Saison 2024/25
END:VEVENT
BEGIN:VEVENT
DTSTAMP:20260424T231841Z
DTSTART;TZID=Europe/Berlin:20241019T173000
DTEND;TZID=Europe/Berlin:20241019T203000
SUMMARY:HE NLC Gr. 4 Young Stars ZH III vs Zürich-Affoltern (10)
UID:2bbfdf4e-9ce8-4602-b495-2a2c7bb0bab4
STATUS:CONFIRMED
LAST-MODIFIED:20241021T100903Z
DESCRIPTION:Herren Nationalliga C Gruppe 4\nBegegnungs-Nr: 10\nHeim: Young Stars ZH III\nGast: Zürich-Affoltern\n\nAdresse: Seefeldstrasse 93\, 8008 Zürich\n
LOCATION:Seefeldstrasse 93\, 8008 Zürich
CATEGORIES:Saison 2024/25
END:VEVENT
BEGIN:VEVENT
DTSTAMP:20260424T231841Z
DTSTART;TZID=Europe/Berlin:20241109T150000
DTEND;TZID=Europe/Berlin:20241109T180000
SUMMARY:HE NLC Gr. 4 Affoltern A/A vs Zürich-Affoltern (19)
UID:51bfdd1a-614a-4a5e-97a7-008612d931a1
STATUS:CONFIRMED
LAST-MODIFIED:20241111T161324Z
DESCRIPTION:Herren Nationalliga C Gruppe 4\nBegegnungs-Nr: 19\nHeim: Affoltern A/A\nGast: Zürich-Affoltern\n\nAdresse: Butzenstrasse 8\, 8910 Affoltern am Albis\n
LOCATION:Butzenstrasse 8\, 8910 Affoltern am Albis
CATEGORIES:Saison 2024/25
END:VEVENT
BEGIN:VEVENT
DTSTAMP:20260424T231841Z
DTSTART;TZID=Europe/Berlin:20240907T130000
DTEND;TZID=Europe/Berlin:20240907T160000
SUMMARY:HE NLC Gr. 4 Rapid Luzern III vs Zürich-Affoltern (3)
UID:7c97366c-2913-4687-8030-7676f0b95d3a
STATUS:CONFIRMED
LAST-MODIFIED:20240910T080020Z
DESCRIPTION:Herren Nationalliga C Gruppe 4\nBegegnungs-Nr: 3\nHeim: Rapid Luzern III\nGast: Zürich-Affoltern\n\nAdresse: Kreuzbuchstr. 60\, 6006 Luzern\n
LOCATION:Kreuzbuchstr. 60\, 6006 Luzern
CATEGORIES:Saison 2024/25
END:VEVENT
END:VCALENDAR
