BEGIN:VCALENDAR
PRODID:-//nuDatenautomaten//framework iCal4j //DE
VERSION:2.0
CALSCALE:GREGORIAN
BEGIN:VTIMEZONE
TZID:Europe/Berlin
LAST-MODIFIED:20260306T231828Z
TZURL:https://www.tzurl.org/zoneinfo/Europe/Berlin
X-LIC-LOCATION:Europe/Berlin
X-PROLEPTIC-TZNAME:LMT
BEGIN:STANDARD
TZNAME:CET
TZOFFSETFROM:+005328
TZOFFSETTO:+0100
DTSTART:18930401T000000
END:STANDARD
BEGIN:DAYLIGHT
TZNAME:CEST
TZOFFSETFROM:+0100
TZOFFSETTO:+0200
DTSTART:19160430T230000
RDATE:19400401T020000
RDATE:19430329T020000
RDATE:19460414T020000
RDATE:19470406T030000
RDATE:19480418T020000
RDATE:19490410T020000
RDATE:19800406T020000
END:DAYLIGHT
BEGIN:STANDARD
TZNAME:CET
TZOFFSETFROM:+0200
TZOFFSETTO:+0100
DTSTART:19161001T010000
RDATE:19421102T030000
RDATE:19431004T030000
RDATE:19441002T030000
RDATE:19451118T030000
RDATE:19461007T030000
END:STANDARD
BEGIN:DAYLIGHT
TZNAME:CEST
TZOFFSETFROM:+0100
TZOFFSETTO:+0200
DTSTART:19170416T020000
RRULE:FREQ=YEARLY;UNTIL=19180415T010000Z;BYMONTH=4;BYDAY=3MO
END:DAYLIGHT
BEGIN:STANDARD
TZNAME:CET
TZOFFSETFROM:+0200
TZOFFSETTO:+0100
DTSTART:19170917T030000
RRULE:FREQ=YEARLY;UNTIL=19180916T010000Z;BYMONTH=9;BYDAY=3MO
END:STANDARD
BEGIN:DAYLIGHT
TZNAME:CEST
TZOFFSETFROM:+0100
TZOFFSETTO:+0200
DTSTART:19440403T020000
RRULE:FREQ=YEARLY;UNTIL=19450402T010000Z;BYMONTH=4;BYDAY=1MO
END:DAYLIGHT
BEGIN:DAYLIGHT
TZNAME:CEMT
TZOFFSETFROM:+0200
TZOFFSETTO:+0300
DTSTART:19450524T020000
RDATE:19470511T030000
END:DAYLIGHT
BEGIN:DAYLIGHT
TZNAME:CEST
TZOFFSETFROM:+0300
TZOFFSETTO:+0200
DTSTART:19450924T030000
RDATE:19470629T030000
END:DAYLIGHT
BEGIN:STANDARD
TZNAME:CET
TZOFFSETFROM:+0100
TZOFFSETTO:+0100
DTSTART:19460101T000000
RDATE:19800101T000000
END:STANDARD
BEGIN:STANDARD
TZNAME:CET
TZOFFSETFROM:+0200
TZOFFSETTO:+0100
DTSTART:19471005T030000
RRULE:FREQ=YEARLY;UNTIL=19491002T010000Z;BYMONTH=10;BYDAY=1SU
END:STANDARD
BEGIN:STANDARD
TZNAME:CET
TZOFFSETFROM:+0200
TZOFFSETTO:+0100
DTSTART:19800928T030000
RRULE:FREQ=YEARLY;UNTIL=19950924T010000Z;BYMONTH=9;BYDAY=-1SU
END:STANDARD
BEGIN:DAYLIGHT
TZNAME:CEST
TZOFFSETFROM:+0100
TZOFFSETTO:+0200
DTSTART:19810329T020000
RRULE:FREQ=YEARLY;BYMONTH=3;BYDAY=-1SU
END:DAYLIGHT
BEGIN:STANDARD
TZNAME:CET
TZOFFSETFROM:+0200
TZOFFSETTO:+0100
DTSTART:19961027T030000
RRULE:FREQ=YEARLY;BYMONTH=10;BYDAY=-1SU
END:STANDARD
END:VTIMEZONE
BEGIN:VEVENT
DTSTAMP:20260425T005109Z
DTSTART;TZID=Europe/Berlin:20240831T160000
DTEND;TZID=Europe/Berlin:20240831T190000
SUMMARY:JUG\, 2.Liga\, Gr.6\, Vorrunde Ruggell vs Herisau (6)
UID:02aa993b-bbe3-43d9-a0e0-1d24ea4f40c3
STATUS:CONFIRMED
LAST-MODIFIED:20240904T124322Z
DESCRIPTION:Jugend\, 2. Liga\, Gruppe 6\, Vorrunde\nBegegnungs-Nr: 6\nHeim: Ruggell\nGast: Herisau\n\nAdresse: Nellengasse 40\, 9491 Ruggell\n
LOCATION:Nellengasse 40\, 9491 Ruggell
CATEGORIES:Saison 2024/25
END:VEVENT
BEGIN:VEVENT
DTSTAMP:20260425T005109Z
DTSTART;TZID=Europe/Berlin:20241116T130000
DTEND;TZID=Europe/Berlin:20241116T160000
SUMMARY:JUG. 2.Liga\, Gr.2\, Zw-Runde Ruggell vs Rapperswil-Jona II (2)
UID:79b40062-82ce-4809-abf1-09d7e4e75683
STATUS:CONFIRMED
LAST-MODIFIED:20241122T152334Z
DESCRIPTION:Jugend\, 2. Liga\, Gruppe 2\, Zw-Runde\nBegegnungs-Nr: 2\nHeim: Ruggell\nGast: Rapperswil-Jona II\n
LOCATION:
CATEGORIES:Saison 2024/25
END:VEVENT
BEGIN:VEVENT
DTSTAMP:20260425T005109Z
DTSTART;TZID=Europe/Berlin:20250329T143000
DTEND;TZID=Europe/Berlin:20250329T173000
SUMMARY:JUG\, 2.Liga\, Gr.3\, Final Ruggell vs Niederhasli (3)
UID:bf84e0e7-b034-498e-9a18-0082a1b7038b
STATUS:CONFIRMED
LAST-MODIFIED:20250404T084557Z
DESCRIPTION:Jugend\, 2. Liga\, Gruppe 3\, Final\nBegegnungs-Nr: 3\nHeim: Ruggell\nGast: Niederhasli\n\nAdresse: Nellengasse 40\, 9491 Ruggell\n
LOCATION:Nellengasse 40\, 9491 Ruggell
CATEGORIES:Saison 2024/25
END:VEVENT
BEGIN:VEVENT
DTSTAMP:20260425T005109Z
DTSTART;TZID=Europe/Berlin:20241116T160000
DTEND;TZID=Europe/Berlin:20241116T190000
SUMMARY:JUG. 2.Liga\, Gr.2\, Zw-Runde Ruggell vs Affoltern A/A II (5)
UID:97ed1abb-5bb5-418b-aa85-7ed7cfcce152
STATUS:CONFIRMED
LAST-MODIFIED:20241122T152416Z
DESCRIPTION:Jugend\, 2. Liga\, Gruppe 2\, Zw-Runde\nBegegnungs-Nr: 5\nHeim: Ruggell\nGast: Affoltern A/A II\n
LOCATION:
CATEGORIES:Saison 2024/25
END:VEVENT
BEGIN:VEVENT
DTSTAMP:20260425T005109Z
DTSTART;TZID=Europe/Berlin:20240831T143000
DTEND;TZID=Europe/Berlin:20240831T173000
SUMMARY:JUG\, 2.Liga\, Gr.6\, Vorrunde St. Gallen II vs Ruggell (3)
UID:6f0d0492-787c-421a-9fef-515449c92f18
STATUS:CONFIRMED
LAST-MODIFIED:20240904T124301Z
DESCRIPTION:Jugend\, 2. Liga\, Gruppe 6\, Vorrunde\nBegegnungs-Nr: 3\nHeim: St. Gallen II\nGast: Ruggell\n\nAdresse: Zilstrasse 61\, 9016 St.Gallen\n
LOCATION:Zilstrasse 61\, 9016 St.Gallen
CATEGORIES:Saison 2024/25
END:VEVENT
BEGIN:VEVENT
DTSTAMP:20260425T005109Z
DTSTART;TZID=Europe/Berlin:20240831T130000
DTEND;TZID=Europe/Berlin:20240831T160000
SUMMARY:JUG\, 2.Liga\, Gr.6\, Vorrunde Steckborn-Homburg vs Ruggell (2)
UID:6eeda4f8-1389-4d8a-82f8-e6003c5dd389
STATUS:CONFIRMED
LAST-MODIFIED:20240819T112047Z
DESCRIPTION:Jugend\, 2. Liga\, Gruppe 6\, Vorrunde\nBegegnungs-Nr: 2\nHeim: Steckborn-Homburg\nGast: Ruggell\n\nAdresse: Feldbach\, 8266 Steckborn\n
LOCATION:Feldbach\, 8266 Steckborn
CATEGORIES:Saison 2024/25
END:VEVENT
BEGIN:VEVENT
DTSTAMP:20260425T005109Z
DTSTART;TZID=Europe/Berlin:20241116T143000
DTEND;TZID=Europe/Berlin:20241116T173000
SUMMARY:JUG. 2.Liga\, Gr.2\, Zw-Runde Niederhasli vs Ruggell (4)
UID:dff0f226-5e1e-4d83-8e0e-7eb43fccffee
STATUS:CONFIRMED
LAST-MODIFIED:20241122T152404Z
DESCRIPTION:Jugend\, 2. Liga\, Gruppe 2\, Zw-Runde\nBegegnungs-Nr: 4\nHeim: Niederhasli\nGast: Ruggell\n
LOCATION:
CATEGORIES:Saison 2024/25
END:VEVENT
BEGIN:VEVENT
DTSTAMP:20260425T005109Z
DTSTART;TZID=Europe/Berlin:20250329T130000
DTEND;TZID=Europe/Berlin:20250329T160000
SUMMARY:JUG\, 2.Liga\, Gr.3\, Final Winterthur vs Ruggell (1)
UID:9d656e33-4d30-430c-afff-339a17eadd6e
STATUS:CONFIRMED
LAST-MODIFIED:20250404T084537Z
DESCRIPTION:Jugend\, 2. Liga\, Gruppe 3\, Final\nBegegnungs-Nr: 1\nHeim: Winterthur\nGast: Ruggell\nHalle: Poule in Winterthur\, TH Schachen\nAdresse: Buchackerstrasse 54\, 8400 Winterthur\n
LOCATION:Poule in Winterthur\, TH Schachen Buchackerstrasse 54\, 8400 Winterthur
CATEGORIES:Saison 2024/25
END:VEVENT
BEGIN:VEVENT
DTSTAMP:20260425T005109Z
DTSTART;TZID=Europe/Berlin:20250329T154000
DTEND;TZID=Europe/Berlin:20250329T184000
SUMMARY:JUG\, 2.Liga\, Gr.3\, Final Young Stars ZH III vs Ruggell (5)
UID:ae34b494-58b2-4bf1-814a-aa292c8cc2f0
STATUS:CONFIRMED
LAST-MODIFIED:20250404T084617Z
DESCRIPTION:Jugend\, 2. Liga\, Gruppe 3\, Final\nBegegnungs-Nr: 5\nHeim: Young Stars ZH III\nGast: Ruggell\n\nAdresse: Balgriststrasse 55\, 8008 Zürich\n
LOCATION:Balgriststrasse 55\, 8008 Zürich
CATEGORIES:Saison 2024/25
END:VEVENT
END:VCALENDAR
