BEGIN:VCALENDAR
PRODID:-//nuDatenautomaten//framework iCal4j //DE
VERSION:2.0
CALSCALE:GREGORIAN
BEGIN:VTIMEZONE
TZID:Europe/Berlin
LAST-MODIFIED:20260306T231828Z
TZURL:https://www.tzurl.org/zoneinfo/Europe/Berlin
X-LIC-LOCATION:Europe/Berlin
X-PROLEPTIC-TZNAME:LMT
BEGIN:STANDARD
TZNAME:CET
TZOFFSETFROM:+005328
TZOFFSETTO:+0100
DTSTART:18930401T000000
END:STANDARD
BEGIN:DAYLIGHT
TZNAME:CEST
TZOFFSETFROM:+0100
TZOFFSETTO:+0200
DTSTART:19160430T230000
RDATE:19400401T020000
RDATE:19430329T020000
RDATE:19460414T020000
RDATE:19470406T030000
RDATE:19480418T020000
RDATE:19490410T020000
RDATE:19800406T020000
END:DAYLIGHT
BEGIN:STANDARD
TZNAME:CET
TZOFFSETFROM:+0200
TZOFFSETTO:+0100
DTSTART:19161001T010000
RDATE:19421102T030000
RDATE:19431004T030000
RDATE:19441002T030000
RDATE:19451118T030000
RDATE:19461007T030000
END:STANDARD
BEGIN:DAYLIGHT
TZNAME:CEST
TZOFFSETFROM:+0100
TZOFFSETTO:+0200
DTSTART:19170416T020000
RRULE:FREQ=YEARLY;UNTIL=19180415T010000Z;BYMONTH=4;BYDAY=3MO
END:DAYLIGHT
BEGIN:STANDARD
TZNAME:CET
TZOFFSETFROM:+0200
TZOFFSETTO:+0100
DTSTART:19170917T030000
RRULE:FREQ=YEARLY;UNTIL=19180916T010000Z;BYMONTH=9;BYDAY=3MO
END:STANDARD
BEGIN:DAYLIGHT
TZNAME:CEST
TZOFFSETFROM:+0100
TZOFFSETTO:+0200
DTSTART:19440403T020000
RRULE:FREQ=YEARLY;UNTIL=19450402T010000Z;BYMONTH=4;BYDAY=1MO
END:DAYLIGHT
BEGIN:DAYLIGHT
TZNAME:CEMT
TZOFFSETFROM:+0200
TZOFFSETTO:+0300
DTSTART:19450524T020000
RDATE:19470511T030000
END:DAYLIGHT
BEGIN:DAYLIGHT
TZNAME:CEST
TZOFFSETFROM:+0300
TZOFFSETTO:+0200
DTSTART:19450924T030000
RDATE:19470629T030000
END:DAYLIGHT
BEGIN:STANDARD
TZNAME:CET
TZOFFSETFROM:+0100
TZOFFSETTO:+0100
DTSTART:19460101T000000
RDATE:19800101T000000
END:STANDARD
BEGIN:STANDARD
TZNAME:CET
TZOFFSETFROM:+0200
TZOFFSETTO:+0100
DTSTART:19471005T030000
RRULE:FREQ=YEARLY;UNTIL=19491002T010000Z;BYMONTH=10;BYDAY=1SU
END:STANDARD
BEGIN:STANDARD
TZNAME:CET
TZOFFSETFROM:+0200
TZOFFSETTO:+0100
DTSTART:19800928T030000
RRULE:FREQ=YEARLY;UNTIL=19950924T010000Z;BYMONTH=9;BYDAY=-1SU
END:STANDARD
BEGIN:DAYLIGHT
TZNAME:CEST
TZOFFSETFROM:+0100
TZOFFSETTO:+0200
DTSTART:19810329T020000
RRULE:FREQ=YEARLY;BYMONTH=3;BYDAY=-1SU
END:DAYLIGHT
BEGIN:STANDARD
TZNAME:CET
TZOFFSETFROM:+0200
TZOFFSETTO:+0100
DTSTART:19961027T030000
RRULE:FREQ=YEARLY;BYMONTH=10;BYDAY=-1SU
END:STANDARD
END:VTIMEZONE
BEGIN:VEVENT
DTSTAMP:20260425T021421Z
DTSTART;TZID=Europe/Berlin:20250305T194500
DTEND;TZID=Europe/Berlin:20250305T224500
SUMMARY:HE 5. Liga Gr. 4 Zürich-Affoltern VII vs Urdorf III (0)
UID:00ff8459-cdb5-4cae-a300-811bd0dc1196
STATUS:CONFIRMED
LAST-MODIFIED:20250306T142710Z
DESCRIPTION:5. Liga Herren Gruppe 4\nBegegnungs-Nr: 0\nHeim: Zürich-Affoltern VII\nGast: Urdorf III\n\nAdresse: Fronwaldstr.115\, 8046 Zürich\n
LOCATION:Fronwaldstr.115\, 8046 Zürich
CATEGORIES:Saison 2024/25
END:VEVENT
BEGIN:VEVENT
DTSTAMP:20260425T021421Z
DTSTART;TZID=Europe/Berlin:20250205T194500
DTEND;TZID=Europe/Berlin:20250205T224500
SUMMARY:HE 5. Liga Gr. 4 Zürich-Affoltern VII vs Seebach-Kügeliloo III (0)
UID:df15a571-b76c-41ab-8678-94ae7f090b22
STATUS:CONFIRMED
LAST-MODIFIED:20250206T141030Z
DESCRIPTION:5. Liga Herren Gruppe 4\nBegegnungs-Nr: 0\nHeim: Zürich-Affoltern VII\nGast: Seebach-Kügeliloo III\n\nAdresse: Fronwaldstr.115\, 8046 Zürich\n
LOCATION:Fronwaldstr.115\, 8046 Zürich
CATEGORIES:Saison 2024/25
END:VEVENT
BEGIN:VEVENT
DTSTAMP:20260425T021421Z
DTSTART;TZID=Europe/Berlin:20250129T194500
DTEND;TZID=Europe/Berlin:20250129T224500
SUMMARY:HE 5. Liga Gr. 4 Zürich-Affoltern VII vs Affoltern A/A V (0)
UID:713d83bb-de9c-4c16-a190-2eb35e68c277
STATUS:CONFIRMED
LAST-MODIFIED:20250131T143940Z
DESCRIPTION:5. Liga Herren Gruppe 4\nBegegnungs-Nr: 0\nHeim: Zürich-Affoltern VII\nGast: Affoltern A/A V\n\nAdresse: Fronwaldstr.115\, 8046 Zürich\n
LOCATION:Fronwaldstr.115\, 8046 Zürich
CATEGORIES:Saison 2024/25
END:VEVENT
BEGIN:VEVENT
DTSTAMP:20260425T021421Z
DTSTART;TZID=Europe/Berlin:20250122T194500
DTEND;TZID=Europe/Berlin:20250122T224500
SUMMARY:HE 5. Liga Gr. 4 Zürich-Affoltern VII vs Seebach-Kügeliloo IV (0)
UID:d7f4949a-e802-42f8-80f2-1026aa58401e
STATUS:CONFIRMED
LAST-MODIFIED:20250123T083124Z
DESCRIPTION:5. Liga Herren Gruppe 4\nBegegnungs-Nr: 0\nHeim: Zürich-Affoltern VII\nGast: Seebach-Kügeliloo IV\n\nAdresse: Fronwaldstr.115\, 8046 Zürich\n
LOCATION:Fronwaldstr.115\, 8046 Zürich
CATEGORIES:Saison 2024/25
END:VEVENT
BEGIN:VEVENT
DTSTAMP:20260425T021421Z
DTSTART;TZID=Europe/Berlin:20241204T194500
DTEND;TZID=Europe/Berlin:20241204T224500
SUMMARY:HE 5. Liga Gr. 4 Zürich-Affoltern VII vs Niederhasli V (0)
UID:fb0511e6-f097-4e38-8d93-ecb3fedd1568
STATUS:CONFIRMED
LAST-MODIFIED:20241211T093632Z
DESCRIPTION:5. Liga Herren Gruppe 4\nBegegnungs-Nr: 0\nHeim: Zürich-Affoltern VII\nGast: Niederhasli V\n\nAdresse: Fronwaldstr.115\, 8046 Zürich\n
LOCATION:Fronwaldstr.115\, 8046 Zürich
CATEGORIES:Saison 2024/25
END:VEVENT
BEGIN:VEVENT
DTSTAMP:20260425T021421Z
DTSTART;TZID=Europe/Berlin:20241106T194500
DTEND;TZID=Europe/Berlin:20241106T224500
SUMMARY:HE 5. Liga Gr. 4 Zürich-Affoltern VII vs Höngg III (0)
UID:1245ba84-ed38-41f4-aa81-142885e7b6f0
STATUS:CONFIRMED
LAST-MODIFIED:20241108T142816Z
DESCRIPTION:5. Liga Herren Gruppe 4\nBegegnungs-Nr: 0\nHeim: Zürich-Affoltern VII\nGast: Höngg III\n\nAdresse: Fronwaldstr.115\, 8046 Zürich\n
LOCATION:Fronwaldstr.115\, 8046 Zürich
CATEGORIES:Saison 2024/25
END:VEVENT
BEGIN:VEVENT
DTSTAMP:20260425T021421Z
DTSTART;TZID=Europe/Berlin:20240828T194500
DTEND;TZID=Europe/Berlin:20240828T224500
SUMMARY:HE 5. Liga Gr. 4 Zürich-Affoltern VII vs Buchs Zürich IV (0)
UID:56056e67-465b-4246-8393-4bf7c21ef777
STATUS:CONFIRMED
LAST-MODIFIED:20240904T104004Z
DESCRIPTION:5. Liga Herren Gruppe 4\nBegegnungs-Nr: 0\nHeim: Zürich-Affoltern VII\nGast: Buchs Zürich IV\n\nAdresse: Fronwaldstr.115\, 8046 Zürich\n
LOCATION:Fronwaldstr.115\, 8046 Zürich
CATEGORIES:Saison 2024/25
END:VEVENT
BEGIN:VEVENT
DTSTAMP:20260425T021421Z
DTSTART;TZID=Europe/Berlin:20250324T193000
DTEND;TZID=Europe/Berlin:20250324T223000
SUMMARY:HE 5. Liga Gr. 4 Niederhasli V vs Zürich-Affoltern VII (0)
UID:53cb58be-eaf0-4991-87b8-3aacea305985
STATUS:CONFIRMED
LAST-MODIFIED:20250327T134104Z
DESCRIPTION:5. Liga Herren Gruppe 4\nBegegnungs-Nr: 0\nHeim: Niederhasli V\nGast: Zürich-Affoltern VII\n\nAdresse: Dorfstrasse 22\, 8155 Niederhasli\n
LOCATION:Dorfstrasse 22\, 8155 Niederhasli
CATEGORIES:Saison 2024/25
END:VEVENT
BEGIN:VEVENT
DTSTAMP:20260425T021421Z
DTSTART;TZID=Europe/Berlin:20250310T200000
DTEND;TZID=Europe/Berlin:20250310T230000
SUMMARY:HE 5. Liga Gr. 4 Höngg III vs Zürich-Affoltern VII (0)
UID:5e63ea7b-e082-4dd9-b870-3e3d26318e11
STATUS:CONFIRMED
LAST-MODIFIED:20250311T160211Z
DESCRIPTION:5. Liga Herren Gruppe 4\nBegegnungs-Nr: 0\nHeim: Höngg III\nGast: Zürich-Affoltern VII\n\nAdresse: Bläsistrasse 2\, 8049 Zürich\n
LOCATION:Bläsistrasse 2\, 8049 Zürich
CATEGORIES:Saison 2024/25
END:VEVENT
BEGIN:VEVENT
DTSTAMP:20260425T021421Z
DTSTART;TZID=Europe/Berlin:20250110T193000
DTEND;TZID=Europe/Berlin:20250110T223000
SUMMARY:HE 5. Liga Gr. 4 Buchs Zürich IV vs Zürich-Affoltern VII (0)
UID:4416bce8-150c-4f23-bbd1-50eaf0345dd2
STATUS:CONFIRMED
LAST-MODIFIED:20250113T123600Z
DESCRIPTION:5. Liga Herren Gruppe 4\nBegegnungs-Nr: 0\nHeim: Buchs Zürich IV\nGast: Zürich-Affoltern VII\n\nAdresse: Drisglerstrasse 3\, 8107 Buchs ZH\n
LOCATION:Drisglerstrasse 3\, 8107 Buchs ZH
CATEGORIES:Saison 2024/25
END:VEVENT
BEGIN:VEVENT
DTSTAMP:20260425T021421Z
DTSTART;TZID=Europe/Berlin:20241101T201500
DTEND;TZID=Europe/Berlin:20241101T231500
SUMMARY:HE 5. Liga Gr. 4 Urdorf III vs Zürich-Affoltern VII (0)
UID:dddf5972-3fd8-43ee-a1a9-792d8e96a71d
STATUS:CONFIRMED
LAST-MODIFIED:20241108T141741Z
DESCRIPTION:5. Liga Herren Gruppe 4\nBegegnungs-Nr: 0\nHeim: Urdorf III\nGast: Zürich-Affoltern VII\n\nAdresse: Weihermattstrasse 50\, 8902 Urdorf\n
LOCATION:Weihermattstrasse 50\, 8902 Urdorf
CATEGORIES:Saison 2024/25
END:VEVENT
BEGIN:VEVENT
DTSTAMP:20260425T021421Z
DTSTART;TZID=Europe/Berlin:20240925T193000
DTEND;TZID=Europe/Berlin:20240925T223000
SUMMARY:HE 5. Liga Gr. 4 Seebach-Kügeliloo III vs Zürich-Affoltern VII (0)
UID:58773915-f0b5-4a53-9a87-dfff0ba7e5cf
STATUS:CONFIRMED
LAST-MODIFIED:20240926T115042Z
DESCRIPTION:5. Liga Herren Gruppe 4\nBegegnungs-Nr: 0\nHeim: Seebach-Kügeliloo III\nGast: Zürich-Affoltern VII\n\nAdresse: Maienstrasse 9\, 8050 Zürich\n
LOCATION:Maienstrasse 9\, 8050 Zürich
CATEGORIES:Saison 2024/25
END:VEVENT
BEGIN:VEVENT
DTSTAMP:20260425T021421Z
DTSTART;TZID=Europe/Berlin:20241022T193000
DTEND;TZID=Europe/Berlin:20241022T223000
SUMMARY:HE 5. Liga Gr. 4 Affoltern A/A V vs Zürich-Affoltern VII (0)
UID:bf77109d-df58-44b1-bddd-c8b965f17129
STATUS:CONFIRMED
LAST-MODIFIED:20241023T081928Z
DESCRIPTION:5. Liga Herren Gruppe 4\nBegegnungs-Nr: 0\nHeim: Affoltern A/A V\nGast: Zürich-Affoltern VII\n\nAdresse: Butzenstrasse 8\, 8910 Affoltern am Albis\n
LOCATION:Butzenstrasse 8\, 8910 Affoltern am Albis
CATEGORIES:Saison 2024/25
END:VEVENT
BEGIN:VEVENT
DTSTAMP:20260425T021421Z
DTSTART;TZID=Europe/Berlin:20241002T193000
DTEND;TZID=Europe/Berlin:20241002T223000
SUMMARY:HE 5. Liga Gr. 4 Seebach-Kügeliloo IV vs Zürich-Affoltern VII (0)
UID:89e2b50f-b7d7-4942-9d8c-5112b77ead00
STATUS:CONFIRMED
LAST-MODIFIED:20241004T080723Z
DESCRIPTION:5. Liga Herren Gruppe 4\nBegegnungs-Nr: 0\nHeim: Seebach-Kügeliloo IV\nGast: Zürich-Affoltern VII\n\nAdresse: Maienstrasse 9\, 8050 Zürich\n
LOCATION:Maienstrasse 9\, 8050 Zürich
CATEGORIES:Saison 2024/25
END:VEVENT
END:VCALENDAR
