BEGIN:VCALENDAR
PRODID:-//nuDatenautomaten//framework iCal4j //DE
VERSION:2.0
CALSCALE:GREGORIAN
BEGIN:VTIMEZONE
TZID:Europe/Berlin
LAST-MODIFIED:20260306T231828Z
TZURL:https://www.tzurl.org/zoneinfo/Europe/Berlin
X-LIC-LOCATION:Europe/Berlin
X-PROLEPTIC-TZNAME:LMT
BEGIN:STANDARD
TZNAME:CET
TZOFFSETFROM:+005328
TZOFFSETTO:+0100
DTSTART:18930401T000000
END:STANDARD
BEGIN:DAYLIGHT
TZNAME:CEST
TZOFFSETFROM:+0100
TZOFFSETTO:+0200
DTSTART:19160430T230000
RDATE:19400401T020000
RDATE:19430329T020000
RDATE:19460414T020000
RDATE:19470406T030000
RDATE:19480418T020000
RDATE:19490410T020000
RDATE:19800406T020000
END:DAYLIGHT
BEGIN:STANDARD
TZNAME:CET
TZOFFSETFROM:+0200
TZOFFSETTO:+0100
DTSTART:19161001T010000
RDATE:19421102T030000
RDATE:19431004T030000
RDATE:19441002T030000
RDATE:19451118T030000
RDATE:19461007T030000
END:STANDARD
BEGIN:DAYLIGHT
TZNAME:CEST
TZOFFSETFROM:+0100
TZOFFSETTO:+0200
DTSTART:19170416T020000
RRULE:FREQ=YEARLY;UNTIL=19180415T010000Z;BYMONTH=4;BYDAY=3MO
END:DAYLIGHT
BEGIN:STANDARD
TZNAME:CET
TZOFFSETFROM:+0200
TZOFFSETTO:+0100
DTSTART:19170917T030000
RRULE:FREQ=YEARLY;UNTIL=19180916T010000Z;BYMONTH=9;BYDAY=3MO
END:STANDARD
BEGIN:DAYLIGHT
TZNAME:CEST
TZOFFSETFROM:+0100
TZOFFSETTO:+0200
DTSTART:19440403T020000
RRULE:FREQ=YEARLY;UNTIL=19450402T010000Z;BYMONTH=4;BYDAY=1MO
END:DAYLIGHT
BEGIN:DAYLIGHT
TZNAME:CEMT
TZOFFSETFROM:+0200
TZOFFSETTO:+0300
DTSTART:19450524T020000
RDATE:19470511T030000
END:DAYLIGHT
BEGIN:DAYLIGHT
TZNAME:CEST
TZOFFSETFROM:+0300
TZOFFSETTO:+0200
DTSTART:19450924T030000
RDATE:19470629T030000
END:DAYLIGHT
BEGIN:STANDARD
TZNAME:CET
TZOFFSETFROM:+0100
TZOFFSETTO:+0100
DTSTART:19460101T000000
RDATE:19800101T000000
END:STANDARD
BEGIN:STANDARD
TZNAME:CET
TZOFFSETFROM:+0200
TZOFFSETTO:+0100
DTSTART:19471005T030000
RRULE:FREQ=YEARLY;UNTIL=19491002T010000Z;BYMONTH=10;BYDAY=1SU
END:STANDARD
BEGIN:STANDARD
TZNAME:CET
TZOFFSETFROM:+0200
TZOFFSETTO:+0100
DTSTART:19800928T030000
RRULE:FREQ=YEARLY;UNTIL=19950924T010000Z;BYMONTH=9;BYDAY=-1SU
END:STANDARD
BEGIN:DAYLIGHT
TZNAME:CEST
TZOFFSETFROM:+0100
TZOFFSETTO:+0200
DTSTART:19810329T020000
RRULE:FREQ=YEARLY;BYMONTH=3;BYDAY=-1SU
END:DAYLIGHT
BEGIN:STANDARD
TZNAME:CET
TZOFFSETFROM:+0200
TZOFFSETTO:+0100
DTSTART:19961027T030000
RRULE:FREQ=YEARLY;BYMONTH=10;BYDAY=-1SU
END:STANDARD
END:VTIMEZONE
BEGIN:VEVENT
DTSTAMP:20260424T232921Z
DTSTART;TZID=Europe/Berlin:20241213T200000
DTEND;TZID=Europe/Berlin:20241213T230000
SUMMARY:ME L6 Gr 1\, Tours 1&2 Grône II vs Gampel-Steg IV (0)
UID:a9763bf8-2a7b-43c5-97c1-ee024d4360d1
STATUS:CONFIRMED
LAST-MODIFIED:20241215T010201Z
DESCRIPTION:6ème ligue Hommes Groupe 1\, Tours 1&2\nBegegnungs-Nr: 0\nHeim: Grône II\nGast: Gampel-Steg IV\n\nAdresse:  Rue Centrale\,  \, Rue de la Piscine\, \, 3979 Grône\n
LOCATION: Rue Centrale\,  \, Rue de la Piscine\, \, 3979 Grône
CATEGORIES:Saison 2024/25
END:VEVENT
BEGIN:VEVENT
DTSTAMP:20260424T232921Z
DTSTART;TZID=Europe/Berlin:20241129T200000
DTEND;TZID=Europe/Berlin:20241129T230000
SUMMARY:ME L6 Gr 1\, Tours 1&2 Grône II vs Stalden III (0)
UID:a743cdd9-19b8-4588-ba87-7db03d4873f7
STATUS:CONFIRMED
LAST-MODIFIED:20241130T173144Z
DESCRIPTION:6ème ligue Hommes Groupe 1\, Tours 1&2\nBegegnungs-Nr: 0\nHeim: Grône II\nGast: Stalden III\n\nAdresse:  Rue Centrale\,  \, Rue de la Piscine\, \, 3979 Grône\n
LOCATION: Rue Centrale\,  \, Rue de la Piscine\, \, 3979 Grône
CATEGORIES:Saison 2024/25
END:VEVENT
BEGIN:VEVENT
DTSTAMP:20260424T232921Z
DTSTART;TZID=Europe/Berlin:20241108T200000
DTEND;TZID=Europe/Berlin:20241108T230000
SUMMARY:ME L6 Gr 1\, Tours 1&2 Grône II vs Gampel-Steg V (0)
UID:2d8764a1-2914-4825-9dd4-ab17a0d971fd
STATUS:CONFIRMED
LAST-MODIFIED:20241110T153823Z
DESCRIPTION:6ème ligue Hommes Groupe 1\, Tours 1&2\nBegegnungs-Nr: 0\nHeim: Grône II\nGast: Gampel-Steg V\n\nAdresse:  Rue Centrale\,  \, Rue de la Piscine\, \, 3979 Grône\n
LOCATION: Rue Centrale\,  \, Rue de la Piscine\, \, 3979 Grône
CATEGORIES:Saison 2024/25
END:VEVENT
BEGIN:VEVENT
DTSTAMP:20260424T232921Z
DTSTART;TZID=Europe/Berlin:20240920T200000
DTEND;TZID=Europe/Berlin:20240920T230000
SUMMARY:ME L6 Gr 1\, Tours 1&2 Grône II vs Brig-Glis II (0)
UID:2d77f569-ec2a-4d48-91c9-f424475413fd
STATUS:CONFIRMED
LAST-MODIFIED:20240922T140013Z
DESCRIPTION:6ème ligue Hommes Groupe 1\, Tours 1&2\nBegegnungs-Nr: 0\nHeim: Grône II\nGast: Brig-Glis II\n\nAdresse:  Rue Centrale\,  \, Rue de la Piscine\, \, 3979 Grône\n
LOCATION: Rue Centrale\,  \, Rue de la Piscine\, \, 3979 Grône
CATEGORIES:Saison 2024/25
END:VEVENT
BEGIN:VEVENT
DTSTAMP:20260424T232921Z
DTSTART;TZID=Europe/Berlin:20240906T200000
DTEND;TZID=Europe/Berlin:20240906T230000
SUMMARY:ME L6 Gr 1\, Tours 1&2 Grône II vs Sierre VI (0)
UID:b9642fe8-49d2-4372-baf3-55ce8663801f
STATUS:CONFIRMED
LAST-MODIFIED:20240908T144954Z
DESCRIPTION:6ème ligue Hommes Groupe 1\, Tours 1&2\nBegegnungs-Nr: 0\nHeim: Grône II\nGast: Sierre VI\n\nAdresse:  Rue Centrale\,  \, Rue de la Piscine\, \, 3979 Grône\n
LOCATION: Rue Centrale\,  \, Rue de la Piscine\, \, 3979 Grône
CATEGORIES:Saison 2024/25
END:VEVENT
BEGIN:VEVENT
DTSTAMP:20260424T232921Z
DTSTART;TZID=Europe/Berlin:20250502T200000
DTEND;TZID=Europe/Berlin:20250502T230000
SUMMARY:ME L5 Gr 1\, Tours 3&4 Grône II vs Sion III (0)
UID:e1480f28-462e-4cd1-a77e-83a3dba6bfad
STATUS:CONFIRMED
LAST-MODIFIED:20250503T193146Z
DESCRIPTION:5ème ligue Hommes Groupe 1\, Tours 3&4\nBegegnungs-Nr: 0\nHeim: Grône II\nGast: Sion III\n\nAdresse:  Rue Centrale\,  \, Rue de la Piscine\, \, 3979 Grône\n
LOCATION: Rue Centrale\,  \, Rue de la Piscine\, \, 3979 Grône
CATEGORIES:Saison 2024/25
END:VEVENT
BEGIN:VEVENT
DTSTAMP:20260424T232921Z
DTSTART;TZID=Europe/Berlin:20250328T200000
DTEND;TZID=Europe/Berlin:20250328T230000
SUMMARY:ME L5 Gr 1\, Tours 3&4 Grône II vs Stalden II (0)
UID:7deecc70-adf3-4ac1-b9e0-233d6c3807c5
STATUS:CONFIRMED
LAST-MODIFIED:20250330T101328Z
DESCRIPTION:5ème ligue Hommes Groupe 1\, Tours 3&4\nBegegnungs-Nr: 0\nHeim: Grône II\nGast: Stalden II\n\nAdresse:  Rue Centrale\,  \, Rue de la Piscine\, \, 3979 Grône\n
LOCATION: Rue Centrale\,  \, Rue de la Piscine\, \, 3979 Grône
CATEGORIES:Saison 2024/25
END:VEVENT
BEGIN:VEVENT
DTSTAMP:20260424T232921Z
DTSTART;TZID=Europe/Berlin:20250228T200000
DTEND;TZID=Europe/Berlin:20250228T230000
SUMMARY:ME L5 Gr 1\, Tours 3&4 Grône II vs Martigny V (0)
UID:1dad2394-cc78-4337-a1ae-0a5164b1ed74
STATUS:CONFIRMED
LAST-MODIFIED:20250306T002500Z
DESCRIPTION:5ème ligue Hommes Groupe 1\, Tours 3&4\nBegegnungs-Nr: 0\nHeim: Grône II\nGast: Martigny V\n\nAdresse:  Rue Centrale\,  \, Rue de la Piscine\, \, 3979 Grône\n
LOCATION: Rue Centrale\,  \, Rue de la Piscine\, \, 3979 Grône
CATEGORIES:Saison 2024/25
END:VEVENT
BEGIN:VEVENT
DTSTAMP:20260424T232921Z
DTSTART;TZID=Europe/Berlin:20250207T200000
DTEND;TZID=Europe/Berlin:20250207T230000
SUMMARY:ME L5 Gr 1\, Tours 3&4 Grône II vs Sierre V (0)
UID:1c6921f0-d6a9-45ec-b6e7-1e23747c6271
STATUS:CONFIRMED
LAST-MODIFIED:20250211T131257Z
DESCRIPTION:5ème ligue Hommes Groupe 1\, Tours 3&4\nBegegnungs-Nr: 0\nHeim: Grône II\nGast: Sierre V\n\nAdresse:  Rue Centrale\,  \, Rue de la Piscine\, \, 3979 Grône\n
LOCATION: Rue Centrale\,  \, Rue de la Piscine\, \, 3979 Grône
CATEGORIES:Saison 2024/25
END:VEVENT
BEGIN:VEVENT
DTSTAMP:20260424T232921Z
DTSTART;TZID=Europe/Berlin:20250117T200000
DTEND;TZID=Europe/Berlin:20250117T230000
SUMMARY:ME L5 Gr 1\, Tours 3&4 Grône II vs Gampel-Steg III (0)
UID:f4ca1a14-1011-4916-9cfa-a6cfa5a4b0bc
STATUS:CONFIRMED
LAST-MODIFIED:20250120T134141Z
DESCRIPTION:5ème ligue Hommes Groupe 1\, Tours 3&4\nBegegnungs-Nr: 0\nHeim: Grône II\nGast: Gampel-Steg III\n\nAdresse:  Rue Centrale\,  \, Rue de la Piscine\, \, 3979 Grône\n
LOCATION: Rue Centrale\,  \, Rue de la Piscine\, \, 3979 Grône
CATEGORIES:Saison 2024/25
END:VEVENT
BEGIN:VEVENT
DTSTAMP:20260424T232921Z
DTSTART;TZID=Europe/Berlin:20241118T193000
DTEND;TZID=Europe/Berlin:20241118T223000
SUMMARY:ME L6 Gr 1\, Tours 1&2 Brig-Glis II vs Grône II (0)
UID:762d0b5d-dcee-4418-92d8-9fffccab5bd1
STATUS:CONFIRMED
LAST-MODIFIED:20241119T184050Z
DESCRIPTION:6ème ligue Hommes Groupe 1\, Tours 1&2\nBegegnungs-Nr: 0\nHeim: Brig-Glis II\nGast: Grône II\n\nAdresse: Alte Simplonstrasse 53\, 3900 Brig\n
LOCATION:Alte Simplonstrasse 53\, 3900 Brig
CATEGORIES:Saison 2024/25
END:VEVENT
BEGIN:VEVENT
DTSTAMP:20260424T232921Z
DTSTART;TZID=Europe/Berlin:20241101T193000
DTEND;TZID=Europe/Berlin:20241101T223000
SUMMARY:ME L6 Gr 1\, Tours 1&2 Sierre VI vs Grône II (0)
UID:4e074d55-9af1-4cab-9d53-1e0bc5f82b73
STATUS:CONFIRMED
LAST-MODIFIED:20241104T104639Z
DESCRIPTION:6ème ligue Hommes Groupe 1\, Tours 1&2\nBegegnungs-Nr: 0\nHeim: Sierre VI\nGast: Grône II\n\nAdresse: Rte des Liddes 6\, 3960 Sierre\n
LOCATION:Rte des Liddes 6\, 3960 Sierre
CATEGORIES:Saison 2024/25
END:VEVENT
BEGIN:VEVENT
DTSTAMP:20260424T232921Z
DTSTART;TZID=Europe/Berlin:20240927T193000
DTEND;TZID=Europe/Berlin:20240927T223000
SUMMARY:ME L6 Gr 1\, Tours 1&2 Gampel-Steg IV vs Grône II (0)
UID:5453d384-99cc-484e-b5be-1cb8a5bba7ba
STATUS:CONFIRMED
LAST-MODIFIED:20240928T191711Z
DESCRIPTION:6ème ligue Hommes Groupe 1\, Tours 1&2\nBegegnungs-Nr: 0\nHeim: Gampel-Steg IV\nGast: Grône II\n\nAdresse: Bachofen\, 3949 Hohtenn\n
LOCATION:Bachofen\, 3949 Hohtenn
CATEGORIES:Saison 2024/25
END:VEVENT
BEGIN:VEVENT
DTSTAMP:20260424T232921Z
DTSTART;TZID=Europe/Berlin:20241004T200000
DTEND;TZID=Europe/Berlin:20241004T230000
SUMMARY:ME L6 Gr 1\, Tours 1&2 Stalden III vs Grône II (0)
UID:8f8ad078-cb9f-4444-9c97-9fd4480460a3
STATUS:CONFIRMED
LAST-MODIFIED:20241008T105202Z
DESCRIPTION:6ème ligue Hommes Groupe 1\, Tours 1&2\nBegegnungs-Nr: 0\nHeim: Stalden III\nGast: Grône II\n\nAdresse: -\, 3922 Stalden\n
LOCATION:-\, 3922 Stalden
CATEGORIES:Saison 2024/25
END:VEVENT
BEGIN:VEVENT
DTSTAMP:20260424T232921Z
DTSTART;TZID=Europe/Berlin:20240911T193000
DTEND;TZID=Europe/Berlin:20240911T223000
SUMMARY:ME L6 Gr 1\, Tours 1&2 Gampel-Steg V vs Grône II (0)
UID:5e860e03-a11a-46e7-83ca-81f03fdf46d2
STATUS:CONFIRMED
LAST-MODIFIED:20240915T190036Z
DESCRIPTION:6ème ligue Hommes Groupe 1\, Tours 1&2\nBegegnungs-Nr: 0\nHeim: Gampel-Steg V\nGast: Grône II\n\nAdresse: Bachofen\, 3949 Hohtenn\n
LOCATION:Bachofen\, 3949 Hohtenn
CATEGORIES:Saison 2024/25
END:VEVENT
BEGIN:VEVENT
DTSTAMP:20260424T232921Z
DTSTART;TZID=Europe/Berlin:20250425T200000
DTEND;TZID=Europe/Berlin:20250425T230000
SUMMARY:ME L5 Gr 1\, Tours 3&4 Martigny V vs Grône II (0)
UID:b5361636-175d-4e4a-a272-6865298676a0
STATUS:CONFIRMED
LAST-MODIFIED:20250427T174416Z
DESCRIPTION:5ème ligue Hommes Groupe 1\, Tours 3&4\nBegegnungs-Nr: 0\nHeim: Martigny V\nGast: Grône II\n\nAdresse: Rue des Ecoles 9\, 1920 Martigny\n
LOCATION:Rue des Ecoles 9\, 1920 Martigny
CATEGORIES:Saison 2024/25
END:VEVENT
BEGIN:VEVENT
DTSTAMP:20260424T232921Z
DTSTART;TZID=Europe/Berlin:20250409T194500
DTEND;TZID=Europe/Berlin:20250409T224500
SUMMARY:ME L5 Gr 1\, Tours 3&4 Sierre V vs Grône II (0)
UID:f33201f1-e044-418a-8976-f9c6ae1d6f4b
STATUS:CONFIRMED
LAST-MODIFIED:20250410T202628Z
DESCRIPTION:5ème ligue Hommes Groupe 1\, Tours 3&4\nBegegnungs-Nr: 0\nHeim: Sierre V\nGast: Grône II\n\nAdresse: Rte des Liddes 6\, 3960 Sierre\n
LOCATION:Rte des Liddes 6\, 3960 Sierre
CATEGORIES:Saison 2024/25
END:VEVENT
BEGIN:VEVENT
DTSTAMP:20260424T232921Z
DTSTART;TZID=Europe/Berlin:20250311T193000
DTEND;TZID=Europe/Berlin:20250311T223000
SUMMARY:ME L5 Gr 1\, Tours 3&4 Gampel-Steg III vs Grône II (0)
UID:fad209f6-e1d6-4425-b511-b85831f7b99b
STATUS:CONFIRMED
LAST-MODIFIED:20250316T010748Z
DESCRIPTION:5ème ligue Hommes Groupe 1\, Tours 3&4\nBegegnungs-Nr: 0\nHeim: Gampel-Steg III\nGast: Grône II\n\nAdresse: Bachofen\, 3949 Hohtenn\n
LOCATION:Bachofen\, 3949 Hohtenn
CATEGORIES:Saison 2024/25
END:VEVENT
BEGIN:VEVENT
DTSTAMP:20260424T232921Z
DTSTART;TZID=Europe/Berlin:20250220T193000
DTEND;TZID=Europe/Berlin:20250220T223000
SUMMARY:ME L5 Gr 1\, Tours 3&4 Sion III vs Grône II (0)
UID:fa585ce0-5124-440e-bc91-0b3387f28cda
STATUS:CONFIRMED
LAST-MODIFIED:20250222T180137Z
DESCRIPTION:5ème ligue Hommes Groupe 1\, Tours 3&4\nBegegnungs-Nr: 0\nHeim: Sion III\nGast: Grône II\n\nAdresse: Rue du Chanoine-Berchtold 17\, 1950 Sion\n
LOCATION:Rue du Chanoine-Berchtold 17\, 1950 Sion
CATEGORIES:Saison 2024/25
END:VEVENT
BEGIN:VEVENT
DTSTAMP:20260424T232921Z
DTSTART;TZID=Europe/Berlin:20250127T200000
DTEND;TZID=Europe/Berlin:20250127T230000
SUMMARY:ME L5 Gr 1\, Tours 3&4 Stalden II vs Grône II (0)
UID:c3d30c55-c302-4833-8fb2-0eb64200f506
STATUS:CONFIRMED
LAST-MODIFIED:20250129T233855Z
DESCRIPTION:5ème ligue Hommes Groupe 1\, Tours 3&4\nBegegnungs-Nr: 0\nHeim: Stalden II\nGast: Grône II\n\nAdresse: -\, 3922 Stalden\n
LOCATION:-\, 3922 Stalden
CATEGORIES:Saison 2024/25
END:VEVENT
END:VCALENDAR
