BEGIN:VCALENDAR
PRODID:-//nuDatenautomaten//framework iCal4j //DE
VERSION:2.0
CALSCALE:GREGORIAN
BEGIN:VTIMEZONE
TZID:Europe/Berlin
LAST-MODIFIED:20260306T231828Z
TZURL:https://www.tzurl.org/zoneinfo/Europe/Berlin
X-LIC-LOCATION:Europe/Berlin
X-PROLEPTIC-TZNAME:LMT
BEGIN:STANDARD
TZNAME:CET
TZOFFSETFROM:+005328
TZOFFSETTO:+0100
DTSTART:18930401T000000
END:STANDARD
BEGIN:DAYLIGHT
TZNAME:CEST
TZOFFSETFROM:+0100
TZOFFSETTO:+0200
DTSTART:19160430T230000
RDATE:19400401T020000
RDATE:19430329T020000
RDATE:19460414T020000
RDATE:19470406T030000
RDATE:19480418T020000
RDATE:19490410T020000
RDATE:19800406T020000
END:DAYLIGHT
BEGIN:STANDARD
TZNAME:CET
TZOFFSETFROM:+0200
TZOFFSETTO:+0100
DTSTART:19161001T010000
RDATE:19421102T030000
RDATE:19431004T030000
RDATE:19441002T030000
RDATE:19451118T030000
RDATE:19461007T030000
END:STANDARD
BEGIN:DAYLIGHT
TZNAME:CEST
TZOFFSETFROM:+0100
TZOFFSETTO:+0200
DTSTART:19170416T020000
RRULE:FREQ=YEARLY;UNTIL=19180415T010000Z;BYMONTH=4;BYDAY=3MO
END:DAYLIGHT
BEGIN:STANDARD
TZNAME:CET
TZOFFSETFROM:+0200
TZOFFSETTO:+0100
DTSTART:19170917T030000
RRULE:FREQ=YEARLY;UNTIL=19180916T010000Z;BYMONTH=9;BYDAY=3MO
END:STANDARD
BEGIN:DAYLIGHT
TZNAME:CEST
TZOFFSETFROM:+0100
TZOFFSETTO:+0200
DTSTART:19440403T020000
RRULE:FREQ=YEARLY;UNTIL=19450402T010000Z;BYMONTH=4;BYDAY=1MO
END:DAYLIGHT
BEGIN:DAYLIGHT
TZNAME:CEMT
TZOFFSETFROM:+0200
TZOFFSETTO:+0300
DTSTART:19450524T020000
RDATE:19470511T030000
END:DAYLIGHT
BEGIN:DAYLIGHT
TZNAME:CEST
TZOFFSETFROM:+0300
TZOFFSETTO:+0200
DTSTART:19450924T030000
RDATE:19470629T030000
END:DAYLIGHT
BEGIN:STANDARD
TZNAME:CET
TZOFFSETFROM:+0100
TZOFFSETTO:+0100
DTSTART:19460101T000000
RDATE:19800101T000000
END:STANDARD
BEGIN:STANDARD
TZNAME:CET
TZOFFSETFROM:+0200
TZOFFSETTO:+0100
DTSTART:19471005T030000
RRULE:FREQ=YEARLY;UNTIL=19491002T010000Z;BYMONTH=10;BYDAY=1SU
END:STANDARD
BEGIN:STANDARD
TZNAME:CET
TZOFFSETFROM:+0200
TZOFFSETTO:+0100
DTSTART:19800928T030000
RRULE:FREQ=YEARLY;UNTIL=19950924T010000Z;BYMONTH=9;BYDAY=-1SU
END:STANDARD
BEGIN:DAYLIGHT
TZNAME:CEST
TZOFFSETFROM:+0100
TZOFFSETTO:+0200
DTSTART:19810329T020000
RRULE:FREQ=YEARLY;BYMONTH=3;BYDAY=-1SU
END:DAYLIGHT
BEGIN:STANDARD
TZNAME:CET
TZOFFSETFROM:+0200
TZOFFSETTO:+0100
DTSTART:19961027T030000
RRULE:FREQ=YEARLY;BYMONTH=10;BYDAY=-1SU
END:STANDARD
END:VTIMEZONE
BEGIN:VEVENT
DTSTAMP:20260425T004233Z
DTSTART;TZID=Europe/Berlin:20241030T201500
DTEND;TZID=Europe/Berlin:20241030T231500
SUMMARY:HE 5. Liga Gr. 8 Oberriet IV vs Ruggell II (0)
UID:b5c3fe7b-d01c-485e-8fd6-92e5332a3fb3
STATUS:CONFIRMED
LAST-MODIFIED:20241108T145946Z
DESCRIPTION:5. Liga Herren Gruppe 8\nBegegnungs-Nr: 0\nHeim: Oberriet IV\nGast: Ruggell II\n\nAdresse: Neugutstrasse 2\, 9463 Oberriet SG\n
LOCATION:Neugutstrasse 2\, 9463 Oberriet SG
CATEGORIES:Saison 2024/25
END:VEVENT
BEGIN:VEVENT
DTSTAMP:20260425T004233Z
DTSTART;TZID=Europe/Berlin:20240918T201500
DTEND;TZID=Europe/Berlin:20240918T231500
SUMMARY:HE 5. Liga Gr. 8 Oberriet IV vs Schaan-Eschen/Mauren II (0)
UID:7ff8c3e2-a588-43cd-810c-0d228100a0cb
STATUS:CONFIRMED
LAST-MODIFIED:20240919T151731Z
DESCRIPTION:5. Liga Herren Gruppe 8\nBegegnungs-Nr: 0\nHeim: Oberriet IV\nGast: Schaan-Eschen/Mauren II\n\nAdresse: Neugutstrasse 2\, 9463 Oberriet SG\n
LOCATION:Neugutstrasse 2\, 9463 Oberriet SG
CATEGORIES:Saison 2024/25
END:VEVENT
BEGIN:VEVENT
DTSTAMP:20260425T004233Z
DTSTART;TZID=Europe/Berlin:20240828T201500
DTEND;TZID=Europe/Berlin:20240828T231500
SUMMARY:HE 5. Liga Gr. 8 Oberriet IV vs Flums V (0)
UID:96e6de05-02d1-4e22-90ce-294621410a2a
STATUS:CONFIRMED
LAST-MODIFIED:20240904T113719Z
DESCRIPTION:5. Liga Herren Gruppe 8\nBegegnungs-Nr: 0\nHeim: Oberriet IV\nGast: Flums V\n\nAdresse: Neugutstrasse 2\, 9463 Oberriet SG\n
LOCATION:Neugutstrasse 2\, 9463 Oberriet SG
CATEGORIES:Saison 2024/25
END:VEVENT
BEGIN:VEVENT
DTSTAMP:20260425T004233Z
DTSTART;TZID=Europe/Berlin:20250326T201500
DTEND;TZID=Europe/Berlin:20250326T231500
SUMMARY:HE 5. Liga Gr. 8 Oberriet IV vs Glarus III (0)
UID:53875dc0-b989-40d9-882f-e8b2ce7d0bca
STATUS:CONFIRMED
LAST-MODIFIED:20250407T122409Z
DESCRIPTION:5. Liga Herren Gruppe 8\nBegegnungs-Nr: 0\nHeim: Oberriet IV\nGast: Glarus III\n\nAdresse: Neugutstrasse 2\, 9463 Oberriet SG\n
LOCATION:Neugutstrasse 2\, 9463 Oberriet SG
CATEGORIES:Saison 2024/25
END:VEVENT
BEGIN:VEVENT
DTSTAMP:20260425T004233Z
DTSTART;TZID=Europe/Berlin:20250305T201500
DTEND;TZID=Europe/Berlin:20250305T231500
SUMMARY:HE 5. Liga Gr. 8 Oberriet IV vs Balzers (0)
UID:bee020c8-1c10-4ae4-b0cb-2cdcbdd1c158
STATUS:CONFIRMED
LAST-MODIFIED:20250313T103150Z
DESCRIPTION:5. Liga Herren Gruppe 8\nBegegnungs-Nr: 0\nHeim: Oberriet IV\nGast: Balzers\n\nAdresse: Neugutstrasse 2\, 9463 Oberriet SG\n
LOCATION:Neugutstrasse 2\, 9463 Oberriet SG
CATEGORIES:Saison 2024/25
END:VEVENT
BEGIN:VEVENT
DTSTAMP:20260425T004233Z
DTSTART;TZID=Europe/Berlin:20250212T201500
DTEND;TZID=Europe/Berlin:20250212T231500
SUMMARY:HE 5. Liga Gr. 8 Oberriet IV vs Chur VI (0)
UID:af8cb205-881b-4a43-b9d1-cd4127aed2b9
STATUS:CONFIRMED
LAST-MODIFIED:20250219T132943Z
DESCRIPTION:5. Liga Herren Gruppe 8\nBegegnungs-Nr: 0\nHeim: Oberriet IV\nGast: Chur VI\n\nAdresse: Neugutstrasse 2\, 9463 Oberriet SG\n
LOCATION:Neugutstrasse 2\, 9463 Oberriet SG
CATEGORIES:Saison 2024/25
END:VEVENT
BEGIN:VEVENT
DTSTAMP:20260425T004233Z
DTSTART;TZID=Europe/Berlin:20250122T201500
DTEND;TZID=Europe/Berlin:20250122T231500
SUMMARY:HE 5. Liga Gr. 8 Oberriet IV vs Glarus II (0)
UID:a93ea039-b46a-4a91-9106-3036feb42e31
STATUS:CONFIRMED
LAST-MODIFIED:20250123T143142Z
DESCRIPTION:5. Liga Herren Gruppe 8\nBegegnungs-Nr: 0\nHeim: Oberriet IV\nGast: Glarus II\n\nAdresse: Neugutstrasse 2\, 9463 Oberriet SG\n
LOCATION:Neugutstrasse 2\, 9463 Oberriet SG
CATEGORIES:Saison 2024/25
END:VEVENT
BEGIN:VEVENT
DTSTAMP:20260425T004233Z
DTSTART;TZID=Europe/Berlin:20250505T201500
DTEND;TZID=Europe/Berlin:20250505T231500
SUMMARY:HE 5.Liga Abstieg Wädenswil VIII vs Oberriet IV (554)
UID:28c79362-01c0-4c20-bd72-28d0f34114d5
STATUS:CONFIRMED
LAST-MODIFIED:20250506T135528Z
DESCRIPTION:5. Liga Herren Abstieg.\nBegegnungs-Nr: 554\nHeim: Wädenswil VIII\nGast: Oberriet IV\n
LOCATION:
CATEGORIES:Saison 2024/25
END:VEVENT
BEGIN:VEVENT
DTSTAMP:20260425T004233Z
DTSTART;TZID=Europe/Berlin:20241206T200000
DTEND;TZID=Europe/Berlin:20241206T230000
SUMMARY:HE 5. Liga Gr. 8 Glarus III vs Oberriet IV (0)
UID:ce7f3595-5c11-4641-999e-3c459e677769
STATUS:CONFIRMED
LAST-MODIFIED:20241212T092527Z
DESCRIPTION:5. Liga Herren Gruppe 8\nBegegnungs-Nr: 0\nHeim: Glarus III\nGast: Oberriet IV\n\nAdresse: Schwertgasse 23\, 8750 Glarus\n
LOCATION:Schwertgasse 23\, 8750 Glarus
CATEGORIES:Saison 2024/25
END:VEVENT
BEGIN:VEVENT
DTSTAMP:20260425T004233Z
DTSTART;TZID=Europe/Berlin:20241031T200000
DTEND;TZID=Europe/Berlin:20241031T230000
SUMMARY:HE 5. Liga Gr. 8 Balzers vs Oberriet IV (0)
UID:8106197f-fd1a-45b9-bb2f-1f4a99ecc2f8
STATUS:CONFIRMED
LAST-MODIFIED:20241108T150013Z
DESCRIPTION:5. Liga Herren Gruppe 8\nBegegnungs-Nr: 0\nHeim: Balzers\nGast: Oberriet IV\n\nAdresse: Gnetsch 41\, 9496 Balzers\n
LOCATION:Gnetsch 41\, 9496 Balzers
CATEGORIES:Saison 2024/25
END:VEVENT
BEGIN:VEVENT
DTSTAMP:20260425T004233Z
DTSTART;TZID=Europe/Berlin:20240926T200000
DTEND;TZID=Europe/Berlin:20240926T230000
SUMMARY:HE 5. Liga Gr. 8 Chur VI vs Oberriet IV (0)
UID:6a97b02a-b3e1-4135-afd6-f079aef07257
STATUS:CONFIRMED
LAST-MODIFIED:20240930T125049Z
DESCRIPTION:5. Liga Herren Gruppe 8\nBegegnungs-Nr: 0\nHeim: Chur VI\nGast: Oberriet IV\n\nAdresse: Sandstr. 35\, 7000 Chur\n
LOCATION:Sandstr. 35\, 7000 Chur
CATEGORIES:Saison 2024/25
END:VEVENT
BEGIN:VEVENT
DTSTAMP:20260425T004233Z
DTSTART;TZID=Europe/Berlin:20240906T200000
DTEND;TZID=Europe/Berlin:20240906T230000
SUMMARY:HE 5. Liga Gr. 8 Glarus II vs Oberriet IV (0)
UID:c8a7075a-d63d-4ecc-ac50-28daac7e5694
STATUS:CONFIRMED
LAST-MODIFIED:20240913T132214Z
DESCRIPTION:5. Liga Herren Gruppe 8\nBegegnungs-Nr: 0\nHeim: Glarus II\nGast: Oberriet IV\n\nAdresse: Schwertgasse 23\, 8750 Glarus\n
LOCATION:Schwertgasse 23\, 8750 Glarus
CATEGORIES:Saison 2024/25
END:VEVENT
BEGIN:VEVENT
DTSTAMP:20260425T004233Z
DTSTART;TZID=Europe/Berlin:20250306T200000
DTEND;TZID=Europe/Berlin:20250306T230000
SUMMARY:HE 5. Liga Gr. 8 Ruggell II vs Oberriet IV (0)
UID:7c38d0a6-e8ed-434f-ad55-e48c089459b9
STATUS:CONFIRMED
LAST-MODIFIED:20250307T082050Z
DESCRIPTION:5. Liga Herren Gruppe 8\nBegegnungs-Nr: 0\nHeim: Ruggell II\nGast: Oberriet IV\n\nAdresse: Nellengasse 40\, 9491 Ruggell\n
LOCATION:Nellengasse 40\, 9491 Ruggell
CATEGORIES:Saison 2024/25
END:VEVENT
BEGIN:VEVENT
DTSTAMP:20260425T004233Z
DTSTART;TZID=Europe/Berlin:20250130T194500
DTEND;TZID=Europe/Berlin:20250130T224500
SUMMARY:HE 5. Liga Gr. 8 Schaan-Eschen/Mauren II vs Oberriet IV (0)
UID:775c4337-0161-42a9-aa56-17aad72e7325
STATUS:CONFIRMED
LAST-MODIFIED:20250131T144041Z
DESCRIPTION:5. Liga Herren Gruppe 8\nBegegnungs-Nr: 0\nHeim: Schaan-Eschen/Mauren II\nGast: Oberriet IV\n\nAdresse: Zur Schule\, 9494 Schaan\n
LOCATION:Zur Schule\, 9494 Schaan
CATEGORIES:Saison 2024/25
END:VEVENT
BEGIN:VEVENT
DTSTAMP:20260425T004233Z
DTSTART;TZID=Europe/Berlin:20250106T201500
DTEND;TZID=Europe/Berlin:20250106T231500
SUMMARY:HE 5. Liga Gr. 8 Flums V vs Oberriet IV (0)
UID:77c9d1bf-3a81-4dcf-8a31-638013ed90d2
STATUS:CONFIRMED
LAST-MODIFIED:20250110T151527Z
DESCRIPTION:5. Liga Herren Gruppe 8\nBegegnungs-Nr: 0\nHeim: Flums V\nGast: Oberriet IV\n\nAdresse: Bergstrasse\, 8890 Flums\n
LOCATION:Bergstrasse\, 8890 Flums
CATEGORIES:Saison 2024/25
END:VEVENT
END:VCALENDAR
