BEGIN:VCALENDAR
PRODID:-//nuDatenautomaten//framework iCal4j //DE
VERSION:2.0
CALSCALE:GREGORIAN
BEGIN:VTIMEZONE
TZID:Europe/Berlin
LAST-MODIFIED:20260306T231828Z
TZURL:https://www.tzurl.org/zoneinfo/Europe/Berlin
X-LIC-LOCATION:Europe/Berlin
X-PROLEPTIC-TZNAME:LMT
BEGIN:STANDARD
TZNAME:CET
TZOFFSETFROM:+005328
TZOFFSETTO:+0100
DTSTART:18930401T000000
END:STANDARD
BEGIN:DAYLIGHT
TZNAME:CEST
TZOFFSETFROM:+0100
TZOFFSETTO:+0200
DTSTART:19160430T230000
RDATE:19400401T020000
RDATE:19430329T020000
RDATE:19460414T020000
RDATE:19470406T030000
RDATE:19480418T020000
RDATE:19490410T020000
RDATE:19800406T020000
END:DAYLIGHT
BEGIN:STANDARD
TZNAME:CET
TZOFFSETFROM:+0200
TZOFFSETTO:+0100
DTSTART:19161001T010000
RDATE:19421102T030000
RDATE:19431004T030000
RDATE:19441002T030000
RDATE:19451118T030000
RDATE:19461007T030000
END:STANDARD
BEGIN:DAYLIGHT
TZNAME:CEST
TZOFFSETFROM:+0100
TZOFFSETTO:+0200
DTSTART:19170416T020000
RRULE:FREQ=YEARLY;UNTIL=19180415T010000Z;BYMONTH=4;BYDAY=3MO
END:DAYLIGHT
BEGIN:STANDARD
TZNAME:CET
TZOFFSETFROM:+0200
TZOFFSETTO:+0100
DTSTART:19170917T030000
RRULE:FREQ=YEARLY;UNTIL=19180916T010000Z;BYMONTH=9;BYDAY=3MO
END:STANDARD
BEGIN:DAYLIGHT
TZNAME:CEST
TZOFFSETFROM:+0100
TZOFFSETTO:+0200
DTSTART:19440403T020000
RRULE:FREQ=YEARLY;UNTIL=19450402T010000Z;BYMONTH=4;BYDAY=1MO
END:DAYLIGHT
BEGIN:DAYLIGHT
TZNAME:CEMT
TZOFFSETFROM:+0200
TZOFFSETTO:+0300
DTSTART:19450524T020000
RDATE:19470511T030000
END:DAYLIGHT
BEGIN:DAYLIGHT
TZNAME:CEST
TZOFFSETFROM:+0300
TZOFFSETTO:+0200
DTSTART:19450924T030000
RDATE:19470629T030000
END:DAYLIGHT
BEGIN:STANDARD
TZNAME:CET
TZOFFSETFROM:+0100
TZOFFSETTO:+0100
DTSTART:19460101T000000
RDATE:19800101T000000
END:STANDARD
BEGIN:STANDARD
TZNAME:CET
TZOFFSETFROM:+0200
TZOFFSETTO:+0100
DTSTART:19471005T030000
RRULE:FREQ=YEARLY;UNTIL=19491002T010000Z;BYMONTH=10;BYDAY=1SU
END:STANDARD
BEGIN:STANDARD
TZNAME:CET
TZOFFSETFROM:+0200
TZOFFSETTO:+0100
DTSTART:19800928T030000
RRULE:FREQ=YEARLY;UNTIL=19950924T010000Z;BYMONTH=9;BYDAY=-1SU
END:STANDARD
BEGIN:DAYLIGHT
TZNAME:CEST
TZOFFSETFROM:+0100
TZOFFSETTO:+0200
DTSTART:19810329T020000
RRULE:FREQ=YEARLY;BYMONTH=3;BYDAY=-1SU
END:DAYLIGHT
BEGIN:STANDARD
TZNAME:CET
TZOFFSETFROM:+0200
TZOFFSETTO:+0100
DTSTART:19961027T030000
RRULE:FREQ=YEARLY;BYMONTH=10;BYDAY=-1SU
END:STANDARD
END:VTIMEZONE
BEGIN:VEVENT
DTSTAMP:20260425T032758Z
DTSTART;TZID=Europe/Berlin:20241205T201500
DTEND;TZID=Europe/Berlin:20241205T231500
SUMMARY:HE 5. Liga Gr. 1 Gossau St.Gallen III vs St. Gallen VII (0)
UID:cbed1cd7-6608-4663-98c8-32a3723ca786
STATUS:CONFIRMED
LAST-MODIFIED:20241211T093153Z
DESCRIPTION:5. Liga Herren Gruppe 1\nBegegnungs-Nr: 0\nHeim: Gossau St.Gallen III\nGast: St. Gallen VII\n\nAdresse: Falkenstrasse 21\, 9200 Gossau\n
LOCATION:Falkenstrasse 21\, 9200 Gossau
CATEGORIES:Saison 2024/25
END:VEVENT
BEGIN:VEVENT
DTSTAMP:20260425T032758Z
DTSTART;TZID=Europe/Berlin:20240919T201500
DTEND;TZID=Europe/Berlin:20240919T231500
SUMMARY:HE 5. Liga Gr. 1 Gossau St.Gallen III vs Horn II (0)
UID:379d0a42-d34d-4d00-b134-0f41e0bedbe5
STATUS:CONFIRMED
LAST-MODIFIED:20240920T135859Z
DESCRIPTION:5. Liga Herren Gruppe 1\nBegegnungs-Nr: 0\nHeim: Gossau St.Gallen III\nGast: Horn II\n\nAdresse: Falkenstrasse 21\, 9200 Gossau\n
LOCATION:Falkenstrasse 21\, 9200 Gossau
CATEGORIES:Saison 2024/25
END:VEVENT
BEGIN:VEVENT
DTSTAMP:20260425T032758Z
DTSTART;TZID=Europe/Berlin:20241107T201500
DTEND;TZID=Europe/Berlin:20241107T231500
SUMMARY:HE 5. Liga Gr. 1 Gossau St.Gallen III vs Arbon (0)
UID:1158c349-cee3-4eea-b956-b929272196a2
STATUS:CONFIRMED
LAST-MODIFIED:20241108T140736Z
DESCRIPTION:5. Liga Herren Gruppe 1\nBegegnungs-Nr: 0\nHeim: Gossau St.Gallen III\nGast: Arbon\n\nAdresse: Falkenstrasse 21\, 9200 Gossau\n
LOCATION:Falkenstrasse 21\, 9200 Gossau
CATEGORIES:Saison 2024/25
END:VEVENT
BEGIN:VEVENT
DTSTAMP:20260425T032758Z
DTSTART;TZID=Europe/Berlin:20240829T201500
DTEND;TZID=Europe/Berlin:20240829T231500
SUMMARY:HE 5. Liga Gr. 1 Gossau St.Gallen III vs Romanshorn IV (0)
UID:37293bac-5bf5-4834-ad1f-4ea25e452b5f
STATUS:CONFIRMED
LAST-MODIFIED:20240904T103700Z
DESCRIPTION:5. Liga Herren Gruppe 1\nBegegnungs-Nr: 0\nHeim: Gossau St.Gallen III\nGast: Romanshorn IV\n\nAdresse: Falkenstrasse 21\, 9200 Gossau\n
LOCATION:Falkenstrasse 21\, 9200 Gossau
CATEGORIES:Saison 2024/25
END:VEVENT
BEGIN:VEVENT
DTSTAMP:20260425T032758Z
DTSTART;TZID=Europe/Berlin:20250306T201500
DTEND;TZID=Europe/Berlin:20250306T231500
SUMMARY:HE 5. Liga Gr. 1 Gossau St.Gallen III vs Rorschach II (0)
UID:f3a3c2b0-40e7-4f81-963b-38e6183d48d0
STATUS:CONFIRMED
LAST-MODIFIED:20250307T080830Z
DESCRIPTION:5. Liga Herren Gruppe 1\nBegegnungs-Nr: 0\nHeim: Gossau St.Gallen III\nGast: Rorschach II\n\nAdresse: Falkenstrasse 21\, 9200 Gossau\n
LOCATION:Falkenstrasse 21\, 9200 Gossau
CATEGORIES:Saison 2024/25
END:VEVENT
BEGIN:VEVENT
DTSTAMP:20260425T032758Z
DTSTART;TZID=Europe/Berlin:20250213T201500
DTEND;TZID=Europe/Berlin:20250213T231500
SUMMARY:HE 5. Liga Gr. 1 Gossau St.Gallen III vs Kreuzlingen (0)
UID:a0e05baa-c638-4984-8a6d-26bc9eedc128
STATUS:CONFIRMED
LAST-MODIFIED:20250219T115902Z
DESCRIPTION:5. Liga Herren Gruppe 1\nBegegnungs-Nr: 0\nHeim: Gossau St.Gallen III\nGast: Kreuzlingen\n\nAdresse: Falkenstrasse 21\, 9200 Gossau\n
LOCATION:Falkenstrasse 21\, 9200 Gossau
CATEGORIES:Saison 2024/25
END:VEVENT
BEGIN:VEVENT
DTSTAMP:20260425T032758Z
DTSTART;TZID=Europe/Berlin:20250123T201500
DTEND;TZID=Europe/Berlin:20250123T231500
SUMMARY:HE 5. Liga Gr. 1 Gossau St.Gallen III vs Herisau III (0)
UID:a9829158-988a-4b91-ae28-27b24bd57790
STATUS:CONFIRMED
LAST-MODIFIED:20250129T124000Z
DESCRIPTION:5. Liga Herren Gruppe 1\nBegegnungs-Nr: 0\nHeim: Gossau St.Gallen III\nGast: Herisau III\n\nAdresse: Falkenstrasse 21\, 9200 Gossau\n
LOCATION:Falkenstrasse 21\, 9200 Gossau
CATEGORIES:Saison 2024/25
END:VEVENT
BEGIN:VEVENT
DTSTAMP:20260425T032758Z
DTSTART;TZID=Europe/Berlin:20241115T200000
DTEND;TZID=Europe/Berlin:20241115T230000
SUMMARY:HE 5. Liga Gr. 1 Rorschach II vs Gossau St.Gallen III (0)
UID:c2cc0b39-ea9b-4cbe-b48b-63c46fedfad9
STATUS:CONFIRMED
LAST-MODIFIED:20241122T151225Z
DESCRIPTION:5. Liga Herren Gruppe 1\nBegegnungs-Nr: 0\nHeim: Rorschach II\nGast: Gossau St.Gallen III\n\nAdresse: Mariabergstrasse 33\, 9400 Rorschach\n
LOCATION:Mariabergstrasse 33\, 9400 Rorschach
CATEGORIES:Saison 2024/25
END:VEVENT
BEGIN:VEVENT
DTSTAMP:20260425T032758Z
DTSTART;TZID=Europe/Berlin:20240925T200000
DTEND;TZID=Europe/Berlin:20240925T230000
SUMMARY:HE 5. Liga Gr. 1 Kreuzlingen vs Gossau St.Gallen III (0)
UID:40346e48-53e2-4eaa-ace8-6b4c6aa9b614
STATUS:CONFIRMED
LAST-MODIFIED:20240930T124703Z
DESCRIPTION:5. Liga Herren Gruppe 1\nBegegnungs-Nr: 0\nHeim: Kreuzlingen\nGast: Gossau St.Gallen III\n\nAdresse: Rothausstrasse 14\, 8280 Kreuzlingen\n
LOCATION:Rothausstrasse 14\, 8280 Kreuzlingen
CATEGORIES:Saison 2024/25
END:VEVENT
BEGIN:VEVENT
DTSTAMP:20260425T032758Z
DTSTART;TZID=Europe/Berlin:20240906T200000
DTEND;TZID=Europe/Berlin:20240906T230000
SUMMARY:HE 5. Liga Gr. 1 Herisau III vs Gossau St.Gallen III (0)
UID:7ba17624-f722-4f3f-9c32-ef1fdbe53c90
STATUS:CONFIRMED
LAST-MODIFIED:20240912T075828Z
DESCRIPTION:5. Liga Herren Gruppe 1\nBegegnungs-Nr: 0\nHeim: Herisau III\nGast: Gossau St.Gallen III\n\nAdresse: Schwellbrunnerstrasse 29\, 9100 Herisau\n
LOCATION:Schwellbrunnerstrasse 29\, 9100 Herisau
CATEGORIES:Saison 2024/25
END:VEVENT
BEGIN:VEVENT
DTSTAMP:20260425T032758Z
DTSTART;TZID=Europe/Berlin:20250328T200000
DTEND;TZID=Europe/Berlin:20250328T230000
SUMMARY:HE 5. Liga Gr. 1 St. Gallen VII vs Gossau St.Gallen III (0)
UID:9a798813-bc33-4ad5-909e-459463abb6db
STATUS:CONFIRMED
LAST-MODIFIED:20250404T083129Z
DESCRIPTION:5. Liga Herren Gruppe 1\nBegegnungs-Nr: 0\nHeim: St. Gallen VII\nGast: Gossau St.Gallen III\n\nAdresse: Zilstrasse 61\, 9016 St.Gallen\n
LOCATION:Zilstrasse 61\, 9016 St.Gallen
CATEGORIES:Saison 2024/25
END:VEVENT
BEGIN:VEVENT
DTSTAMP:20260425T032758Z
DTSTART;TZID=Europe/Berlin:20250311T200000
DTEND;TZID=Europe/Berlin:20250311T230000
SUMMARY:HE 5. Liga Gr. 1 Arbon vs Gossau St.Gallen III (0)
UID:2e85a465-f47d-4831-bccf-4a181e06a49f
STATUS:CONFIRMED
LAST-MODIFIED:20250312T145558Z
DESCRIPTION:5. Liga Herren Gruppe 1\nBegegnungs-Nr: 0\nHeim: Arbon\nGast: Gossau St.Gallen III\n\nAdresse: Promenadenstrasse 17\, 9320 Arbon\n
LOCATION:Promenadenstrasse 17\, 9320 Arbon
CATEGORIES:Saison 2024/25
END:VEVENT
BEGIN:VEVENT
DTSTAMP:20260425T032758Z
DTSTART;TZID=Europe/Berlin:20250218T200000
DTEND;TZID=Europe/Berlin:20250218T230000
SUMMARY:HE 5. Liga Gr. 1 Horn II vs Gossau St.Gallen III (0)
UID:cf7594c4-3817-4f93-a479-fe8bbe0ac518
STATUS:CONFIRMED
LAST-MODIFIED:20250219T132902Z
DESCRIPTION:5. Liga Herren Gruppe 1\nBegegnungs-Nr: 0\nHeim: Horn II\nGast: Gossau St.Gallen III\n\nAdresse: Feldstrasse 16\, 9326 Horn\n
LOCATION:Feldstrasse 16\, 9326 Horn
CATEGORIES:Saison 2024/25
END:VEVENT
BEGIN:VEVENT
DTSTAMP:20260425T032758Z
DTSTART;TZID=Europe/Berlin:20250116T201500
DTEND;TZID=Europe/Berlin:20250116T231500
SUMMARY:HE 5. Liga Gr. 1 Romanshorn IV vs Gossau St.Gallen III (0)
UID:9c14f99e-068a-4503-b9bb-aa2f52a3ad33
STATUS:CONFIRMED
LAST-MODIFIED:20250123T082852Z
DESCRIPTION:5. Liga Herren Gruppe 1\nBegegnungs-Nr: 0\nHeim: Romanshorn IV\nGast: Gossau St.Gallen III\n\nAdresse: Florastrasse\, 8590 Romanshorn\n
LOCATION:Florastrasse\, 8590 Romanshorn
CATEGORIES:Saison 2024/25
END:VEVENT
END:VCALENDAR
