BEGIN:VCALENDAR
PRODID:-//nuDatenautomaten//framework iCal4j //DE
VERSION:2.0
CALSCALE:GREGORIAN
BEGIN:VTIMEZONE
TZID:Europe/Berlin
LAST-MODIFIED:20260306T231828Z
TZURL:https://www.tzurl.org/zoneinfo/Europe/Berlin
X-LIC-LOCATION:Europe/Berlin
X-PROLEPTIC-TZNAME:LMT
BEGIN:STANDARD
TZNAME:CET
TZOFFSETFROM:+005328
TZOFFSETTO:+0100
DTSTART:18930401T000000
END:STANDARD
BEGIN:DAYLIGHT
TZNAME:CEST
TZOFFSETFROM:+0100
TZOFFSETTO:+0200
DTSTART:19160430T230000
RDATE:19400401T020000
RDATE:19430329T020000
RDATE:19460414T020000
RDATE:19470406T030000
RDATE:19480418T020000
RDATE:19490410T020000
RDATE:19800406T020000
END:DAYLIGHT
BEGIN:STANDARD
TZNAME:CET
TZOFFSETFROM:+0200
TZOFFSETTO:+0100
DTSTART:19161001T010000
RDATE:19421102T030000
RDATE:19431004T030000
RDATE:19441002T030000
RDATE:19451118T030000
RDATE:19461007T030000
END:STANDARD
BEGIN:DAYLIGHT
TZNAME:CEST
TZOFFSETFROM:+0100
TZOFFSETTO:+0200
DTSTART:19170416T020000
RRULE:FREQ=YEARLY;UNTIL=19180415T010000Z;BYMONTH=4;BYDAY=3MO
END:DAYLIGHT
BEGIN:STANDARD
TZNAME:CET
TZOFFSETFROM:+0200
TZOFFSETTO:+0100
DTSTART:19170917T030000
RRULE:FREQ=YEARLY;UNTIL=19180916T010000Z;BYMONTH=9;BYDAY=3MO
END:STANDARD
BEGIN:DAYLIGHT
TZNAME:CEST
TZOFFSETFROM:+0100
TZOFFSETTO:+0200
DTSTART:19440403T020000
RRULE:FREQ=YEARLY;UNTIL=19450402T010000Z;BYMONTH=4;BYDAY=1MO
END:DAYLIGHT
BEGIN:DAYLIGHT
TZNAME:CEMT
TZOFFSETFROM:+0200
TZOFFSETTO:+0300
DTSTART:19450524T020000
RDATE:19470511T030000
END:DAYLIGHT
BEGIN:DAYLIGHT
TZNAME:CEST
TZOFFSETFROM:+0300
TZOFFSETTO:+0200
DTSTART:19450924T030000
RDATE:19470629T030000
END:DAYLIGHT
BEGIN:STANDARD
TZNAME:CET
TZOFFSETFROM:+0100
TZOFFSETTO:+0100
DTSTART:19460101T000000
RDATE:19800101T000000
END:STANDARD
BEGIN:STANDARD
TZNAME:CET
TZOFFSETFROM:+0200
TZOFFSETTO:+0100
DTSTART:19471005T030000
RRULE:FREQ=YEARLY;UNTIL=19491002T010000Z;BYMONTH=10;BYDAY=1SU
END:STANDARD
BEGIN:STANDARD
TZNAME:CET
TZOFFSETFROM:+0200
TZOFFSETTO:+0100
DTSTART:19800928T030000
RRULE:FREQ=YEARLY;UNTIL=19950924T010000Z;BYMONTH=9;BYDAY=-1SU
END:STANDARD
BEGIN:DAYLIGHT
TZNAME:CEST
TZOFFSETFROM:+0100
TZOFFSETTO:+0200
DTSTART:19810329T020000
RRULE:FREQ=YEARLY;BYMONTH=3;BYDAY=-1SU
END:DAYLIGHT
BEGIN:STANDARD
TZNAME:CET
TZOFFSETFROM:+0200
TZOFFSETTO:+0100
DTSTART:19961027T030000
RRULE:FREQ=YEARLY;BYMONTH=10;BYDAY=-1SU
END:STANDARD
END:VTIMEZONE
BEGIN:VEVENT
DTSTAMP:20260424T192555Z
DTSTART;TZID=Europe/Berlin:20250307T191500
DTEND;TZID=Europe/Berlin:20250307T221500
SUMMARY:J L1 Fribourg vs Lausanne (0)
UID:e43b622b-4e36-40ff-b965-e1f75eaee4bf
STATUS:CONFIRMED
LAST-MODIFIED:20250308T180954Z
DESCRIPTION:1ère ligue Jeunesse\nBegegnungs-Nr: 0\nHeim: Fribourg\nGast: Lausanne\n\nAdresse: Avenue Général Guisan 61\, 1700 Fribourg\n
LOCATION:Avenue Général Guisan 61\, 1700 Fribourg
CATEGORIES:Saison 2024/25
END:VEVENT
BEGIN:VEVENT
DTSTAMP:20260424T192555Z
DTSTART;TZID=Europe/Berlin:20250411T191500
DTEND;TZID=Europe/Berlin:20250411T221500
SUMMARY:J L1 Fribourg vs Rossens (0)
UID:6fb50c1d-3768-4acc-b8e2-ced8898a0ea1
STATUS:CONFIRMED
LAST-MODIFIED:20250413T111839Z
DESCRIPTION:1ère ligue Jeunesse\nBegegnungs-Nr: 0\nHeim: Fribourg\nGast: Rossens\n\nAdresse: Avenue Général Guisan 61\, 1700 Fribourg\n
LOCATION:Avenue Général Guisan 61\, 1700 Fribourg
CATEGORIES:Saison 2024/25
END:VEVENT
BEGIN:VEVENT
DTSTAMP:20260424T192555Z
DTSTART;TZID=Europe/Berlin:20250207T191500
DTEND;TZID=Europe/Berlin:20250207T221500
SUMMARY:J L1 Fribourg vs Rolle (0)
UID:47bb0148-f12c-4939-8e59-17403fbd1fc7
STATUS:CONFIRMED
LAST-MODIFIED:20250210T162753Z
DESCRIPTION:1ère ligue Jeunesse\nBegegnungs-Nr: 0\nHeim: Fribourg\nGast: Rolle\n\nAdresse: Avenue Général Guisan 61\, 1700 Fribourg\n
LOCATION:Avenue Général Guisan 61\, 1700 Fribourg
CATEGORIES:Saison 2024/25
END:VEVENT
BEGIN:VEVENT
DTSTAMP:20260424T192555Z
DTSTART;TZID=Europe/Berlin:20250117T191500
DTEND;TZID=Europe/Berlin:20250117T221500
SUMMARY:J L1 Fribourg vs Gland (0)
UID:718c0902-aeaa-42df-91d9-118d472f512d
STATUS:CONFIRMED
LAST-MODIFIED:20250119T142958Z
DESCRIPTION:1ère ligue Jeunesse\nBegegnungs-Nr: 0\nHeim: Fribourg\nGast: Gland\n\nAdresse: Avenue Général Guisan 61\, 1700 Fribourg\n
LOCATION:Avenue Général Guisan 61\, 1700 Fribourg
CATEGORIES:Saison 2024/25
END:VEVENT
BEGIN:VEVENT
DTSTAMP:20260424T192555Z
DTSTART;TZID=Europe/Berlin:20241213T191500
DTEND;TZID=Europe/Berlin:20241213T221500
SUMMARY:J L1 Fribourg vs Sierre (0)
UID:0d68a68f-c6e3-48e3-9af1-74a91bdf1cf8
STATUS:CONFIRMED
LAST-MODIFIED:20241215T010556Z
DESCRIPTION:1ère ligue Jeunesse\nBegegnungs-Nr: 0\nHeim: Fribourg\nGast: Sierre\n\nAdresse: Avenue Général Guisan 61\, 1700 Fribourg\n
LOCATION:Avenue Général Guisan 61\, 1700 Fribourg
CATEGORIES:Saison 2024/25
END:VEVENT
BEGIN:VEVENT
DTSTAMP:20260424T192555Z
DTSTART;TZID=Europe/Berlin:20250430T183000
DTEND;TZID=Europe/Berlin:20250430T213000
SUMMARY:J L1 Rolle vs Fribourg (0)
UID:0d6eea04-54a5-4649-bcab-7e9e845640e0
STATUS:CONFIRMED
LAST-MODIFIED:20250430T210634Z
DESCRIPTION:1ère ligue Jeunesse\nBegegnungs-Nr: 0\nHeim: Rolle\nGast: Fribourg\n\nAdresse: Route des Quatre-Communes 7\, 1180 Rolle\n
LOCATION:Route des Quatre-Communes 7\, 1180 Rolle
CATEGORIES:Saison 2024/25
END:VEVENT
BEGIN:VEVENT
DTSTAMP:20260424T192555Z
DTSTART;TZID=Europe/Berlin:20241116T120000
DTEND;TZID=Europe/Berlin:20241116T150000
SUMMARY:J L1 Lausanne vs Fribourg (0)
UID:216eec69-e32f-4bef-af53-c6bdfdc403a0
STATUS:CONFIRMED
LAST-MODIFIED:20241116T192609Z
DESCRIPTION:1ère ligue Jeunesse\nBegegnungs-Nr: 0\nHeim: Lausanne\nGast: Fribourg\n\nAdresse: Vaudoise Aréna\, Ch. du Viaduc 14\, 1008 Prilly\n
LOCATION:Vaudoise Aréna\, Ch. du Viaduc 14\, 1008 Prilly
CATEGORIES:Saison 2024/25
END:VEVENT
BEGIN:VEVENT
DTSTAMP:20260424T192555Z
DTSTART;TZID=Europe/Berlin:20250427T110000
DTEND;TZID=Europe/Berlin:20250427T140000
SUMMARY:J L1 Gland vs Fribourg (0)
UID:1f920520-ec33-439f-9ae6-8d71379cbae3
STATUS:CONFIRMED
LAST-MODIFIED:20250503T193215Z
DESCRIPTION:1ère ligue Jeunesse\nBegegnungs-Nr: 0\nHeim: Gland\nGast: Fribourg\n\nAdresse: Chemin de la Perroude 1\, 1196 Gland\n
LOCATION:Chemin de la Perroude 1\, 1196 Gland
CATEGORIES:Saison 2024/25
END:VEVENT
BEGIN:VEVENT
DTSTAMP:20260424T192555Z
DTSTART;TZID=Europe/Berlin:20250329T103000
DTEND;TZID=Europe/Berlin:20250329T133000
SUMMARY:J L1 Sierre vs Fribourg (0)
UID:4dd8701c-439a-41ae-8e0d-277fc0ba3197
STATUS:CONFIRMED
LAST-MODIFIED:20250331T160824Z
DESCRIPTION:1ère ligue Jeunesse\nBegegnungs-Nr: 0\nHeim: Sierre\nGast: Fribourg\n\nAdresse: Rue de Guillamo 3\, 3960 Sierre\n
LOCATION:Rue de Guillamo 3\, 3960 Sierre
CATEGORIES:Saison 2024/25
END:VEVENT
BEGIN:VEVENT
DTSTAMP:20260424T192555Z
DTSTART;TZID=Europe/Berlin:20241220T200000
DTEND;TZID=Europe/Berlin:20241220T230000
SUMMARY:J L1 Rossens vs Fribourg (0)
UID:cff6d5fc-449e-44cd-aa8b-9b71bd5b0aba
STATUS:CONFIRMED
LAST-MODIFIED:20241221T110558Z
DESCRIPTION:1ère ligue Jeunesse\nBegegnungs-Nr: 0\nHeim: Rossens\nGast: Fribourg\n\nAdresse: Route du Jordil 14\, 1728 Rossens\n
LOCATION:Route du Jordil 14\, 1728 Rossens
CATEGORIES:Saison 2024/25
END:VEVENT
END:VCALENDAR
