BEGIN:VCALENDAR
PRODID:-//nuDatenautomaten//framework iCal4j //DE
VERSION:2.0
CALSCALE:GREGORIAN
BEGIN:VTIMEZONE
TZID:Europe/Berlin
LAST-MODIFIED:20260306T231828Z
TZURL:https://www.tzurl.org/zoneinfo/Europe/Berlin
X-LIC-LOCATION:Europe/Berlin
X-PROLEPTIC-TZNAME:LMT
BEGIN:STANDARD
TZNAME:CET
TZOFFSETFROM:+005328
TZOFFSETTO:+0100
DTSTART:18930401T000000
END:STANDARD
BEGIN:DAYLIGHT
TZNAME:CEST
TZOFFSETFROM:+0100
TZOFFSETTO:+0200
DTSTART:19160430T230000
RDATE:19400401T020000
RDATE:19430329T020000
RDATE:19460414T020000
RDATE:19470406T030000
RDATE:19480418T020000
RDATE:19490410T020000
RDATE:19800406T020000
END:DAYLIGHT
BEGIN:STANDARD
TZNAME:CET
TZOFFSETFROM:+0200
TZOFFSETTO:+0100
DTSTART:19161001T010000
RDATE:19421102T030000
RDATE:19431004T030000
RDATE:19441002T030000
RDATE:19451118T030000
RDATE:19461007T030000
END:STANDARD
BEGIN:DAYLIGHT
TZNAME:CEST
TZOFFSETFROM:+0100
TZOFFSETTO:+0200
DTSTART:19170416T020000
RRULE:FREQ=YEARLY;UNTIL=19180415T010000Z;BYMONTH=4;BYDAY=3MO
END:DAYLIGHT
BEGIN:STANDARD
TZNAME:CET
TZOFFSETFROM:+0200
TZOFFSETTO:+0100
DTSTART:19170917T030000
RRULE:FREQ=YEARLY;UNTIL=19180916T010000Z;BYMONTH=9;BYDAY=3MO
END:STANDARD
BEGIN:DAYLIGHT
TZNAME:CEST
TZOFFSETFROM:+0100
TZOFFSETTO:+0200
DTSTART:19440403T020000
RRULE:FREQ=YEARLY;UNTIL=19450402T010000Z;BYMONTH=4;BYDAY=1MO
END:DAYLIGHT
BEGIN:DAYLIGHT
TZNAME:CEMT
TZOFFSETFROM:+0200
TZOFFSETTO:+0300
DTSTART:19450524T020000
RDATE:19470511T030000
END:DAYLIGHT
BEGIN:DAYLIGHT
TZNAME:CEST
TZOFFSETFROM:+0300
TZOFFSETTO:+0200
DTSTART:19450924T030000
RDATE:19470629T030000
END:DAYLIGHT
BEGIN:STANDARD
TZNAME:CET
TZOFFSETFROM:+0100
TZOFFSETTO:+0100
DTSTART:19460101T000000
RDATE:19800101T000000
END:STANDARD
BEGIN:STANDARD
TZNAME:CET
TZOFFSETFROM:+0200
TZOFFSETTO:+0100
DTSTART:19471005T030000
RRULE:FREQ=YEARLY;UNTIL=19491002T010000Z;BYMONTH=10;BYDAY=1SU
END:STANDARD
BEGIN:STANDARD
TZNAME:CET
TZOFFSETFROM:+0200
TZOFFSETTO:+0100
DTSTART:19800928T030000
RRULE:FREQ=YEARLY;UNTIL=19950924T010000Z;BYMONTH=9;BYDAY=-1SU
END:STANDARD
BEGIN:DAYLIGHT
TZNAME:CEST
TZOFFSETFROM:+0100
TZOFFSETTO:+0200
DTSTART:19810329T020000
RRULE:FREQ=YEARLY;BYMONTH=3;BYDAY=-1SU
END:DAYLIGHT
BEGIN:STANDARD
TZNAME:CET
TZOFFSETFROM:+0200
TZOFFSETTO:+0100
DTSTART:19961027T030000
RRULE:FREQ=YEARLY;BYMONTH=10;BYDAY=-1SU
END:STANDARD
END:VTIMEZONE
BEGIN:VEVENT
DTSTAMP:20260424T220528Z
DTSTART;TZID=Europe/Berlin:20241122T193000
DTEND;TZID=Europe/Berlin:20241122T223000
SUMMARY:ME L6 Gr 3\, Tours 1&2 Crissier VII vs Montriond-Ouchy  V (0)
UID:c3dad3c2-f93e-4166-94fa-b1d8a043fd9c
STATUS:CONFIRMED
LAST-MODIFIED:20241126T112921Z
DESCRIPTION:6ème ligue Hommes Groupe 3\, Tours 1&2\nBegegnungs-Nr: 0\nHeim: Crissier VII\nGast: Montriond-Ouchy  V\n\nAdresse: ch. des Oches du Mur\, 1023 Crissier\n
LOCATION:ch. des Oches du Mur\, 1023 Crissier
CATEGORIES:Saison 2024/25
END:VEVENT
BEGIN:VEVENT
DTSTAMP:20260424T220528Z
DTSTART;TZID=Europe/Berlin:20241101T193000
DTEND;TZID=Europe/Berlin:20241101T223000
SUMMARY:ME L6 Gr 3\, Tours 1&2 Crissier VII vs Lausanne XII (0)
UID:b859f66b-72ed-49d7-95b4-372beef2a0fd
STATUS:CONFIRMED
LAST-MODIFIED:20241102T213259Z
DESCRIPTION:6ème ligue Hommes Groupe 3\, Tours 1&2\nBegegnungs-Nr: 0\nHeim: Crissier VII\nGast: Lausanne XII\n\nAdresse: ch. des Oches du Mur\, 1023 Crissier\n
LOCATION:ch. des Oches du Mur\, 1023 Crissier
CATEGORIES:Saison 2024/25
END:VEVENT
BEGIN:VEVENT
DTSTAMP:20260424T220528Z
DTSTART;TZID=Europe/Berlin:20241018T193000
DTEND;TZID=Europe/Berlin:20241018T223000
SUMMARY:ME L6 Gr 3\, Tours 1&2 Crissier VII vs Lausanne XV (0)
UID:d8c83393-cb98-46b1-8d14-829e8efd56ef
STATUS:CONFIRMED
LAST-MODIFIED:20241022T184017Z
DESCRIPTION:6ème ligue Hommes Groupe 3\, Tours 1&2\nBegegnungs-Nr: 0\nHeim: Crissier VII\nGast: Lausanne XV\n\nAdresse: ch. des Oches du Mur\, 1023 Crissier\n
LOCATION:ch. des Oches du Mur\, 1023 Crissier
CATEGORIES:Saison 2024/25
END:VEVENT
BEGIN:VEVENT
DTSTAMP:20260424T220528Z
DTSTART;TZID=Europe/Berlin:20241031T193000
DTEND;TZID=Europe/Berlin:20241031T223000
SUMMARY:ME L6 Gr 3\, Tours 1&2 Crissier VII vs Romanel V (0)
UID:6be6e3cb-ab1b-481e-a33b-df8a4cfeab23
STATUS:CONFIRMED
LAST-MODIFIED:20241102T091810Z
DESCRIPTION:6ème ligue Hommes Groupe 3\, Tours 1&2\nBegegnungs-Nr: 0\nHeim: Crissier VII\nGast: Romanel V\n\nAdresse: ch. des Oches du Mur\, 1023 Crissier\n
LOCATION:ch. des Oches du Mur\, 1023 Crissier
CATEGORIES:Saison 2024/25
END:VEVENT
BEGIN:VEVENT
DTSTAMP:20260424T220528Z
DTSTART;TZID=Europe/Berlin:20240913T193000
DTEND;TZID=Europe/Berlin:20240913T223000
SUMMARY:ME L6 Gr 3\, Tours 1&2 Crissier VII vs Montreux-Riviera II (0)
UID:aec7cf40-bef5-4bf4-8ac8-9910d46637be
STATUS:CONFIRMED
LAST-MODIFIED:20240914T204923Z
DESCRIPTION:6ème ligue Hommes Groupe 3\, Tours 1&2\nBegegnungs-Nr: 0\nHeim: Crissier VII\nGast: Montreux-Riviera II\n\nAdresse: ch. des Oches du Mur\, 1023 Crissier\n
LOCATION:ch. des Oches du Mur\, 1023 Crissier
CATEGORIES:Saison 2024/25
END:VEVENT
BEGIN:VEVENT
DTSTAMP:20260424T220528Z
DTSTART;TZID=Europe/Berlin:20250411T193000
DTEND;TZID=Europe/Berlin:20250411T223000
SUMMARY:ME L6 Gr 4\, Tours 3&4 Crissier VII vs Lausanne XV (0)
UID:ccf716c4-53e4-4720-816a-fbabbf53a1c2
STATUS:CONFIRMED
LAST-MODIFIED:20250412T101927Z
DESCRIPTION:6ème ligue Hommes Groupe 4\, Tours 3&4\nBegegnungs-Nr: 0\nHeim: Crissier VII\nGast: Lausanne XV\n\nAdresse: ch. des Oches du Mur\, 1023 Crissier\n
LOCATION:ch. des Oches du Mur\, 1023 Crissier
CATEGORIES:Saison 2024/25
END:VEVENT
BEGIN:VEVENT
DTSTAMP:20260424T220528Z
DTSTART;TZID=Europe/Berlin:20250314T193000
DTEND;TZID=Europe/Berlin:20250314T223000
SUMMARY:ME L6 Gr 4\, Tours 3&4 Crissier VII vs Lausanne XIII (0)
UID:3c5da833-c05e-4684-ad72-76a6a571814a
STATUS:CONFIRMED
LAST-MODIFIED:20250314T225506Z
DESCRIPTION:6ème ligue Hommes Groupe 4\, Tours 3&4\nBegegnungs-Nr: 0\nHeim: Crissier VII\nGast: Lausanne XIII\n\nAdresse: ch. des Oches du Mur\, 1023 Crissier\n
LOCATION:ch. des Oches du Mur\, 1023 Crissier
CATEGORIES:Saison 2024/25
END:VEVENT
BEGIN:VEVENT
DTSTAMP:20260424T220528Z
DTSTART;TZID=Europe/Berlin:20250228T193000
DTEND;TZID=Europe/Berlin:20250228T223000
SUMMARY:ME L6 Gr 4\, Tours 3&4 Crissier VII vs Vevey IV (0)
UID:bd0436b9-4f52-45e3-be46-a3b71af5b1bb
STATUS:CONFIRMED
LAST-MODIFIED:20250301T203359Z
DESCRIPTION:6ème ligue Hommes Groupe 4\, Tours 3&4\nBegegnungs-Nr: 0\nHeim: Crissier VII\nGast: Vevey IV\n\nAdresse: ch. des Oches du Mur\, 1023 Crissier\n
LOCATION:ch. des Oches du Mur\, 1023 Crissier
CATEGORIES:Saison 2024/25
END:VEVENT
BEGIN:VEVENT
DTSTAMP:20260424T220528Z
DTSTART;TZID=Europe/Berlin:20250320T193000
DTEND;TZID=Europe/Berlin:20250320T223000
SUMMARY:ME L6 Gr 4\, Tours 3&4 Crissier VII vs Forward-Morges V (0)
UID:0bd1b63b-ba5c-475c-9ec4-7d6713530021
STATUS:CONFIRMED
LAST-MODIFIED:20250321T115542Z
DESCRIPTION:6ème ligue Hommes Groupe 4\, Tours 3&4\nBegegnungs-Nr: 0\nHeim: Crissier VII\nGast: Forward-Morges V\n\nAdresse: ch. des Oches du Mur\, 1023 Crissier\n
LOCATION:ch. des Oches du Mur\, 1023 Crissier
CATEGORIES:Saison 2024/25
END:VEVENT
BEGIN:VEVENT
DTSTAMP:20260424T220528Z
DTSTART;TZID=Europe/Berlin:20250131T193000
DTEND;TZID=Europe/Berlin:20250131T223000
SUMMARY:ME L6 Gr 4\, Tours 3&4 Crissier VII vs Rolle II (0)
UID:949bfa4d-81ee-4380-a53d-07eba0fbf9b1
STATUS:CONFIRMED
LAST-MODIFIED:20250201T200526Z
DESCRIPTION:6ème ligue Hommes Groupe 4\, Tours 3&4\nBegegnungs-Nr: 0\nHeim: Crissier VII\nGast: Rolle II\n\nAdresse: ch. des Oches du Mur\, 1023 Crissier\n
LOCATION:ch. des Oches du Mur\, 1023 Crissier
CATEGORIES:Saison 2024/25
END:VEVENT
BEGIN:VEVENT
DTSTAMP:20260424T220528Z
DTSTART;TZID=Europe/Berlin:20241113T200000
DTEND;TZID=Europe/Berlin:20241113T230000
SUMMARY:ME L6 Gr 3\, Tours 1&2 Lausanne XV vs Crissier VII (0)
UID:cc9ed50d-25e9-4e1d-98e1-a4320a041de4
STATUS:CONFIRMED
LAST-MODIFIED:20241119T015651Z
DESCRIPTION:6ème ligue Hommes Groupe 3\, Tours 1&2\nBegegnungs-Nr: 0\nHeim: Lausanne XV\nGast: Crissier VII\n\nAdresse: Vaudoise Aréna\, Ch. du Viaduc 14\, 1008 Prilly\n
LOCATION:Vaudoise Aréna\, Ch. du Viaduc 14\, 1008 Prilly
CATEGORIES:Saison 2024/25
END:VEVENT
BEGIN:VEVENT
DTSTAMP:20260424T220528Z
DTSTART;TZID=Europe/Berlin:20241126T200000
DTEND;TZID=Europe/Berlin:20241126T230000
SUMMARY:ME L6 Gr 3\, Tours 1&2 Romanel V vs Crissier VII (0)
UID:bf260e3a-1a2a-4edc-99c5-184ab15763e1
STATUS:CONFIRMED
LAST-MODIFIED:20241128T003341Z
DESCRIPTION:6ème ligue Hommes Groupe 3\, Tours 1&2\nBegegnungs-Nr: 0\nHeim: Romanel V\nGast: Crissier VII\n\nAdresse: Ch des Epinettes 1\, 1032 Romanel-sur-Lausanne\n
LOCATION:Ch des Epinettes 1\, 1032 Romanel-sur-Lausanne
CATEGORIES:Saison 2024/25
END:VEVENT
BEGIN:VEVENT
DTSTAMP:20260424T220528Z
DTSTART;TZID=Europe/Berlin:20241107T200000
DTEND;TZID=Europe/Berlin:20241107T230000
SUMMARY:ME L6 Gr 3\, Tours 1&2 Montreux-Riviera II vs Crissier VII (0)
UID:1914e9d4-3b21-4fd9-bc97-fa9941b66900
STATUS:CONFIRMED
LAST-MODIFIED:20241108T195410Z
DESCRIPTION:6ème ligue Hommes Groupe 3\, Tours 1&2\nBegegnungs-Nr: 0\nHeim: Montreux-Riviera II\nGast: Crissier VII\n\nAdresse: Rue de la Gare 33\, 1820 Montreux\n
LOCATION:Rue de la Gare 33\, 1820 Montreux
CATEGORIES:Saison 2024/25
END:VEVENT
BEGIN:VEVENT
DTSTAMP:20260424T220528Z
DTSTART;TZID=Europe/Berlin:20240919T193000
DTEND;TZID=Europe/Berlin:20240919T223000
SUMMARY:ME L6 Gr 3\, Tours 1&2 Montriond-Ouchy  V vs Crissier VII (0)
UID:1549c8e2-960c-4733-8a67-7b7fddd8d6b4
STATUS:CONFIRMED
LAST-MODIFIED:20240922T140054Z
DESCRIPTION:6ème ligue Hommes Groupe 3\, Tours 1&2\nBegegnungs-Nr: 0\nHeim: Montriond-Ouchy  V\nGast: Crissier VII\n\nAdresse: Avenue d'Ouchy 45\, 1006 Lausanne\n
LOCATION:Avenue d'Ouchy 45\, 1006 Lausanne
CATEGORIES:Saison 2024/25
END:VEVENT
BEGIN:VEVENT
DTSTAMP:20260424T220528Z
DTSTART;TZID=Europe/Berlin:20240902T200000
DTEND;TZID=Europe/Berlin:20240902T230000
SUMMARY:ME L6 Gr 3\, Tours 1&2 Lausanne XII vs Crissier VII (0)
UID:1961b500-786c-4f70-97e9-06c1d2835fe9
STATUS:CONFIRMED
LAST-MODIFIED:20240905T101233Z
DESCRIPTION:6ème ligue Hommes Groupe 3\, Tours 1&2\nBegegnungs-Nr: 0\nHeim: Lausanne XII\nGast: Crissier VII\n\nAdresse: Vaudoise Aréna\, Ch. du Viaduc 14\, 1008 Prilly\n
LOCATION:Vaudoise Aréna\, Ch. du Viaduc 14\, 1008 Prilly
CATEGORIES:Saison 2024/25
END:VEVENT
BEGIN:VEVENT
DTSTAMP:20260424T220528Z
DTSTART;TZID=Europe/Berlin:20250505T193000
DTEND;TZID=Europe/Berlin:20250505T223000
SUMMARY:ME L6 Gr 4\, Tours 3&4 Vevey IV vs Crissier VII (0)
UID:df97c143-60bb-44d2-b046-76e5641185c5
STATUS:CONFIRMED
LAST-MODIFIED:20250510T192749Z
DESCRIPTION:6ème ligue Hommes Groupe 4\, Tours 3&4\nBegegnungs-Nr: 0\nHeim: Vevey IV\nGast: Crissier VII\n\nAdresse: Rue Louis-Meyer\, 1800 Vevey\n
LOCATION:Rue Louis-Meyer\, 1800 Vevey
CATEGORIES:Saison 2024/25
END:VEVENT
BEGIN:VEVENT
DTSTAMP:20260424T220528Z
DTSTART;TZID=Europe/Berlin:20250501T194500
DTEND;TZID=Europe/Berlin:20250501T224500
SUMMARY:ME L6 Gr 4\, Tours 3&4 Forward-Morges V vs Crissier VII (0)
UID:4a4bd699-587a-4a93-b6a0-1bcafadecb18
STATUS:CONFIRMED
LAST-MODIFIED:20250503T000722Z
DESCRIPTION:6ème ligue Hommes Groupe 4\, Tours 3&4\nBegegnungs-Nr: 0\nHeim: Forward-Morges V\nGast: Crissier VII\n\nAdresse: Chemin de Tolochenaz\, 1110 Morges\n
LOCATION:Chemin de Tolochenaz\, 1110 Morges
CATEGORIES:Saison 2024/25
END:VEVENT
BEGIN:VEVENT
DTSTAMP:20260424T220528Z
DTSTART;TZID=Europe/Berlin:20250324T200000
DTEND;TZID=Europe/Berlin:20250324T230000
SUMMARY:ME L6 Gr 4\, Tours 3&4 Rolle II vs Crissier VII (0)
UID:d75214d7-5ca0-4882-89b9-088dcff2af1d
STATUS:CONFIRMED
LAST-MODIFIED:20250325T125202Z
DESCRIPTION:6ème ligue Hommes Groupe 4\, Tours 3&4\nBegegnungs-Nr: 0\nHeim: Rolle II\nGast: Crissier VII\n\nAdresse: Route des Quatre-Communes 7\, 1180 Rolle\n
LOCATION:Route des Quatre-Communes 7\, 1180 Rolle
CATEGORIES:Saison 2024/25
END:VEVENT
BEGIN:VEVENT
DTSTAMP:20260424T220528Z
DTSTART;TZID=Europe/Berlin:20250212T200000
DTEND;TZID=Europe/Berlin:20250212T230000
SUMMARY:ME L6 Gr 4\, Tours 3&4 Lausanne XV vs Crissier VII (0)
UID:a1f12978-317f-4f99-b2bf-0d817fb2e585
STATUS:CONFIRMED
LAST-MODIFIED:20250219T231046Z
DESCRIPTION:6ème ligue Hommes Groupe 4\, Tours 3&4\nBegegnungs-Nr: 0\nHeim: Lausanne XV\nGast: Crissier VII\n\nAdresse: Vaudoise Aréna\, Ch. du Viaduc 14\, 1008 Prilly\n
LOCATION:Vaudoise Aréna\, Ch. du Viaduc 14\, 1008 Prilly
CATEGORIES:Saison 2024/25
END:VEVENT
BEGIN:VEVENT
DTSTAMP:20260424T220528Z
DTSTART;TZID=Europe/Berlin:20250214T200000
DTEND;TZID=Europe/Berlin:20250214T230000
SUMMARY:ME L6 Gr 4\, Tours 3&4 Lausanne XIII vs Crissier VII (0)
UID:f38e36dc-9503-40de-99a9-2b038496edc3
STATUS:CONFIRMED
LAST-MODIFIED:20250216T182815Z
DESCRIPTION:6ème ligue Hommes Groupe 4\, Tours 3&4\nBegegnungs-Nr: 0\nHeim: Lausanne XIII\nGast: Crissier VII\n\nAdresse: Vaudoise Aréna\, Ch. du Viaduc 14\, 1008 Prilly\n
LOCATION:Vaudoise Aréna\, Ch. du Viaduc 14\, 1008 Prilly
CATEGORIES:Saison 2024/25
END:VEVENT
END:VCALENDAR
