BEGIN:VCALENDAR
PRODID:-//nuDatenautomaten//framework iCal4j //DE
VERSION:2.0
CALSCALE:GREGORIAN
BEGIN:VTIMEZONE
TZID:Europe/Berlin
LAST-MODIFIED:20260306T231828Z
TZURL:https://www.tzurl.org/zoneinfo/Europe/Berlin
X-LIC-LOCATION:Europe/Berlin
X-PROLEPTIC-TZNAME:LMT
BEGIN:STANDARD
TZNAME:CET
TZOFFSETFROM:+005328
TZOFFSETTO:+0100
DTSTART:18930401T000000
END:STANDARD
BEGIN:DAYLIGHT
TZNAME:CEST
TZOFFSETFROM:+0100
TZOFFSETTO:+0200
DTSTART:19160430T230000
RDATE:19400401T020000
RDATE:19430329T020000
RDATE:19460414T020000
RDATE:19470406T030000
RDATE:19480418T020000
RDATE:19490410T020000
RDATE:19800406T020000
END:DAYLIGHT
BEGIN:STANDARD
TZNAME:CET
TZOFFSETFROM:+0200
TZOFFSETTO:+0100
DTSTART:19161001T010000
RDATE:19421102T030000
RDATE:19431004T030000
RDATE:19441002T030000
RDATE:19451118T030000
RDATE:19461007T030000
END:STANDARD
BEGIN:DAYLIGHT
TZNAME:CEST
TZOFFSETFROM:+0100
TZOFFSETTO:+0200
DTSTART:19170416T020000
RRULE:FREQ=YEARLY;UNTIL=19180415T010000Z;BYMONTH=4;BYDAY=3MO
END:DAYLIGHT
BEGIN:STANDARD
TZNAME:CET
TZOFFSETFROM:+0200
TZOFFSETTO:+0100
DTSTART:19170917T030000
RRULE:FREQ=YEARLY;UNTIL=19180916T010000Z;BYMONTH=9;BYDAY=3MO
END:STANDARD
BEGIN:DAYLIGHT
TZNAME:CEST
TZOFFSETFROM:+0100
TZOFFSETTO:+0200
DTSTART:19440403T020000
RRULE:FREQ=YEARLY;UNTIL=19450402T010000Z;BYMONTH=4;BYDAY=1MO
END:DAYLIGHT
BEGIN:DAYLIGHT
TZNAME:CEMT
TZOFFSETFROM:+0200
TZOFFSETTO:+0300
DTSTART:19450524T020000
RDATE:19470511T030000
END:DAYLIGHT
BEGIN:DAYLIGHT
TZNAME:CEST
TZOFFSETFROM:+0300
TZOFFSETTO:+0200
DTSTART:19450924T030000
RDATE:19470629T030000
END:DAYLIGHT
BEGIN:STANDARD
TZNAME:CET
TZOFFSETFROM:+0100
TZOFFSETTO:+0100
DTSTART:19460101T000000
RDATE:19800101T000000
END:STANDARD
BEGIN:STANDARD
TZNAME:CET
TZOFFSETFROM:+0200
TZOFFSETTO:+0100
DTSTART:19471005T030000
RRULE:FREQ=YEARLY;UNTIL=19491002T010000Z;BYMONTH=10;BYDAY=1SU
END:STANDARD
BEGIN:STANDARD
TZNAME:CET
TZOFFSETFROM:+0200
TZOFFSETTO:+0100
DTSTART:19800928T030000
RRULE:FREQ=YEARLY;UNTIL=19950924T010000Z;BYMONTH=9;BYDAY=-1SU
END:STANDARD
BEGIN:DAYLIGHT
TZNAME:CEST
TZOFFSETFROM:+0100
TZOFFSETTO:+0200
DTSTART:19810329T020000
RRULE:FREQ=YEARLY;BYMONTH=3;BYDAY=-1SU
END:DAYLIGHT
BEGIN:STANDARD
TZNAME:CET
TZOFFSETFROM:+0200
TZOFFSETTO:+0100
DTSTART:19961027T030000
RRULE:FREQ=YEARLY;BYMONTH=10;BYDAY=-1SU
END:STANDARD
END:VTIMEZONE
BEGIN:VEVENT
DTSTAMP:20260425T022336Z
DTSTART;TZID=Europe/Berlin:20250303T200000
DTEND;TZID=Europe/Berlin:20250303T230000
SUMMARY:HE 2. Liga Gr. 3 Horgen II vs BW-Wollishofen (0)
UID:ab689fa9-f202-407e-a0cf-bbd263ace15e
STATUS:CONFIRMED
LAST-MODIFIED:20250306T142049Z
DESCRIPTION:2. Liga Herren Gruppe 3\nBegegnungs-Nr: 0\nHeim: Horgen II\nGast: BW-Wollishofen\n\nAdresse: Mauremoosstrasse 1\, 8815 Horgenberg \n
LOCATION:Mauremoosstrasse 1\, 8815 Horgenberg 
CATEGORIES:Saison 2024/25
END:VEVENT
BEGIN:VEVENT
DTSTAMP:20260425T022336Z
DTSTART;TZID=Europe/Berlin:20250324T200000
DTEND;TZID=Europe/Berlin:20250324T230000
SUMMARY:HE 2. Liga Gr. 3 Horgen II vs Triesen (0)
UID:a17e7d47-02e8-4136-80b0-c4c89df9fe92
STATUS:CONFIRMED
LAST-MODIFIED:20250327T080325Z
DESCRIPTION:2. Liga Herren Gruppe 3\nBegegnungs-Nr: 0\nHeim: Horgen II\nGast: Triesen\n\nAdresse: Mauremoosstrasse 1\, 8815 Horgenberg \n
LOCATION:Mauremoosstrasse 1\, 8815 Horgenberg 
CATEGORIES:Saison 2024/25
END:VEVENT
BEGIN:VEVENT
DTSTAMP:20260425T022336Z
DTSTART;TZID=Europe/Berlin:20241104T200000
DTEND;TZID=Europe/Berlin:20241104T230000
SUMMARY:HE 2. Liga Gr. 3 Horgen II vs Zürich-Affoltern III (0)
UID:30bee032-145d-4c4b-b5a2-06b8cde9d864
STATUS:CONFIRMED
LAST-MODIFIED:20241106T081326Z
DESCRIPTION:2. Liga Herren Gruppe 3\nBegegnungs-Nr: 0\nHeim: Horgen II\nGast: Zürich-Affoltern III\n\nAdresse: Mauremoosstrasse 1\, 8815 Horgenberg \n
LOCATION:Mauremoosstrasse 1\, 8815 Horgenberg 
CATEGORIES:Saison 2024/25
END:VEVENT
BEGIN:VEVENT
DTSTAMP:20260425T022336Z
DTSTART;TZID=Europe/Berlin:20240916T200000
DTEND;TZID=Europe/Berlin:20240916T230000
SUMMARY:HE 2. Liga Gr. 3 Horgen II vs Wädenswil II (0)
UID:8cebd877-ef2f-47aa-b997-bfe0ede54283
STATUS:CONFIRMED
LAST-MODIFIED:20240917T070847Z
DESCRIPTION:2. Liga Herren Gruppe 3\nBegegnungs-Nr: 0\nHeim: Horgen II\nGast: Wädenswil II\n\nAdresse: Mauremoosstrasse 1\, 8815 Horgenberg \n
LOCATION:Mauremoosstrasse 1\, 8815 Horgenberg 
CATEGORIES:Saison 2024/25
END:VEVENT
BEGIN:VEVENT
DTSTAMP:20260425T022336Z
DTSTART;TZID=Europe/Berlin:20240826T200000
DTEND;TZID=Europe/Berlin:20240826T230000
SUMMARY:HE 2. Liga Gr. 3 Horgen II vs Wetzikon IV (0)
UID:e6b91f54-3d1f-4704-b6ff-40a81407cfb9
STATUS:CONFIRMED
LAST-MODIFIED:20240828T081240Z
DESCRIPTION:2. Liga Herren Gruppe 3\nBegegnungs-Nr: 0\nHeim: Horgen II\nGast: Wetzikon IV\n\nAdresse: Mauremoosstrasse 1\, 8815 Horgenberg \n
LOCATION:Mauremoosstrasse 1\, 8815 Horgenberg 
CATEGORIES:Saison 2024/25
END:VEVENT
BEGIN:VEVENT
DTSTAMP:20260425T022336Z
DTSTART;TZID=Europe/Berlin:20250203T200000
DTEND;TZID=Europe/Berlin:20250203T230000
SUMMARY:HE 2. Liga Gr. 3 Horgen II vs Young Stars ZH IV (0)
UID:56c89100-69a5-4d74-9ac5-90c5be82bf61
STATUS:CONFIRMED
LAST-MODIFIED:20250204T123515Z
DESCRIPTION:2. Liga Herren Gruppe 3\nBegegnungs-Nr: 0\nHeim: Horgen II\nGast: Young Stars ZH IV\n\nAdresse: Mauremoosstrasse 1\, 8815 Horgenberg \n
LOCATION:Mauremoosstrasse 1\, 8815 Horgenberg 
CATEGORIES:Saison 2024/25
END:VEVENT
BEGIN:VEVENT
DTSTAMP:20260425T022336Z
DTSTART;TZID=Europe/Berlin:20250120T200000
DTEND;TZID=Europe/Berlin:20250120T230000
SUMMARY:HE 2. Liga Gr. 3 Horgen II vs Pinguin Zürich (0)
UID:23bd7b49-4346-40db-bb22-5802bb7a0fac
STATUS:CONFIRMED
LAST-MODIFIED:20250123T070939Z
DESCRIPTION:2. Liga Herren Gruppe 3\nBegegnungs-Nr: 0\nHeim: Horgen II\nGast: Pinguin Zürich\n\nAdresse: Mauremoosstrasse 1\, 8815 Horgenberg \n
LOCATION:Mauremoosstrasse 1\, 8815 Horgenberg 
CATEGORIES:Saison 2024/25
END:VEVENT
BEGIN:VEVENT
DTSTAMP:20260425T022336Z
DTSTART;TZID=Europe/Berlin:20241206T194500
DTEND;TZID=Europe/Berlin:20241206T224500
SUMMARY:HE 2. Liga Gr. 3 Triesen vs Horgen II (0)
UID:18ff871b-4c9b-40da-816a-8889592124a3
STATUS:CONFIRMED
LAST-MODIFIED:20241211T090107Z
DESCRIPTION:2. Liga Herren Gruppe 3\nBegegnungs-Nr: 0\nHeim: Triesen\nGast: Horgen II\n\nAdresse: Gässle 12\, 9495 Triesen\n
LOCATION:Gässle 12\, 9495 Triesen
CATEGORIES:Saison 2024/25
END:VEVENT
BEGIN:VEVENT
DTSTAMP:20260425T022336Z
DTSTART;TZID=Europe/Berlin:20241030T200000
DTEND;TZID=Europe/Berlin:20241030T230000
SUMMARY:HE 2. Liga Gr. 3 BW-Wollishofen vs Horgen II (0)
UID:e5652dab-5775-4aae-a5af-816d1d41fd11
STATUS:CONFIRMED
LAST-MODIFIED:20241104T084801Z
DESCRIPTION:2. Liga Herren Gruppe 3\nBegegnungs-Nr: 0\nHeim: BW-Wollishofen\nGast: Horgen II\n\nAdresse: Kilchbergstr. 28\, 8038 Zürich\n
LOCATION:Kilchbergstr. 28\, 8038 Zürich
CATEGORIES:Saison 2024/25
END:VEVENT
BEGIN:VEVENT
DTSTAMP:20260425T022336Z
DTSTART;TZID=Europe/Berlin:20241113T201500
DTEND;TZID=Europe/Berlin:20241113T231500
SUMMARY:HE 2. Liga Gr. 3 Young Stars ZH IV vs Horgen II (0)
UID:bbea0bf2-ff89-497d-8b18-175037fa91c1
STATUS:CONFIRMED
LAST-MODIFIED:20241114T070246Z
DESCRIPTION:2. Liga Herren Gruppe 3\nBegegnungs-Nr: 0\nHeim: Young Stars ZH IV\nGast: Horgen II\n\nAdresse: Seefeldstrasse 93\, 8008 Zürich\n
LOCATION:Seefeldstrasse 93\, 8008 Zürich
CATEGORIES:Saison 2024/25
END:VEVENT
BEGIN:VEVENT
DTSTAMP:20260425T022336Z
DTSTART;TZID=Europe/Berlin:20240905T200000
DTEND;TZID=Europe/Berlin:20240905T230000
SUMMARY:HE 2. Liga Gr. 3 Pinguin Zürich vs Horgen II (0)
UID:db5a4bbf-ad55-48b1-ae71-4327269471ef
STATUS:CONFIRMED
LAST-MODIFIED:20240906T095236Z
DESCRIPTION:2. Liga Herren Gruppe 3\nBegegnungs-Nr: 0\nHeim: Pinguin Zürich\nGast: Horgen II\n\nAdresse: Grindelstrasse 20\, 8303 Bassersdorf\n
LOCATION:Grindelstrasse 20\, 8303 Bassersdorf
CATEGORIES:Saison 2024/25
END:VEVENT
BEGIN:VEVENT
DTSTAMP:20260425T022336Z
DTSTART;TZID=Europe/Berlin:20250314T201500
DTEND;TZID=Europe/Berlin:20250314T231500
SUMMARY:HE 2. Liga Gr. 3 Zürich-Affoltern III vs Horgen II (0)
UID:22eba777-0a05-47bc-a787-51a90c218af2
STATUS:CONFIRMED
LAST-MODIFIED:20250319T094041Z
DESCRIPTION:2. Liga Herren Gruppe 3\nBegegnungs-Nr: 0\nHeim: Zürich-Affoltern III\nGast: Horgen II\n
LOCATION:
CATEGORIES:Saison 2024/25
END:VEVENT
BEGIN:VEVENT
DTSTAMP:20260425T022336Z
DTSTART;TZID=Europe/Berlin:20250130T200000
DTEND;TZID=Europe/Berlin:20250130T230000
SUMMARY:HE 2. Liga Gr. 3 Wädenswil II vs Horgen II (0)
UID:9fa413e4-19e5-411a-bcfb-3b0e590e6202
STATUS:CONFIRMED
LAST-MODIFIED:20250131T143445Z
DESCRIPTION:2. Liga Herren Gruppe 3\nBegegnungs-Nr: 0\nHeim: Wädenswil II\nGast: Horgen II\n\nAdresse: Speerstrasse 95\, 8820 Wädenswil\n
LOCATION:Speerstrasse 95\, 8820 Wädenswil
CATEGORIES:Saison 2024/25
END:VEVENT
BEGIN:VEVENT
DTSTAMP:20260425T022336Z
DTSTART;TZID=Europe/Berlin:20250106T194500
DTEND;TZID=Europe/Berlin:20250106T224500
SUMMARY:HE 2. Liga Gr. 3 Wetzikon IV vs Horgen II (0)
UID:a99aca3a-cf86-41b2-8723-f27a2029f039
STATUS:CONFIRMED
LAST-MODIFIED:20250110T150531Z
DESCRIPTION:2. Liga Herren Gruppe 3\nBegegnungs-Nr: 0\nHeim: Wetzikon IV\nGast: Horgen II\n\nAdresse: Usterstrasse 37\, 8620 Wetzikon\n
LOCATION:Usterstrasse 37\, 8620 Wetzikon
CATEGORIES:Saison 2024/25
END:VEVENT
END:VCALENDAR
