BEGIN:VCALENDAR
PRODID:-//nuDatenautomaten//framework iCal4j //DE
VERSION:2.0
CALSCALE:GREGORIAN
BEGIN:VTIMEZONE
TZID:Europe/Berlin
LAST-MODIFIED:20260306T231828Z
TZURL:https://www.tzurl.org/zoneinfo/Europe/Berlin
X-LIC-LOCATION:Europe/Berlin
X-PROLEPTIC-TZNAME:LMT
BEGIN:STANDARD
TZNAME:CET
TZOFFSETFROM:+005328
TZOFFSETTO:+0100
DTSTART:18930401T000000
END:STANDARD
BEGIN:DAYLIGHT
TZNAME:CEST
TZOFFSETFROM:+0100
TZOFFSETTO:+0200
DTSTART:19160430T230000
RDATE:19400401T020000
RDATE:19430329T020000
RDATE:19460414T020000
RDATE:19470406T030000
RDATE:19480418T020000
RDATE:19490410T020000
RDATE:19800406T020000
END:DAYLIGHT
BEGIN:STANDARD
TZNAME:CET
TZOFFSETFROM:+0200
TZOFFSETTO:+0100
DTSTART:19161001T010000
RDATE:19421102T030000
RDATE:19431004T030000
RDATE:19441002T030000
RDATE:19451118T030000
RDATE:19461007T030000
END:STANDARD
BEGIN:DAYLIGHT
TZNAME:CEST
TZOFFSETFROM:+0100
TZOFFSETTO:+0200
DTSTART:19170416T020000
RRULE:FREQ=YEARLY;UNTIL=19180415T010000Z;BYMONTH=4;BYDAY=3MO
END:DAYLIGHT
BEGIN:STANDARD
TZNAME:CET
TZOFFSETFROM:+0200
TZOFFSETTO:+0100
DTSTART:19170917T030000
RRULE:FREQ=YEARLY;UNTIL=19180916T010000Z;BYMONTH=9;BYDAY=3MO
END:STANDARD
BEGIN:DAYLIGHT
TZNAME:CEST
TZOFFSETFROM:+0100
TZOFFSETTO:+0200
DTSTART:19440403T020000
RRULE:FREQ=YEARLY;UNTIL=19450402T010000Z;BYMONTH=4;BYDAY=1MO
END:DAYLIGHT
BEGIN:DAYLIGHT
TZNAME:CEMT
TZOFFSETFROM:+0200
TZOFFSETTO:+0300
DTSTART:19450524T020000
RDATE:19470511T030000
END:DAYLIGHT
BEGIN:DAYLIGHT
TZNAME:CEST
TZOFFSETFROM:+0300
TZOFFSETTO:+0200
DTSTART:19450924T030000
RDATE:19470629T030000
END:DAYLIGHT
BEGIN:STANDARD
TZNAME:CET
TZOFFSETFROM:+0100
TZOFFSETTO:+0100
DTSTART:19460101T000000
RDATE:19800101T000000
END:STANDARD
BEGIN:STANDARD
TZNAME:CET
TZOFFSETFROM:+0200
TZOFFSETTO:+0100
DTSTART:19471005T030000
RRULE:FREQ=YEARLY;UNTIL=19491002T010000Z;BYMONTH=10;BYDAY=1SU
END:STANDARD
BEGIN:STANDARD
TZNAME:CET
TZOFFSETFROM:+0200
TZOFFSETTO:+0100
DTSTART:19800928T030000
RRULE:FREQ=YEARLY;UNTIL=19950924T010000Z;BYMONTH=9;BYDAY=-1SU
END:STANDARD
BEGIN:DAYLIGHT
TZNAME:CEST
TZOFFSETFROM:+0100
TZOFFSETTO:+0200
DTSTART:19810329T020000
RRULE:FREQ=YEARLY;BYMONTH=3;BYDAY=-1SU
END:DAYLIGHT
BEGIN:STANDARD
TZNAME:CET
TZOFFSETFROM:+0200
TZOFFSETTO:+0100
DTSTART:19961027T030000
RRULE:FREQ=YEARLY;BYMONTH=10;BYDAY=-1SU
END:STANDARD
END:VTIMEZONE
BEGIN:VEVENT
DTSTAMP:20260419T214335Z
DTSTART;TZID=Europe/Berlin:20240911T200000
DTEND;TZID=Europe/Berlin:20240911T230000
SUMMARY:L5P1 Omega IV vs Cortaillod IV (0)
UID:3d357f8f-edd7-49f4-9648-152a3d8330c0
STATUS:CONFIRMED
LAST-MODIFIED:20240917T130201Z
DESCRIPTION:5ème ligue phase 1\nBegegnungs-Nr: 0\nHeim: Omega IV\nGast: Cortaillod IV\n\nAdresse: Tennisweg 1\, 2504 Biel-Bienne\n
LOCATION:Tennisweg 1\, 2504 Biel-Bienne
CATEGORIES:Saison 2024/25
END:VEVENT
BEGIN:VEVENT
DTSTAMP:20260419T214335Z
DTSTART;TZID=Europe/Berlin:20241120T200000
DTEND;TZID=Europe/Berlin:20241120T230000
SUMMARY:L5P1 Omega IV vs Delémont V (0)
UID:55f798bc-fe94-4abc-b608-363def8a9cd4
STATUS:CONFIRMED
LAST-MODIFIED:20241122T115825Z
DESCRIPTION:5ème ligue phase 1\nBegegnungs-Nr: 0\nHeim: Omega IV\nGast: Delémont V\n\nAdresse: Tennisweg 1\, 2504 Biel-Bienne\n
LOCATION:Tennisweg 1\, 2504 Biel-Bienne
CATEGORIES:Saison 2024/25
END:VEVENT
BEGIN:VEVENT
DTSTAMP:20260419T214335Z
DTSTART;TZID=Europe/Berlin:20241023T200000
DTEND;TZID=Europe/Berlin:20241023T230000
SUMMARY:L5P1 Omega IV vs Hauterive II (0)
UID:f10507cd-946e-43b0-9127-fb409e34b574
STATUS:CONFIRMED
LAST-MODIFIED:20241025T144814Z
DESCRIPTION:5ème ligue phase 1\nBegegnungs-Nr: 0\nHeim: Omega IV\nGast: Hauterive II\n\nAdresse: Tennisweg 1\, 2504 Biel-Bienne\n
LOCATION:Tennisweg 1\, 2504 Biel-Bienne
CATEGORIES:Saison 2024/25
END:VEVENT
BEGIN:VEVENT
DTSTAMP:20260419T214335Z
DTSTART;TZID=Europe/Berlin:20241009T200000
DTEND;TZID=Europe/Berlin:20241009T230000
SUMMARY:L5P1 Omega IV vs Entente Pongiste Neuchâteloise V (0)
UID:4e52a5ac-e277-4bbe-a071-ec7cd917d810
STATUS:CONFIRMED
LAST-MODIFIED:20241010T112255Z
DESCRIPTION:5ème ligue phase 1\nBegegnungs-Nr: 0\nHeim: Omega IV\nGast: Entente Pongiste Neuchâteloise V\n\nAdresse: Tennisweg 1\, 2504 Biel-Bienne\n
LOCATION:Tennisweg 1\, 2504 Biel-Bienne
CATEGORIES:Saison 2024/25
END:VEVENT
BEGIN:VEVENT
DTSTAMP:20260419T214335Z
DTSTART;TZID=Europe/Berlin:20250115T200000
DTEND;TZID=Europe/Berlin:20250115T230000
SUMMARY:L5P2 Omega IV vs Omega V (0)
UID:dd9b31c6-e9bc-4bfa-ba56-488ea7af9e01
STATUS:CONFIRMED
LAST-MODIFIED:20250121T142702Z
DESCRIPTION:5ème ligue phase 2\nBegegnungs-Nr: 0\nHeim: Omega IV\nGast: Omega V\n\nAdresse: Tennisweg 1\, 2504 Biel-Bienne\n
LOCATION:Tennisweg 1\, 2504 Biel-Bienne
CATEGORIES:Saison 2024/25
END:VEVENT
BEGIN:VEVENT
DTSTAMP:20260419T214335Z
DTSTART;TZID=Europe/Berlin:20250207T200000
DTEND;TZID=Europe/Berlin:20250207T230000
SUMMARY:L5P2 Omega IV vs Porrentruy II (0)
UID:6c944997-e0dc-4a30-9b58-5203b533ed75
STATUS:CONFIRMED
LAST-MODIFIED:20250210T175212Z
DESCRIPTION:5ème ligue phase 2\nBegegnungs-Nr: 0\nHeim: Omega IV\nGast: Porrentruy II\n\nAdresse: Tennisweg 1\, 2504 Biel-Bienne\n
LOCATION:Tennisweg 1\, 2504 Biel-Bienne
CATEGORIES:Saison 2024/25
END:VEVENT
BEGIN:VEVENT
DTSTAMP:20260419T214335Z
DTSTART;TZID=Europe/Berlin:20250507T200000
DTEND;TZID=Europe/Berlin:20250507T230000
SUMMARY:L5P2 Omega IV vs Moutier III (0)
UID:1bb4c166-c8be-4d34-8f23-a4e918a7522f
STATUS:CONFIRMED
LAST-MODIFIED:20250512T090729Z
DESCRIPTION:5ème ligue phase 2\nBegegnungs-Nr: 0\nHeim: Omega IV\nGast: Moutier III\n\nAdresse: Tennisweg 1\, 2504 Biel-Bienne\n
LOCATION:Tennisweg 1\, 2504 Biel-Bienne
CATEGORIES:Saison 2024/25
END:VEVENT
BEGIN:VEVENT
DTSTAMP:20260419T214335Z
DTSTART;TZID=Europe/Berlin:20250312T200000
DTEND;TZID=Europe/Berlin:20250312T230000
SUMMARY:L5P2 Omega IV vs Delémont V (0)
UID:b1e90630-7b05-4a0c-b43d-b00e46884a03
STATUS:CONFIRMED
LAST-MODIFIED:20250313T075024Z
DESCRIPTION:5ème ligue phase 2\nBegegnungs-Nr: 0\nHeim: Omega IV\nGast: Delémont V\n\nAdresse: Tennisweg 1\, 2504 Biel-Bienne\n
LOCATION:Tennisweg 1\, 2504 Biel-Bienne
CATEGORIES:Saison 2024/25
END:VEVENT
BEGIN:VEVENT
DTSTAMP:20260419T214335Z
DTSTART;TZID=Europe/Berlin:20240925T200000
DTEND;TZID=Europe/Berlin:20240925T230000
SUMMARY:L5P1 Tramelan IV vs Omega IV (0)
UID:7926d188-e553-4233-b396-c2c326f316d3
STATUS:CONFIRMED
LAST-MODIFIED:20241003T090219Z
DESCRIPTION:5ème ligue phase 1\nBegegnungs-Nr: 0\nHeim: Tramelan IV\nGast: Omega IV\n\nAdresse: Rue du Collège 13\, 2720 Tramelan\n
LOCATION:Rue du Collège 13\, 2720 Tramelan
CATEGORIES:Saison 2024/25
END:VEVENT
BEGIN:VEVENT
DTSTAMP:20260419T214335Z
DTSTART;TZID=Europe/Berlin:20240830T200000
DTEND;TZID=Europe/Berlin:20240830T230000
SUMMARY:L5P1 Omega V vs Omega IV (0)
UID:441ac160-6fe8-4463-b633-6fccb2429063
STATUS:CONFIRMED
LAST-MODIFIED:20240924T160534Z
DESCRIPTION:5ème ligue phase 1\nBegegnungs-Nr: 0\nHeim: Omega V\nGast: Omega IV\n\nAdresse: Tennisweg 1\, 2504 Biel-Bienne\n
LOCATION:Tennisweg 1\, 2504 Biel-Bienne
CATEGORIES:Saison 2024/25
END:VEVENT
BEGIN:VEVENT
DTSTAMP:20260419T214335Z
DTSTART;TZID=Europe/Berlin:20240906T193000
DTEND;TZID=Europe/Berlin:20240906T223000
SUMMARY:L5P1 Val-de-Ruz V vs Omega IV (0)
UID:6da7c70b-5049-4118-826e-f76d93eb524b
STATUS:CONFIRMED
LAST-MODIFIED:20240924T160549Z
DESCRIPTION:5ème ligue phase 1\nBegegnungs-Nr: 0\nHeim: Val-de-Ruz V\nGast: Omega IV\n\nAdresse: Rue de Chasseral 3\, 2053 Cernier\n
LOCATION:Rue de Chasseral 3\, 2053 Cernier
CATEGORIES:Saison 2024/25
END:VEVENT
BEGIN:VEVENT
DTSTAMP:20260419T214335Z
DTSTART;TZID=Europe/Berlin:20241115T200000
DTEND;TZID=Europe/Berlin:20241115T230000
SUMMARY:L5P1 Moutier III vs Omega IV (0)
UID:5bc57252-376c-41a2-ba0b-57015ab75cb5
STATUS:CONFIRMED
LAST-MODIFIED:20241122T115541Z
DESCRIPTION:5ème ligue phase 1\nBegegnungs-Nr: 0\nHeim: Moutier III\nGast: Omega IV\n\nAdresse: Place Beseran\, 2740 Moutier\n
LOCATION:Place Beseran\, 2740 Moutier
CATEGORIES:Saison 2024/25
END:VEVENT
BEGIN:VEVENT
DTSTAMP:20260419T214335Z
DTSTART;TZID=Europe/Berlin:20250131T193000
DTEND;TZID=Europe/Berlin:20250131T223000
SUMMARY:L5P2 La Chaux-de-Fonds IV vs Omega IV (0)
UID:f9dec69b-7114-4065-8567-2e8033d97511
STATUS:CONFIRMED
LAST-MODIFIED:20250210T175033Z
DESCRIPTION:5ème ligue phase 2\nBegegnungs-Nr: 0\nHeim: La Chaux-de-Fonds IV\nGast: Omega IV\n\nAdresse: Rue du Docteur-Kern 14\, 2300 La Chaux-de-Fonds\n
LOCATION:Rue du Docteur-Kern 14\, 2300 La Chaux-de-Fonds
CATEGORIES:Saison 2024/25
END:VEVENT
BEGIN:VEVENT
DTSTAMP:20260419T214335Z
DTSTART;TZID=Europe/Berlin:20250224T200000
DTEND;TZID=Europe/Berlin:20250224T230000
SUMMARY:L5P2 Centre Portugais vs Omega IV (0)
UID:f74197c1-8d9d-4e1a-bde8-a6eb729e807d
STATUS:CONFIRMED
LAST-MODIFIED:20250228T065228Z
DESCRIPTION:5ème ligue phase 2\nBegegnungs-Nr: 0\nHeim: Centre Portugais\nGast: Omega IV\n\nAdresse: -\, 2008 Neuchâtel 8\n
LOCATION:-\, 2008 Neuchâtel 8
CATEGORIES:Saison 2024/25
END:VEVENT
BEGIN:VEVENT
DTSTAMP:20260419T214335Z
DTSTART;TZID=Europe/Berlin:20250326T200000
DTEND;TZID=Europe/Berlin:20250326T230000
SUMMARY:L5P2 Tramelan IV vs Omega IV (0)
UID:3efcc63c-224d-40aa-a9b7-ed6fd2744c9d
STATUS:CONFIRMED
LAST-MODIFIED:20250404T051009Z
DESCRIPTION:5ème ligue phase 2\nBegegnungs-Nr: 0\nHeim: Tramelan IV\nGast: Omega IV\n\nAdresse: Rue du Collège 13\, 2720 Tramelan\n
LOCATION:Rue du Collège 13\, 2720 Tramelan
CATEGORIES:Saison 2024/25
END:VEVENT
BEGIN:VEVENT
DTSTAMP:20260419T214335Z
DTSTART;TZID=Europe/Berlin:20250423T193000
DTEND;TZID=Europe/Berlin:20250423T223000
SUMMARY:L5P2 Hauterive II vs Omega IV (0)
UID:280fdcaf-c8aa-49f6-91db-8f4116440781
STATUS:CONFIRMED
LAST-MODIFIED:20250424T125526Z
DESCRIPTION:5ème ligue phase 2\nBegegnungs-Nr: 0\nHeim: Hauterive II\nGast: Omega IV\n\nAdresse: Rue des Longschamps 10\, 2068 Hauterive NE\n
LOCATION:Rue des Longschamps 10\, 2068 Hauterive NE
CATEGORIES:Saison 2024/25
END:VEVENT
END:VCALENDAR
