BEGIN:VCALENDAR
PRODID:-//nuDatenautomaten//framework iCal4j //DE
VERSION:2.0
CALSCALE:GREGORIAN
BEGIN:VTIMEZONE
TZID:Europe/Berlin
LAST-MODIFIED:20260306T231828Z
TZURL:https://www.tzurl.org/zoneinfo/Europe/Berlin
X-LIC-LOCATION:Europe/Berlin
X-PROLEPTIC-TZNAME:LMT
BEGIN:STANDARD
TZNAME:CET
TZOFFSETFROM:+005328
TZOFFSETTO:+0100
DTSTART:18930401T000000
END:STANDARD
BEGIN:DAYLIGHT
TZNAME:CEST
TZOFFSETFROM:+0100
TZOFFSETTO:+0200
DTSTART:19160430T230000
RDATE:19400401T020000
RDATE:19430329T020000
RDATE:19460414T020000
RDATE:19470406T030000
RDATE:19480418T020000
RDATE:19490410T020000
RDATE:19800406T020000
END:DAYLIGHT
BEGIN:STANDARD
TZNAME:CET
TZOFFSETFROM:+0200
TZOFFSETTO:+0100
DTSTART:19161001T010000
RDATE:19421102T030000
RDATE:19431004T030000
RDATE:19441002T030000
RDATE:19451118T030000
RDATE:19461007T030000
END:STANDARD
BEGIN:DAYLIGHT
TZNAME:CEST
TZOFFSETFROM:+0100
TZOFFSETTO:+0200
DTSTART:19170416T020000
RRULE:FREQ=YEARLY;UNTIL=19180415T010000Z;BYMONTH=4;BYDAY=3MO
END:DAYLIGHT
BEGIN:STANDARD
TZNAME:CET
TZOFFSETFROM:+0200
TZOFFSETTO:+0100
DTSTART:19170917T030000
RRULE:FREQ=YEARLY;UNTIL=19180916T010000Z;BYMONTH=9;BYDAY=3MO
END:STANDARD
BEGIN:DAYLIGHT
TZNAME:CEST
TZOFFSETFROM:+0100
TZOFFSETTO:+0200
DTSTART:19440403T020000
RRULE:FREQ=YEARLY;UNTIL=19450402T010000Z;BYMONTH=4;BYDAY=1MO
END:DAYLIGHT
BEGIN:DAYLIGHT
TZNAME:CEMT
TZOFFSETFROM:+0200
TZOFFSETTO:+0300
DTSTART:19450524T020000
RDATE:19470511T030000
END:DAYLIGHT
BEGIN:DAYLIGHT
TZNAME:CEST
TZOFFSETFROM:+0300
TZOFFSETTO:+0200
DTSTART:19450924T030000
RDATE:19470629T030000
END:DAYLIGHT
BEGIN:STANDARD
TZNAME:CET
TZOFFSETFROM:+0100
TZOFFSETTO:+0100
DTSTART:19460101T000000
RDATE:19800101T000000
END:STANDARD
BEGIN:STANDARD
TZNAME:CET
TZOFFSETFROM:+0200
TZOFFSETTO:+0100
DTSTART:19471005T030000
RRULE:FREQ=YEARLY;UNTIL=19491002T010000Z;BYMONTH=10;BYDAY=1SU
END:STANDARD
BEGIN:STANDARD
TZNAME:CET
TZOFFSETFROM:+0200
TZOFFSETTO:+0100
DTSTART:19800928T030000
RRULE:FREQ=YEARLY;UNTIL=19950924T010000Z;BYMONTH=9;BYDAY=-1SU
END:STANDARD
BEGIN:DAYLIGHT
TZNAME:CEST
TZOFFSETFROM:+0100
TZOFFSETTO:+0200
DTSTART:19810329T020000
RRULE:FREQ=YEARLY;BYMONTH=3;BYDAY=-1SU
END:DAYLIGHT
BEGIN:STANDARD
TZNAME:CET
TZOFFSETFROM:+0200
TZOFFSETTO:+0100
DTSTART:19961027T030000
RRULE:FREQ=YEARLY;BYMONTH=10;BYDAY=-1SU
END:STANDARD
END:VTIMEZONE
BEGIN:VEVENT
DTSTAMP:20260425T004212Z
DTSTART;TZID=Europe/Berlin:20250314T200000
DTEND;TZID=Europe/Berlin:20250314T230000
SUMMARY:HE 6. Liga Gr. 8 Glarus IV vs Rüschlikon II (0)
UID:7ead7920-a0fa-4df1-90a9-269d16ecd1fa
STATUS:CONFIRMED
LAST-MODIFIED:20250319T094838Z
DESCRIPTION:6. Liga Herren Gruppe 8\nBegegnungs-Nr: 0\nHeim: Glarus IV\nGast: Rüschlikon II\n\nAdresse: Schwertgasse 23\, 8750 Glarus\n
LOCATION:Schwertgasse 23\, 8750 Glarus
CATEGORIES:Saison 2024/25
END:VEVENT
BEGIN:VEVENT
DTSTAMP:20260425T004212Z
DTSTART;TZID=Europe/Berlin:20241115T200000
DTEND;TZID=Europe/Berlin:20241115T230000
SUMMARY:HE 6. Liga Gr. 8 Glarus IV vs Wettswil II (0)
UID:ab6e7273-0301-42e6-8bbc-911308705195
STATUS:CONFIRMED
LAST-MODIFIED:20241122T151441Z
DESCRIPTION:6. Liga Herren Gruppe 8\nBegegnungs-Nr: 0\nHeim: Glarus IV\nGast: Wettswil II\n\nAdresse: Schwertgasse 23\, 8750 Glarus\n
LOCATION:Schwertgasse 23\, 8750 Glarus
CATEGORIES:Saison 2024/25
END:VEVENT
BEGIN:VEVENT
DTSTAMP:20260425T004212Z
DTSTART;TZID=Europe/Berlin:20250214T200000
DTEND;TZID=Europe/Berlin:20250214T230000
SUMMARY:HE 6. Liga Gr. 8 Glarus IV vs Affoltern A/A VII (0)
UID:0c14fadb-fb96-40e6-ad00-f21d3d246278
STATUS:CONFIRMED
LAST-MODIFIED:20250219T133343Z
DESCRIPTION:6. Liga Herren Gruppe 8\nBegegnungs-Nr: 0\nHeim: Glarus IV\nGast: Affoltern A/A VII\n\nAdresse: Schwertgasse 23\, 8750 Glarus\n
LOCATION:Schwertgasse 23\, 8750 Glarus
CATEGORIES:Saison 2024/25
END:VEVENT
BEGIN:VEVENT
DTSTAMP:20260425T004212Z
DTSTART;TZID=Europe/Berlin:20250124T200000
DTEND;TZID=Europe/Berlin:20250124T230000
SUMMARY:HE 6. Liga Gr. 8 Glarus IV vs Sihltal II (0)
UID:24b2d472-8c81-430d-9e3c-075bd7e62657
STATUS:CONFIRMED
LAST-MODIFIED:20250129T130201Z
DESCRIPTION:6. Liga Herren Gruppe 8\nBegegnungs-Nr: 0\nHeim: Glarus IV\nGast: Sihltal II\n\nAdresse: Schwertgasse 23\, 8750 Glarus\n
LOCATION:Schwertgasse 23\, 8750 Glarus
CATEGORIES:Saison 2024/25
END:VEVENT
BEGIN:VEVENT
DTSTAMP:20260425T004212Z
DTSTART;TZID=Europe/Berlin:20241101T200000
DTEND;TZID=Europe/Berlin:20241101T230000
SUMMARY:HE 6. Liga Gr. 8 Glarus IV vs Thalwil V (0)
UID:2234211e-a483-4acd-8fe9-bc8e6b279a33
STATUS:CONFIRMED
LAST-MODIFIED:20241108T151101Z
DESCRIPTION:6. Liga Herren Gruppe 8\nBegegnungs-Nr: 0\nHeim: Glarus IV\nGast: Thalwil V\n\nAdresse: Schwertgasse 23\, 8750 Glarus\n
LOCATION:Schwertgasse 23\, 8750 Glarus
CATEGORIES:Saison 2024/25
END:VEVENT
BEGIN:VEVENT
DTSTAMP:20260425T004212Z
DTSTART;TZID=Europe/Berlin:20240920T200000
DTEND;TZID=Europe/Berlin:20240920T230000
SUMMARY:HE 6. Liga Gr. 8 Glarus IV vs Horgen V (0)
UID:ec4bd55b-5480-4a9b-b633-18255889ffb8
STATUS:CONFIRMED
LAST-MODIFIED:20240926T113845Z
DESCRIPTION:6. Liga Herren Gruppe 8\nBegegnungs-Nr: 0\nHeim: Glarus IV\nGast: Horgen V\n\nAdresse: Schwertgasse 23\, 8750 Glarus\n
LOCATION:Schwertgasse 23\, 8750 Glarus
CATEGORIES:Saison 2024/25
END:VEVENT
BEGIN:VEVENT
DTSTAMP:20260425T004212Z
DTSTART;TZID=Europe/Berlin:20250325T194500
DTEND;TZID=Europe/Berlin:20250325T224500
SUMMARY:HE 6. Liga Gr. 8 Wettswil II vs Glarus IV (0)
UID:90cac2ef-8898-4152-9bf9-3bdda88a4d78
STATUS:CONFIRMED
LAST-MODIFIED:20250327T134540Z
DESCRIPTION:6. Liga Herren Gruppe 8\nBegegnungs-Nr: 0\nHeim: Wettswil II\nGast: Glarus IV\n\nAdresse: Hirsächersteig\, 8907 Wettswil\n
LOCATION:Hirsächersteig\, 8907 Wettswil
CATEGORIES:Saison 2024/25
END:VEVENT
BEGIN:VEVENT
DTSTAMP:20260425T004212Z
DTSTART;TZID=Europe/Berlin:20250307T193000
DTEND;TZID=Europe/Berlin:20250307T223000
SUMMARY:HE 6. Liga Gr. 8 Thalwil V vs Glarus IV (0)
UID:6f40ff3e-9b6a-4531-b836-12c900dccf10
STATUS:CONFIRMED
LAST-MODIFIED:20250312T150146Z
DESCRIPTION:6. Liga Herren Gruppe 8\nBegegnungs-Nr: 0\nHeim: Thalwil V\nGast: Glarus IV\n\nAdresse: Bergstrasse 2\, 8800 Thalwil\n
LOCATION:Bergstrasse 2\, 8800 Thalwil
CATEGORIES:Saison 2024/25
END:VEVENT
BEGIN:VEVENT
DTSTAMP:20260425T004212Z
DTSTART;TZID=Europe/Berlin:20241107T201500
DTEND;TZID=Europe/Berlin:20241107T231500
SUMMARY:HE 6. Liga Gr. 8 Rüschlikon II vs Glarus IV (0)
UID:660db6d6-e2ff-4198-b1f3-4fb3e0c16ebf
STATUS:CONFIRMED
LAST-MODIFIED:20241108T151119Z
DESCRIPTION:6. Liga Herren Gruppe 8\nBegegnungs-Nr: 0\nHeim: Rüschlikon II\nGast: Glarus IV\n\nAdresse: Säumerstrasse 24\, 8803 Rüschlikon\n
LOCATION:Säumerstrasse 24\, 8803 Rüschlikon
CATEGORIES:Saison 2024/25
END:VEVENT
BEGIN:VEVENT
DTSTAMP:20260425T004212Z
DTSTART;TZID=Europe/Berlin:20250129T200000
DTEND;TZID=Europe/Berlin:20250129T230000
SUMMARY:HE 6. Liga Gr. 8 Horgen V vs Glarus IV (0)
UID:10b6f9b7-6cc8-4bf0-9a2f-0b8a6c5cc36d
STATUS:CONFIRMED
LAST-MODIFIED:20250131T144336Z
DESCRIPTION:6. Liga Herren Gruppe 8\nBegegnungs-Nr: 0\nHeim: Horgen V\nGast: Glarus IV\n\nAdresse: Seestrasse 110\, 8810 Horgen\n
LOCATION:Seestrasse 110\, 8810 Horgen
CATEGORIES:Saison 2024/25
END:VEVENT
BEGIN:VEVENT
DTSTAMP:20260425T004212Z
DTSTART;TZID=Europe/Berlin:20240927T200000
DTEND;TZID=Europe/Berlin:20240927T230000
SUMMARY:HE 6. Liga Gr. 8 Affoltern A/A VII vs Glarus IV (0)
UID:1fc0cfd3-8d49-4373-bb68-ae7ae2713242
STATUS:CONFIRMED
LAST-MODIFIED:20240930T124804Z
DESCRIPTION:6. Liga Herren Gruppe 8\nBegegnungs-Nr: 0\nHeim: Affoltern A/A VII\nGast: Glarus IV\n\nAdresse: Butzenstr. 2\, 8910 Affoltern am Albis\n
LOCATION:Butzenstr. 2\, 8910 Affoltern am Albis
CATEGORIES:Saison 2024/25
END:VEVENT
BEGIN:VEVENT
DTSTAMP:20260425T004212Z
DTSTART;TZID=Europe/Berlin:20240903T201500
DTEND;TZID=Europe/Berlin:20240903T231500
SUMMARY:HE 6. Liga Gr. 8 Sihltal II vs Glarus IV (0)
UID:a7f72951-0832-4c04-a805-1e30fafd0005
STATUS:CONFIRMED
LAST-MODIFIED:20240905T064126Z
DESCRIPTION:6. Liga Herren Gruppe 8\nBegegnungs-Nr: 0\nHeim: Sihltal II\nGast: Glarus IV\n\nAdresse: In der Schwerzi 4\, 8135 Langnau a/A\n
LOCATION:In der Schwerzi 4\, 8135 Langnau a/A
CATEGORIES:Saison 2024/25
END:VEVENT
END:VCALENDAR
