BEGIN:VCALENDAR
PRODID:-//nuDatenautomaten//framework iCal4j //DE
VERSION:2.0
CALSCALE:GREGORIAN
BEGIN:VTIMEZONE
TZID:Europe/Berlin
LAST-MODIFIED:20260306T231828Z
TZURL:https://www.tzurl.org/zoneinfo/Europe/Berlin
X-LIC-LOCATION:Europe/Berlin
X-PROLEPTIC-TZNAME:LMT
BEGIN:STANDARD
TZNAME:CET
TZOFFSETFROM:+005328
TZOFFSETTO:+0100
DTSTART:18930401T000000
END:STANDARD
BEGIN:DAYLIGHT
TZNAME:CEST
TZOFFSETFROM:+0100
TZOFFSETTO:+0200
DTSTART:19160430T230000
RDATE:19400401T020000
RDATE:19430329T020000
RDATE:19460414T020000
RDATE:19470406T030000
RDATE:19480418T020000
RDATE:19490410T020000
RDATE:19800406T020000
END:DAYLIGHT
BEGIN:STANDARD
TZNAME:CET
TZOFFSETFROM:+0200
TZOFFSETTO:+0100
DTSTART:19161001T010000
RDATE:19421102T030000
RDATE:19431004T030000
RDATE:19441002T030000
RDATE:19451118T030000
RDATE:19461007T030000
END:STANDARD
BEGIN:DAYLIGHT
TZNAME:CEST
TZOFFSETFROM:+0100
TZOFFSETTO:+0200
DTSTART:19170416T020000
RRULE:FREQ=YEARLY;UNTIL=19180415T010000Z;BYMONTH=4;BYDAY=3MO
END:DAYLIGHT
BEGIN:STANDARD
TZNAME:CET
TZOFFSETFROM:+0200
TZOFFSETTO:+0100
DTSTART:19170917T030000
RRULE:FREQ=YEARLY;UNTIL=19180916T010000Z;BYMONTH=9;BYDAY=3MO
END:STANDARD
BEGIN:DAYLIGHT
TZNAME:CEST
TZOFFSETFROM:+0100
TZOFFSETTO:+0200
DTSTART:19440403T020000
RRULE:FREQ=YEARLY;UNTIL=19450402T010000Z;BYMONTH=4;BYDAY=1MO
END:DAYLIGHT
BEGIN:DAYLIGHT
TZNAME:CEMT
TZOFFSETFROM:+0200
TZOFFSETTO:+0300
DTSTART:19450524T020000
RDATE:19470511T030000
END:DAYLIGHT
BEGIN:DAYLIGHT
TZNAME:CEST
TZOFFSETFROM:+0300
TZOFFSETTO:+0200
DTSTART:19450924T030000
RDATE:19470629T030000
END:DAYLIGHT
BEGIN:STANDARD
TZNAME:CET
TZOFFSETFROM:+0100
TZOFFSETTO:+0100
DTSTART:19460101T000000
RDATE:19800101T000000
END:STANDARD
BEGIN:STANDARD
TZNAME:CET
TZOFFSETFROM:+0200
TZOFFSETTO:+0100
DTSTART:19471005T030000
RRULE:FREQ=YEARLY;UNTIL=19491002T010000Z;BYMONTH=10;BYDAY=1SU
END:STANDARD
BEGIN:STANDARD
TZNAME:CET
TZOFFSETFROM:+0200
TZOFFSETTO:+0100
DTSTART:19800928T030000
RRULE:FREQ=YEARLY;UNTIL=19950924T010000Z;BYMONTH=9;BYDAY=-1SU
END:STANDARD
BEGIN:DAYLIGHT
TZNAME:CEST
TZOFFSETFROM:+0100
TZOFFSETTO:+0200
DTSTART:19810329T020000
RRULE:FREQ=YEARLY;BYMONTH=3;BYDAY=-1SU
END:DAYLIGHT
BEGIN:STANDARD
TZNAME:CET
TZOFFSETFROM:+0200
TZOFFSETTO:+0100
DTSTART:19961027T030000
RRULE:FREQ=YEARLY;BYMONTH=10;BYDAY=-1SU
END:STANDARD
END:VTIMEZONE
BEGIN:VEVENT
DTSTAMP:20260424T220526Z
DTSTART;TZID=Europe/Berlin:20241114T200000
DTEND;TZID=Europe/Berlin:20241114T230000
SUMMARY:ME L6 Gr 4\, Tours 1&2 Lausanne XIV vs Vaudoise-Assurances II (0)
UID:3ec53ae1-fd9f-4697-aa4a-5de8992c40af
STATUS:CONFIRMED
LAST-MODIFIED:20241119T015705Z
DESCRIPTION:6ème ligue Hommes Groupe 4\,Tours 1&2\nBegegnungs-Nr: 0\nHeim: Lausanne XIV\nGast: Vaudoise-Assurances II\n\nAdresse: Vaudoise Aréna\, Ch. du Viaduc 14\, 1008 Prilly\n
LOCATION:Vaudoise Aréna\, Ch. du Viaduc 14\, 1008 Prilly
CATEGORIES:Saison 2024/25
END:VEVENT
BEGIN:VEVENT
DTSTAMP:20260424T220526Z
DTSTART;TZID=Europe/Berlin:20241128T200000
DTEND;TZID=Europe/Berlin:20241128T230000
SUMMARY:ME L6 Gr 4\, Tours 1&2 Lausanne XIV vs Forward-Morges V (0)
UID:250739ea-8ca8-4aa9-910f-5fca10601d38
STATUS:CONFIRMED
LAST-MODIFIED:20241130T173238Z
DESCRIPTION:6ème ligue Hommes Groupe 4\,Tours 1&2\nBegegnungs-Nr: 0\nHeim: Lausanne XIV\nGast: Forward-Morges V\n\nAdresse: Vaudoise Aréna\, Ch. du Viaduc 14\, 1008 Prilly\n
LOCATION:Vaudoise Aréna\, Ch. du Viaduc 14\, 1008 Prilly
CATEGORIES:Saison 2024/25
END:VEVENT
BEGIN:VEVENT
DTSTAMP:20260424T220526Z
DTSTART;TZID=Europe/Berlin:20241031T200000
DTEND;TZID=Europe/Berlin:20241031T230000
SUMMARY:ME L6 Gr 4\, Tours 1&2 Lausanne XIV vs Romanel VI (0)
UID:522dbb7f-c54e-4f06-aa5e-355d1f1221bd
STATUS:CONFIRMED
LAST-MODIFIED:20241102T091900Z
DESCRIPTION:6ème ligue Hommes Groupe 4\,Tours 1&2\nBegegnungs-Nr: 0\nHeim: Lausanne XIV\nGast: Romanel VI\n\nAdresse: Vaudoise Aréna\, Ch. du Viaduc 14\, 1008 Prilly\n
LOCATION:Vaudoise Aréna\, Ch. du Viaduc 14\, 1008 Prilly
CATEGORIES:Saison 2024/25
END:VEVENT
BEGIN:VEVENT
DTSTAMP:20260424T220526Z
DTSTART;TZID=Europe/Berlin:20240919T200000
DTEND;TZID=Europe/Berlin:20240919T230000
SUMMARY:ME L6 Gr 4\, Tours 1&2 Lausanne XIV vs Lausanne XIII (0)
UID:40ea2739-e29e-4263-8e9d-6bfccc80851c
STATUS:CONFIRMED
LAST-MODIFIED:20240922T140120Z
DESCRIPTION:6ème ligue Hommes Groupe 4\,Tours 1&2\nBegegnungs-Nr: 0\nHeim: Lausanne XIV\nGast: Lausanne XIII\n\nAdresse: Vaudoise Aréna\, Ch. du Viaduc 14\, 1008 Prilly\n
LOCATION:Vaudoise Aréna\, Ch. du Viaduc 14\, 1008 Prilly
CATEGORIES:Saison 2024/25
END:VEVENT
BEGIN:VEVENT
DTSTAMP:20260424T220526Z
DTSTART;TZID=Europe/Berlin:20240912T200000
DTEND;TZID=Europe/Berlin:20240912T230000
SUMMARY:ME L6 Gr 4\, Tours 1&2 Lausanne XIV vs Crissier VIII (0)
UID:5f347959-4fc9-4ec8-9411-177041fd2cd3
STATUS:CONFIRMED
LAST-MODIFIED:20240913T172827Z
DESCRIPTION:6ème ligue Hommes Groupe 4\,Tours 1&2\nBegegnungs-Nr: 0\nHeim: Lausanne XIV\nGast: Crissier VIII\n\nAdresse: Vaudoise Aréna\, Ch. du Viaduc 14\, 1008 Prilly\n
LOCATION:Vaudoise Aréna\, Ch. du Viaduc 14\, 1008 Prilly
CATEGORIES:Saison 2024/25
END:VEVENT
BEGIN:VEVENT
DTSTAMP:20260424T220526Z
DTSTART;TZID=Europe/Berlin:20250509T200000
DTEND;TZID=Europe/Berlin:20250509T230000
SUMMARY:ME L6 Gr 8\, Tours 3&4 Lausanne XIV vs Nyon II (0)
UID:ba8cc6af-5344-46ce-8c0a-e1b90906ba70
STATUS:CONFIRMED
LAST-MODIFIED:20250513T223105Z
DESCRIPTION:6ème ligue Hommes Groupe 8\, Tours 3&4\nBegegnungs-Nr: 0\nHeim: Lausanne XIV\nGast: Nyon II\n\nAdresse: Vaudoise Aréna\, Ch. du Viaduc 14\, 1008 Prilly\n
LOCATION:Vaudoise Aréna\, Ch. du Viaduc 14\, 1008 Prilly
CATEGORIES:Saison 2024/25
END:VEVENT
BEGIN:VEVENT
DTSTAMP:20260424T220526Z
DTSTART;TZID=Europe/Berlin:20250430T200000
DTEND;TZID=Europe/Berlin:20250430T230000
SUMMARY:ME L6 Gr 8\, Tours 3&4 Lausanne XIV vs Eysins IV (0)
UID:dcf3ceb3-514d-4154-aff0-23be861477d0
STATUS:CONFIRMED
LAST-MODIFIED:20250508T232225Z
DESCRIPTION:6ème ligue Hommes Groupe 8\, Tours 3&4\nBegegnungs-Nr: 0\nHeim: Lausanne XIV\nGast: Eysins IV\n\nAdresse: Vaudoise Aréna\, Ch. du Viaduc 14\, 1008 Prilly\n
LOCATION:Vaudoise Aréna\, Ch. du Viaduc 14\, 1008 Prilly
CATEGORIES:Saison 2024/25
END:VEVENT
BEGIN:VEVENT
DTSTAMP:20260424T220526Z
DTSTART;TZID=Europe/Berlin:20250319T200000
DTEND;TZID=Europe/Berlin:20250319T230000
SUMMARY:ME L6 Gr 8\, Tours 3&4 Lausanne XIV vs Rolle III (0)
UID:ffa91a0b-a532-4429-88aa-34c0899550f4
STATUS:CONFIRMED
LAST-MODIFIED:20250320T225050Z
DESCRIPTION:6ème ligue Hommes Groupe 8\, Tours 3&4\nBegegnungs-Nr: 0\nHeim: Lausanne XIV\nGast: Rolle III\n\nAdresse: Vaudoise Aréna\, Ch. du Viaduc 14\, 1008 Prilly\n
LOCATION:Vaudoise Aréna\, Ch. du Viaduc 14\, 1008 Prilly
CATEGORIES:Saison 2024/25
END:VEVENT
BEGIN:VEVENT
DTSTAMP:20260424T220526Z
DTSTART;TZID=Europe/Berlin:20250115T200000
DTEND;TZID=Europe/Berlin:20250115T230000
SUMMARY:ME L6 Gr 8\, Tours 3&4 Lausanne XIV vs Lausanne XI (0)
UID:37bf8c94-d1f7-4ceb-8959-9b3cfb865a83
STATUS:CONFIRMED
LAST-MODIFIED:20250119T142901Z
DESCRIPTION:6ème ligue Hommes Groupe 8\, Tours 3&4\nBegegnungs-Nr: 0\nHeim: Lausanne XIV\nGast: Lausanne XI\n\nAdresse: Vaudoise Aréna\, Ch. du Viaduc 14\, 1008 Prilly\n
LOCATION:Vaudoise Aréna\, Ch. du Viaduc 14\, 1008 Prilly
CATEGORIES:Saison 2024/25
END:VEVENT
BEGIN:VEVENT
DTSTAMP:20260424T220526Z
DTSTART;TZID=Europe/Berlin:20250129T200000
DTEND;TZID=Europe/Berlin:20250129T230000
SUMMARY:ME L6 Gr 8\, Tours 3&4 Lausanne XIV vs Bougy II (0)
UID:fd7b615f-1104-43e5-bd45-2da54fa89464
STATUS:CONFIRMED
LAST-MODIFIED:20250201T003151Z
DESCRIPTION:6ème ligue Hommes Groupe 8\, Tours 3&4\nBegegnungs-Nr: 0\nHeim: Lausanne XIV\nGast: Bougy II\n\nAdresse: Vaudoise Aréna\, Ch. du Viaduc 14\, 1008 Prilly\n
LOCATION:Vaudoise Aréna\, Ch. du Viaduc 14\, 1008 Prilly
CATEGORIES:Saison 2024/25
END:VEVENT
BEGIN:VEVENT
DTSTAMP:20260424T220526Z
DTSTART;TZID=Europe/Berlin:20241205T200000
DTEND;TZID=Europe/Berlin:20241205T230000
SUMMARY:ME L6 Gr 4\, Tours 1&2 Lausanne XIII vs Lausanne XIV (0)
UID:239dd482-1511-43db-8f3c-bbec4a434dcc
STATUS:CONFIRMED
LAST-MODIFIED:20241208T194828Z
DESCRIPTION:6ème ligue Hommes Groupe 4\,Tours 1&2\nBegegnungs-Nr: 0\nHeim: Lausanne XIII\nGast: Lausanne XIV\n\nAdresse: Vaudoise Aréna\, Ch. du Viaduc 14\, 1008 Prilly\n
LOCATION:Vaudoise Aréna\, Ch. du Viaduc 14\, 1008 Prilly
CATEGORIES:Saison 2024/25
END:VEVENT
BEGIN:VEVENT
DTSTAMP:20260424T220526Z
DTSTART;TZID=Europe/Berlin:20241107T193000
DTEND;TZID=Europe/Berlin:20241107T223000
SUMMARY:ME L6 Gr 4\, Tours 1&2 Crissier VIII vs Lausanne XIV (0)
UID:7d520a19-5350-459f-bcf6-c072a205d2d9
STATUS:CONFIRMED
LAST-MODIFIED:20241108T195524Z
DESCRIPTION:6ème ligue Hommes Groupe 4\,Tours 1&2\nBegegnungs-Nr: 0\nHeim: Crissier VIII\nGast: Lausanne XIV\n\nAdresse: ch. des Oches du Mur\, 1023 Crissier\n
LOCATION:ch. des Oches du Mur\, 1023 Crissier
CATEGORIES:Saison 2024/25
END:VEVENT
BEGIN:VEVENT
DTSTAMP:20260424T220526Z
DTSTART;TZID=Europe/Berlin:20241010T193000
DTEND;TZID=Europe/Berlin:20241010T223000
SUMMARY:ME L6 Gr 4\, Tours 1&2 Vaudoise-Assurances II vs Lausanne XIV (0)
UID:b3ee16b3-6bce-4430-92a4-ba38b6ec636e
STATUS:CONFIRMED
LAST-MODIFIED:20241013T152907Z
DESCRIPTION:6ème ligue Hommes Groupe 4\,Tours 1&2\nBegegnungs-Nr: 0\nHeim: Vaudoise-Assurances II\nGast: Lausanne XIV\n\nAdresse: Ch de Bellerive 36\, 1007 Lausanne\n
LOCATION:Ch de Bellerive 36\, 1007 Lausanne
CATEGORIES:Saison 2024/25
END:VEVENT
BEGIN:VEVENT
DTSTAMP:20260424T220526Z
DTSTART;TZID=Europe/Berlin:20240926T194500
DTEND;TZID=Europe/Berlin:20240926T224500
SUMMARY:ME L6 Gr 4\, Tours 1&2 Forward-Morges V vs Lausanne XIV (0)
UID:6f464830-df08-4686-968d-30a2fd5c8073
STATUS:CONFIRMED
LAST-MODIFIED:20240928T191748Z
DESCRIPTION:6ème ligue Hommes Groupe 4\,Tours 1&2\nBegegnungs-Nr: 0\nHeim: Forward-Morges V\nGast: Lausanne XIV\n\nAdresse: Chemin de Tolochenaz\, 1110 Morges\n
LOCATION:Chemin de Tolochenaz\, 1110 Morges
CATEGORIES:Saison 2024/25
END:VEVENT
BEGIN:VEVENT
DTSTAMP:20260424T220526Z
DTSTART;TZID=Europe/Berlin:20240903T200000
DTEND;TZID=Europe/Berlin:20240903T230000
SUMMARY:ME L6 Gr 4\, Tours 1&2 Romanel VI vs Lausanne XIV (0)
UID:6f5db3d5-aae3-4fc3-b359-d840ca29976d
STATUS:CONFIRMED
LAST-MODIFIED:20240905T101321Z
DESCRIPTION:6ème ligue Hommes Groupe 4\,Tours 1&2\nBegegnungs-Nr: 0\nHeim: Romanel VI\nGast: Lausanne XIV\n\nAdresse: Ch des Epinettes 1\, 1032 Romanel-sur-Lausanne\n
LOCATION:Ch des Epinettes 1\, 1032 Romanel-sur-Lausanne
CATEGORIES:Saison 2024/25
END:VEVENT
BEGIN:VEVENT
DTSTAMP:20260424T220526Z
DTSTART;TZID=Europe/Berlin:20250305T200000
DTEND;TZID=Europe/Berlin:20250305T230000
SUMMARY:ME L6 Gr 8\, Tours 3&4 Lausanne XI vs Lausanne XIV (0)
UID:f3364ebd-0671-4c7a-9854-22740ff6250b
STATUS:CONFIRMED
LAST-MODIFIED:20250308T180913Z
DESCRIPTION:6ème ligue Hommes Groupe 8\, Tours 3&4\nBegegnungs-Nr: 0\nHeim: Lausanne XI\nGast: Lausanne XIV\n\nAdresse: Vaudoise Aréna\, Ch. du Viaduc 14\, 1008 Prilly\n
LOCATION:Vaudoise Aréna\, Ch. du Viaduc 14\, 1008 Prilly
CATEGORIES:Saison 2024/25
END:VEVENT
BEGIN:VEVENT
DTSTAMP:20260424T220526Z
DTSTART;TZID=Europe/Berlin:20250324T193000
DTEND;TZID=Europe/Berlin:20250324T223000
SUMMARY:ME L6 Gr 8\, Tours 3&4 Bougy II vs Lausanne XIV (0)
UID:27aff6f4-9cbe-4da7-960a-551c99a1aa25
STATUS:CONFIRMED
LAST-MODIFIED:20250325T125214Z
DESCRIPTION:6ème ligue Hommes Groupe 8\, Tours 3&4\nBegegnungs-Nr: 0\nHeim: Bougy II\nGast: Lausanne XIV\n\nAdresse: Grand-Rue 11\, 1172 Bougy-Villars\n
LOCATION:Grand-Rue 11\, 1172 Bougy-Villars
CATEGORIES:Saison 2024/25
END:VEVENT
BEGIN:VEVENT
DTSTAMP:20260424T220526Z
DTSTART;TZID=Europe/Berlin:20250227T193000
DTEND;TZID=Europe/Berlin:20250227T223000
SUMMARY:ME L6 Gr 8\, Tours 3&4 Nyon II vs Lausanne XIV (0)
UID:737a5d11-d846-4154-8681-7f2f7c3e299e
STATUS:CONFIRMED
LAST-MODIFIED:20250228T165033Z
DESCRIPTION:6ème ligue Hommes Groupe 8\, Tours 3&4\nBegegnungs-Nr: 0\nHeim: Nyon II\nGast: Lausanne XIV\n\nAdresse: Rte des Tattes-d'Oie 97\, 1260 Nyon\n
LOCATION:Rte des Tattes-d'Oie 97\, 1260 Nyon
CATEGORIES:Saison 2024/25
END:VEVENT
BEGIN:VEVENT
DTSTAMP:20260424T220526Z
DTSTART;TZID=Europe/Berlin:20250219T200000
DTEND;TZID=Europe/Berlin:20250219T230000
SUMMARY:ME L6 Gr 8\, Tours 3&4 Eysins IV vs Lausanne XIV (0)
UID:14f09453-40fa-473c-9e90-eb35dfcc961c
STATUS:CONFIRMED
LAST-MODIFIED:20250220T182002Z
DESCRIPTION:6ème ligue Hommes Groupe 8\, Tours 3&4\nBegegnungs-Nr: 0\nHeim: Eysins IV\nGast: Lausanne XIV\n\nAdresse: En Bellossiez 1\, 1262 Eysins\n
LOCATION:En Bellossiez 1\, 1262 Eysins
CATEGORIES:Saison 2024/25
END:VEVENT
BEGIN:VEVENT
DTSTAMP:20260424T220526Z
DTSTART;TZID=Europe/Berlin:20250122T200000
DTEND;TZID=Europe/Berlin:20250122T230000
SUMMARY:ME L6 Gr 8\, Tours 3&4 Rolle III vs Lausanne XIV (0)
UID:42f23a70-d7c5-4a73-969b-e3c3cd033c13
STATUS:CONFIRMED
LAST-MODIFIED:20250125T162106Z
DESCRIPTION:6ème ligue Hommes Groupe 8\, Tours 3&4\nBegegnungs-Nr: 0\nHeim: Rolle III\nGast: Lausanne XIV\n\nAdresse: Route des Quatre-Communes 7\, 1180 Rolle\n
LOCATION:Route des Quatre-Communes 7\, 1180 Rolle
CATEGORIES:Saison 2024/25
END:VEVENT
END:VCALENDAR
