BEGIN:VCALENDAR
PRODID:-//nuDatenautomaten//framework iCal4j //DE
VERSION:2.0
CALSCALE:GREGORIAN
BEGIN:VTIMEZONE
TZID:Europe/Berlin
LAST-MODIFIED:20260306T231828Z
TZURL:https://www.tzurl.org/zoneinfo/Europe/Berlin
X-LIC-LOCATION:Europe/Berlin
X-PROLEPTIC-TZNAME:LMT
BEGIN:STANDARD
TZNAME:CET
TZOFFSETFROM:+005328
TZOFFSETTO:+0100
DTSTART:18930401T000000
END:STANDARD
BEGIN:DAYLIGHT
TZNAME:CEST
TZOFFSETFROM:+0100
TZOFFSETTO:+0200
DTSTART:19160430T230000
RDATE:19400401T020000
RDATE:19430329T020000
RDATE:19460414T020000
RDATE:19470406T030000
RDATE:19480418T020000
RDATE:19490410T020000
RDATE:19800406T020000
END:DAYLIGHT
BEGIN:STANDARD
TZNAME:CET
TZOFFSETFROM:+0200
TZOFFSETTO:+0100
DTSTART:19161001T010000
RDATE:19421102T030000
RDATE:19431004T030000
RDATE:19441002T030000
RDATE:19451118T030000
RDATE:19461007T030000
END:STANDARD
BEGIN:DAYLIGHT
TZNAME:CEST
TZOFFSETFROM:+0100
TZOFFSETTO:+0200
DTSTART:19170416T020000
RRULE:FREQ=YEARLY;UNTIL=19180415T010000Z;BYMONTH=4;BYDAY=3MO
END:DAYLIGHT
BEGIN:STANDARD
TZNAME:CET
TZOFFSETFROM:+0200
TZOFFSETTO:+0100
DTSTART:19170917T030000
RRULE:FREQ=YEARLY;UNTIL=19180916T010000Z;BYMONTH=9;BYDAY=3MO
END:STANDARD
BEGIN:DAYLIGHT
TZNAME:CEST
TZOFFSETFROM:+0100
TZOFFSETTO:+0200
DTSTART:19440403T020000
RRULE:FREQ=YEARLY;UNTIL=19450402T010000Z;BYMONTH=4;BYDAY=1MO
END:DAYLIGHT
BEGIN:DAYLIGHT
TZNAME:CEMT
TZOFFSETFROM:+0200
TZOFFSETTO:+0300
DTSTART:19450524T020000
RDATE:19470511T030000
END:DAYLIGHT
BEGIN:DAYLIGHT
TZNAME:CEST
TZOFFSETFROM:+0300
TZOFFSETTO:+0200
DTSTART:19450924T030000
RDATE:19470629T030000
END:DAYLIGHT
BEGIN:STANDARD
TZNAME:CET
TZOFFSETFROM:+0100
TZOFFSETTO:+0100
DTSTART:19460101T000000
RDATE:19800101T000000
END:STANDARD
BEGIN:STANDARD
TZNAME:CET
TZOFFSETFROM:+0200
TZOFFSETTO:+0100
DTSTART:19471005T030000
RRULE:FREQ=YEARLY;UNTIL=19491002T010000Z;BYMONTH=10;BYDAY=1SU
END:STANDARD
BEGIN:STANDARD
TZNAME:CET
TZOFFSETFROM:+0200
TZOFFSETTO:+0100
DTSTART:19800928T030000
RRULE:FREQ=YEARLY;UNTIL=19950924T010000Z;BYMONTH=9;BYDAY=-1SU
END:STANDARD
BEGIN:DAYLIGHT
TZNAME:CEST
TZOFFSETFROM:+0100
TZOFFSETTO:+0200
DTSTART:19810329T020000
RRULE:FREQ=YEARLY;BYMONTH=3;BYDAY=-1SU
END:DAYLIGHT
BEGIN:STANDARD
TZNAME:CET
TZOFFSETFROM:+0200
TZOFFSETTO:+0100
DTSTART:19961027T030000
RRULE:FREQ=YEARLY;BYMONTH=10;BYDAY=-1SU
END:STANDARD
END:VTIMEZONE
BEGIN:VEVENT
DTSTAMP:20260425T005104Z
DTSTART;TZID=Europe/Berlin:20250123T194500
DTEND;TZID=Europe/Berlin:20250123T224500
SUMMARY:HE 5. Liga Gr. 6 Dübendorf-Volketswil IV vs Meilen-Männedorf IV (0)
UID:a141d805-9b15-4d31-8055-a07b38ff40b4
STATUS:CONFIRMED
LAST-MODIFIED:20250129T124128Z
DESCRIPTION:5. Liga Herren Gruppe 6\nBegegnungs-Nr: 0\nHeim: Dübendorf-Volketswil IV\nGast: Meilen-Männedorf IV\n\nAdresse: Wasserfurrenstrasse 7\, 8600 Dübendorf\n
LOCATION:Wasserfurrenstrasse 7\, 8600 Dübendorf
CATEGORIES:Saison 2024/25
END:VEVENT
BEGIN:VEVENT
DTSTAMP:20260425T005104Z
DTSTART;TZID=Europe/Berlin:20241205T194500
DTEND;TZID=Europe/Berlin:20241205T224500
SUMMARY:HE 5. Liga Gr. 6 Dübendorf-Volketswil IV vs Gossau Zuerich II (0)
UID:b6e13a91-7c83-492d-b419-2c7f87b14e61
STATUS:CONFIRMED
LAST-MODIFIED:20241211T093832Z
DESCRIPTION:5. Liga Herren Gruppe 6\nBegegnungs-Nr: 0\nHeim: Dübendorf-Volketswil IV\nGast: Gossau Zuerich II\n\nAdresse: Wasserfurrenstrasse 7\, 8600 Dübendorf\n
LOCATION:Wasserfurrenstrasse 7\, 8600 Dübendorf
CATEGORIES:Saison 2024/25
END:VEVENT
BEGIN:VEVENT
DTSTAMP:20260425T005104Z
DTSTART;TZID=Europe/Berlin:20241031T194500
DTEND;TZID=Europe/Berlin:20241031T224500
SUMMARY:HE 5. Liga Gr. 6 Dübendorf-Volketswil IV vs Wetzikon VIII (0)
UID:9e4c8784-d7d1-4707-a43e-314fcd5a09ac
STATUS:CONFIRMED
LAST-MODIFIED:20241108T143106Z
DESCRIPTION:5. Liga Herren Gruppe 6\nBegegnungs-Nr: 0\nHeim: Dübendorf-Volketswil IV\nGast: Wetzikon VIII\n\nAdresse: Wasserfurrenstrasse 7\, 8600 Dübendorf\n
LOCATION:Wasserfurrenstrasse 7\, 8600 Dübendorf
CATEGORIES:Saison 2024/25
END:VEVENT
BEGIN:VEVENT
DTSTAMP:20260425T005104Z
DTSTART;TZID=Europe/Berlin:20240919T194500
DTEND;TZID=Europe/Berlin:20240919T224500
SUMMARY:HE 5. Liga Gr. 6 Dübendorf-Volketswil IV vs Wädenswil IX (0)
UID:8c4f8005-a6b0-4816-9d3f-6b8ac5f057a3
STATUS:CONFIRMED
LAST-MODIFIED:20240920T135912Z
DESCRIPTION:5. Liga Herren Gruppe 6\nBegegnungs-Nr: 0\nHeim: Dübendorf-Volketswil IV\nGast: Wädenswil IX\n\nAdresse: Wasserfurrenstrasse 7\, 8600 Dübendorf\n
LOCATION:Wasserfurrenstrasse 7\, 8600 Dübendorf
CATEGORIES:Saison 2024/25
END:VEVENT
BEGIN:VEVENT
DTSTAMP:20260425T005104Z
DTSTART;TZID=Europe/Berlin:20240829T194500
DTEND;TZID=Europe/Berlin:20240829T224500
SUMMARY:HE 5. Liga Gr. 6 Dübendorf-Volketswil IV vs Eschenbach (0)
UID:71015d34-e8b6-49a0-8c55-d0e425f5746f
STATUS:CONFIRMED
LAST-MODIFIED:20240904T113647Z
DESCRIPTION:5. Liga Herren Gruppe 6\nBegegnungs-Nr: 0\nHeim: Dübendorf-Volketswil IV\nGast: Eschenbach\n\nAdresse: Wasserfurrenstrasse 7\, 8600 Dübendorf\n
LOCATION:Wasserfurrenstrasse 7\, 8600 Dübendorf
CATEGORIES:Saison 2024/25
END:VEVENT
BEGIN:VEVENT
DTSTAMP:20260425T005104Z
DTSTART;TZID=Europe/Berlin:20250313T194500
DTEND;TZID=Europe/Berlin:20250313T224500
SUMMARY:HE 5. Liga Gr. 6 Dübendorf-Volketswil IV vs Greifensee (0)
UID:e0df6cd4-8cb4-461a-917e-6547ba7a5028
STATUS:CONFIRMED
LAST-MODIFIED:20250314T124944Z
DESCRIPTION:5. Liga Herren Gruppe 6\nBegegnungs-Nr: 0\nHeim: Dübendorf-Volketswil IV\nGast: Greifensee\n\nAdresse: Wasserfurrenstrasse 7\, 8600 Dübendorf\n
LOCATION:Wasserfurrenstrasse 7\, 8600 Dübendorf
CATEGORIES:Saison 2024/25
END:VEVENT
BEGIN:VEVENT
DTSTAMP:20260425T005104Z
DTSTART;TZID=Europe/Berlin:20250206T194500
DTEND;TZID=Europe/Berlin:20250206T224500
SUMMARY:HE 5. Liga Gr. 6 Dübendorf-Volketswil IV vs Young Stars ZH X (0)
UID:46b2d398-1785-484c-b4d3-133459088c42
STATUS:CONFIRMED
LAST-MODIFIED:20250207T115424Z
DESCRIPTION:5. Liga Herren Gruppe 6\nBegegnungs-Nr: 0\nHeim: Dübendorf-Volketswil IV\nGast: Young Stars ZH X\n\nAdresse: Wasserfurrenstrasse 7\, 8600 Dübendorf\n
LOCATION:Wasserfurrenstrasse 7\, 8600 Dübendorf
CATEGORIES:Saison 2024/25
END:VEVENT
BEGIN:VEVENT
DTSTAMP:20260425T005104Z
DTSTART;TZID=Europe/Berlin:20250110T200000
DTEND;TZID=Europe/Berlin:20250110T230000
SUMMARY:HE 5. Liga Gr. 6 Eschenbach vs Dübendorf-Volketswil IV (0)
UID:681f873c-5f38-44d3-8143-991ad3a133cc
STATUS:CONFIRMED
LAST-MODIFIED:20250113T135220Z
DESCRIPTION:5. Liga Herren Gruppe 6\nBegegnungs-Nr: 0\nHeim: Eschenbach\nGast: Dübendorf-Volketswil IV\n\nAdresse: Bildstöcklistrasse 2\, 8733 Eschenbach\n
LOCATION:Bildstöcklistrasse 2\, 8733 Eschenbach
CATEGORIES:Saison 2024/25
END:VEVENT
BEGIN:VEVENT
DTSTAMP:20260425T005104Z
DTSTART;TZID=Europe/Berlin:20241105T200000
DTEND;TZID=Europe/Berlin:20241105T230000
SUMMARY:HE 5. Liga Gr. 6 Greifensee vs Dübendorf-Volketswil IV (0)
UID:45bcdb90-bac1-4c81-a20a-389c6c136c07
STATUS:CONFIRMED
LAST-MODIFIED:20241108T145742Z
DESCRIPTION:5. Liga Herren Gruppe 6\nBegegnungs-Nr: 0\nHeim: Greifensee\nGast: Dübendorf-Volketswil IV\n\nAdresse: Stationsstrasse\, 8606 Nänikon\n
LOCATION:Stationsstrasse\, 8606 Nänikon
CATEGORIES:Saison 2024/25
END:VEVENT
BEGIN:VEVENT
DTSTAMP:20260425T005104Z
DTSTART;TZID=Europe/Berlin:20240927T200000
DTEND;TZID=Europe/Berlin:20240927T230000
SUMMARY:HE 5. Liga Gr. 6 Young Stars ZH X vs Dübendorf-Volketswil IV (0)
UID:371888ec-b11a-4735-873a-2409292f38c4
STATUS:CONFIRMED
LAST-MODIFIED:20240930T124845Z
DESCRIPTION:5. Liga Herren Gruppe 6\nBegegnungs-Nr: 0\nHeim: Young Stars ZH X\nGast: Dübendorf-Volketswil IV\n\nAdresse: Balgriststrasse 55\, 8008 Zürich\n
LOCATION:Balgriststrasse 55\, 8008 Zürich
CATEGORIES:Saison 2024/25
END:VEVENT
BEGIN:VEVENT
DTSTAMP:20260425T005104Z
DTSTART;TZID=Europe/Berlin:20241114T194500
DTEND;TZID=Europe/Berlin:20241114T224500
SUMMARY:HE 5. Liga Gr. 6 Meilen-Männedorf IV vs Dübendorf-Volketswil IV (0)
UID:a77163b8-8fc0-4bb4-9d5c-ad7d40e19c3f
STATUS:CONFIRMED
LAST-MODIFIED:20241115T150934Z
DESCRIPTION:5. Liga Herren Gruppe 6\nBegegnungs-Nr: 0\nHeim: Meilen-Männedorf IV\nGast: Dübendorf-Volketswil IV\n\nAdresse: Schulhausstr. 27\, 8706 Meilen\n
LOCATION:Schulhausstr. 27\, 8706 Meilen
CATEGORIES:Saison 2024/25
END:VEVENT
BEGIN:VEVENT
DTSTAMP:20260425T005104Z
DTSTART;TZID=Europe/Berlin:20250324T201500
DTEND;TZID=Europe/Berlin:20250324T231500
SUMMARY:HE 5. Liga Gr. 6 Gossau Zuerich II vs Dübendorf-Volketswil IV (0)
UID:b706ddf3-ab64-42b9-8f71-5126dbf90d34
STATUS:CONFIRMED
LAST-MODIFIED:20250327T134154Z
DESCRIPTION:5. Liga Herren Gruppe 6\nBegegnungs-Nr: 0\nHeim: Gossau Zuerich II\nGast: Dübendorf-Volketswil IV\n\nAdresse: Schulstrasse\, 8624 Grüt-Gossau\n
LOCATION:Schulstrasse\, 8624 Grüt-Gossau
CATEGORIES:Saison 2024/25
END:VEVENT
BEGIN:VEVENT
DTSTAMP:20260425T005104Z
DTSTART;TZID=Europe/Berlin:20250307T194500
DTEND;TZID=Europe/Berlin:20250307T224500
SUMMARY:HE 5. Liga Gr. 6 Wetzikon VIII vs Dübendorf-Volketswil IV (0)
UID:cc80be46-1748-49c8-bedd-8cd27ec1da50
STATUS:CONFIRMED
LAST-MODIFIED:20250312T145641Z
DESCRIPTION:5. Liga Herren Gruppe 6\nBegegnungs-Nr: 0\nHeim: Wetzikon VIII\nGast: Dübendorf-Volketswil IV\n\nAdresse: Usterstrasse 37\, 8620 Wetzikon\n
LOCATION:Usterstrasse 37\, 8620 Wetzikon
CATEGORIES:Saison 2024/25
END:VEVENT
BEGIN:VEVENT
DTSTAMP:20260425T005104Z
DTSTART;TZID=Europe/Berlin:20250130T200000
DTEND;TZID=Europe/Berlin:20250130T230000
SUMMARY:HE 5. Liga Gr. 6 Wädenswil IX vs Dübendorf-Volketswil IV (0)
UID:56b09fea-5f9a-4815-8457-137057409d29
STATUS:CONFIRMED
LAST-MODIFIED:20250131T144016Z
DESCRIPTION:5. Liga Herren Gruppe 6\nBegegnungs-Nr: 0\nHeim: Wädenswil IX\nGast: Dübendorf-Volketswil IV\n\nAdresse: Speerstrasse 95\, 8820 Wädenswil\n
LOCATION:Speerstrasse 95\, 8820 Wädenswil
CATEGORIES:Saison 2024/25
END:VEVENT
END:VCALENDAR
