BEGIN:VCALENDAR
PRODID:-//nuDatenautomaten//framework iCal4j //DE
VERSION:2.0
CALSCALE:GREGORIAN
BEGIN:VTIMEZONE
TZID:Europe/Berlin
LAST-MODIFIED:20260306T231828Z
TZURL:https://www.tzurl.org/zoneinfo/Europe/Berlin
X-LIC-LOCATION:Europe/Berlin
X-PROLEPTIC-TZNAME:LMT
BEGIN:STANDARD
TZNAME:CET
TZOFFSETFROM:+005328
TZOFFSETTO:+0100
DTSTART:18930401T000000
END:STANDARD
BEGIN:DAYLIGHT
TZNAME:CEST
TZOFFSETFROM:+0100
TZOFFSETTO:+0200
DTSTART:19160430T230000
RDATE:19400401T020000
RDATE:19430329T020000
RDATE:19460414T020000
RDATE:19470406T030000
RDATE:19480418T020000
RDATE:19490410T020000
RDATE:19800406T020000
END:DAYLIGHT
BEGIN:STANDARD
TZNAME:CET
TZOFFSETFROM:+0200
TZOFFSETTO:+0100
DTSTART:19161001T010000
RDATE:19421102T030000
RDATE:19431004T030000
RDATE:19441002T030000
RDATE:19451118T030000
RDATE:19461007T030000
END:STANDARD
BEGIN:DAYLIGHT
TZNAME:CEST
TZOFFSETFROM:+0100
TZOFFSETTO:+0200
DTSTART:19170416T020000
RRULE:FREQ=YEARLY;UNTIL=19180415T010000Z;BYMONTH=4;BYDAY=3MO
END:DAYLIGHT
BEGIN:STANDARD
TZNAME:CET
TZOFFSETFROM:+0200
TZOFFSETTO:+0100
DTSTART:19170917T030000
RRULE:FREQ=YEARLY;UNTIL=19180916T010000Z;BYMONTH=9;BYDAY=3MO
END:STANDARD
BEGIN:DAYLIGHT
TZNAME:CEST
TZOFFSETFROM:+0100
TZOFFSETTO:+0200
DTSTART:19440403T020000
RRULE:FREQ=YEARLY;UNTIL=19450402T010000Z;BYMONTH=4;BYDAY=1MO
END:DAYLIGHT
BEGIN:DAYLIGHT
TZNAME:CEMT
TZOFFSETFROM:+0200
TZOFFSETTO:+0300
DTSTART:19450524T020000
RDATE:19470511T030000
END:DAYLIGHT
BEGIN:DAYLIGHT
TZNAME:CEST
TZOFFSETFROM:+0300
TZOFFSETTO:+0200
DTSTART:19450924T030000
RDATE:19470629T030000
END:DAYLIGHT
BEGIN:STANDARD
TZNAME:CET
TZOFFSETFROM:+0100
TZOFFSETTO:+0100
DTSTART:19460101T000000
RDATE:19800101T000000
END:STANDARD
BEGIN:STANDARD
TZNAME:CET
TZOFFSETFROM:+0200
TZOFFSETTO:+0100
DTSTART:19471005T030000
RRULE:FREQ=YEARLY;UNTIL=19491002T010000Z;BYMONTH=10;BYDAY=1SU
END:STANDARD
BEGIN:STANDARD
TZNAME:CET
TZOFFSETFROM:+0200
TZOFFSETTO:+0100
DTSTART:19800928T030000
RRULE:FREQ=YEARLY;UNTIL=19950924T010000Z;BYMONTH=9;BYDAY=-1SU
END:STANDARD
BEGIN:DAYLIGHT
TZNAME:CEST
TZOFFSETFROM:+0100
TZOFFSETTO:+0200
DTSTART:19810329T020000
RRULE:FREQ=YEARLY;BYMONTH=3;BYDAY=-1SU
END:DAYLIGHT
BEGIN:STANDARD
TZNAME:CET
TZOFFSETFROM:+0200
TZOFFSETTO:+0100
DTSTART:19961027T030000
RRULE:FREQ=YEARLY;BYMONTH=10;BYDAY=-1SU
END:STANDARD
END:VTIMEZONE
BEGIN:VEVENT
DTSTAMP:20260425T005045Z
DTSTART;TZID=Europe/Berlin:20250509T200000
DTEND;TZID=Europe/Berlin:20250509T230000
SUMMARY:HE 5.Liga Aufstieg 1.Rde. Affoltern A/A VI vs Chur VI (514)
UID:4c0b6446-29db-40ad-9e84-2bc1a540e16c
STATUS:CONFIRMED
LAST-MODIFIED:20250509T064401Z
DESCRIPTION:5. Liga Herren Aufstieg 1.Rde.\nBegegnungs-Nr: 514\nHeim: Affoltern A/A VI\nGast: Chur VI\n
LOCATION:
CATEGORIES:Saison 2024/25
END:VEVENT
BEGIN:VEVENT
DTSTAMP:20260425T005045Z
DTSTART;TZID=Europe/Berlin:20241108T200000
DTEND;TZID=Europe/Berlin:20241108T230000
SUMMARY:HE 5. Liga Gr. 7 Affoltern A/A VI vs BW-Wollishofen IV (0)
UID:a6c200f3-eb30-4565-92dc-6645833f816c
STATUS:CONFIRMED
LAST-MODIFIED:20241114T075407Z
DESCRIPTION:5. Liga Herren Gruppe 7\nBegegnungs-Nr: 0\nHeim: Affoltern A/A VI\nGast: BW-Wollishofen IV\n\nAdresse: Butzenstr. 2\, 8910 Affoltern am Albis\n
LOCATION:Butzenstr. 2\, 8910 Affoltern am Albis
CATEGORIES:Saison 2024/25
END:VEVENT
BEGIN:VEVENT
DTSTAMP:20260425T005045Z
DTSTART;TZID=Europe/Berlin:20241004T200000
DTEND;TZID=Europe/Berlin:20241004T230000
SUMMARY:HE 5. Liga Gr. 7 Affoltern A/A VI vs Young Stars ZH IX (0)
UID:e2409789-8b63-41a3-86aa-3e5fb3f34bc7
STATUS:CONFIRMED
LAST-MODIFIED:20241010T105823Z
DESCRIPTION:5. Liga Herren Gruppe 7\nBegegnungs-Nr: 0\nHeim: Affoltern A/A VI\nGast: Young Stars ZH IX\n\nAdresse: Butzenstr. 2\, 8910 Affoltern am Albis\n
LOCATION:Butzenstr. 2\, 8910 Affoltern am Albis
CATEGORIES:Saison 2024/25
END:VEVENT
BEGIN:VEVENT
DTSTAMP:20260425T005045Z
DTSTART;TZID=Europe/Berlin:20240913T200000
DTEND;TZID=Europe/Berlin:20240913T230000
SUMMARY:HE 5. Liga Gr. 7 Affoltern A/A VI vs Wädenswil VIII (0)
UID:a7dba023-3a1b-4370-b68b-73a35537cc1c
STATUS:CONFIRMED
LAST-MODIFIED:20240917T072405Z
DESCRIPTION:5. Liga Herren Gruppe 7\nBegegnungs-Nr: 0\nHeim: Affoltern A/A VI\nGast: Wädenswil VIII\n\nAdresse: Butzenstr. 2\, 8910 Affoltern am Albis\n
LOCATION:Butzenstr. 2\, 8910 Affoltern am Albis
CATEGORIES:Saison 2024/25
END:VEVENT
BEGIN:VEVENT
DTSTAMP:20260425T005045Z
DTSTART;TZID=Europe/Berlin:20250328T200000
DTEND;TZID=Europe/Berlin:20250328T230000
SUMMARY:HE 5. Liga Gr. 7 Affoltern A/A VI vs Pinguin Zürich V (0)
UID:735b698b-e7a5-498c-8390-00bd28fc6afd
STATUS:CONFIRMED
LAST-MODIFIED:20250404T083431Z
DESCRIPTION:5. Liga Herren Gruppe 7\nBegegnungs-Nr: 0\nHeim: Affoltern A/A VI\nGast: Pinguin Zürich V\n\nAdresse: Butzenstr. 2\, 8910 Affoltern am Albis\n
LOCATION:Butzenstr. 2\, 8910 Affoltern am Albis
CATEGORIES:Saison 2024/25
END:VEVENT
BEGIN:VEVENT
DTSTAMP:20260425T005045Z
DTSTART;TZID=Europe/Berlin:20250307T200000
DTEND;TZID=Europe/Berlin:20250307T230000
SUMMARY:HE 5. Liga Gr. 7 Affoltern A/A VI vs Thalwil IV (0)
UID:75d22c11-34ea-4c20-80ff-ea756d2e8043
STATUS:CONFIRMED
LAST-MODIFIED:20250312T145740Z
DESCRIPTION:5. Liga Herren Gruppe 7\nBegegnungs-Nr: 0\nHeim: Affoltern A/A VI\nGast: Thalwil IV\n\nAdresse: Butzenstr. 2\, 8910 Affoltern am Albis\n
LOCATION:Butzenstr. 2\, 8910 Affoltern am Albis
CATEGORIES:Saison 2024/25
END:VEVENT
BEGIN:VEVENT
DTSTAMP:20260425T005045Z
DTSTART;TZID=Europe/Berlin:20250131T200000
DTEND;TZID=Europe/Berlin:20250131T230000
SUMMARY:HE 5. Liga Gr. 7 Affoltern A/A VI vs Oberrieden (0)
UID:7491ae68-bb9f-43a6-9395-52fdabe66a1a
STATUS:CONFIRMED
LAST-MODIFIED:20250203T121828Z
DESCRIPTION:5. Liga Herren Gruppe 7\nBegegnungs-Nr: 0\nHeim: Affoltern A/A VI\nGast: Oberrieden\n\nAdresse: Butzenstr. 2\, 8910 Affoltern am Albis\n
LOCATION:Butzenstr. 2\, 8910 Affoltern am Albis
CATEGORIES:Saison 2024/25
END:VEVENT
BEGIN:VEVENT
DTSTAMP:20260425T005045Z
DTSTART;TZID=Europe/Berlin:20250207T200000
DTEND;TZID=Europe/Berlin:20250207T230000
SUMMARY:HE 5. Liga Gr. 7 Affoltern A/A VI vs Rüschlikon (0)
UID:85ae3686-780e-41f4-8123-ce39bd66ae12
STATUS:CONFIRMED
LAST-MODIFIED:20250213T132658Z
DESCRIPTION:5. Liga Herren Gruppe 7\nBegegnungs-Nr: 0\nHeim: Affoltern A/A VI\nGast: Rüschlikon\n\nAdresse: Butzenstr. 2\, 8910 Affoltern am Albis\n
LOCATION:Butzenstr. 2\, 8910 Affoltern am Albis
CATEGORIES:Saison 2024/25
END:VEVENT
BEGIN:VEVENT
DTSTAMP:20260425T005045Z
DTSTART;TZID=Europe/Berlin:20241205T200000
DTEND;TZID=Europe/Berlin:20241205T230000
SUMMARY:HE 5. Liga Gr. 7 Pinguin Zürich V vs Affoltern A/A VI (0)
UID:222b46af-2617-43f5-b254-a60ff0c16a47
STATUS:CONFIRMED
LAST-MODIFIED:20241211T094744Z
DESCRIPTION:5. Liga Herren Gruppe 7\nBegegnungs-Nr: 0\nHeim: Pinguin Zürich V\nGast: Affoltern A/A VI\n\nAdresse: Grindelstrasse 20\, 8303 Bassersdorf\n
LOCATION:Grindelstrasse 20\, 8303 Bassersdorf
CATEGORIES:Saison 2024/25
END:VEVENT
BEGIN:VEVENT
DTSTAMP:20260425T005045Z
DTSTART;TZID=Europe/Berlin:20241101T201500
DTEND;TZID=Europe/Berlin:20241101T231500
SUMMARY:HE 5. Liga Gr. 7 Thalwil IV vs Affoltern A/A VI (0)
UID:d26d831a-cdf2-4ee2-8c1c-ceac0552311d
STATUS:CONFIRMED
LAST-MODIFIED:20241108T145859Z
DESCRIPTION:5. Liga Herren Gruppe 7\nBegegnungs-Nr: 0\nHeim: Thalwil IV\nGast: Affoltern A/A VI\n\nAdresse: Bergstrasse 2\, 8800 Thalwil\n
LOCATION:Bergstrasse 2\, 8800 Thalwil
CATEGORIES:Saison 2024/25
END:VEVENT
BEGIN:VEVENT
DTSTAMP:20260425T005045Z
DTSTART;TZID=Europe/Berlin:20240919T194500
DTEND;TZID=Europe/Berlin:20240919T224500
SUMMARY:HE 5. Liga Gr. 7 Oberrieden vs Affoltern A/A VI (0)
UID:3c062fcf-e6ad-49a3-9595-bd9d87402d1f
STATUS:CONFIRMED
LAST-MODIFIED:20240920T135924Z
DESCRIPTION:5. Liga Herren Gruppe 7\nBegegnungs-Nr: 0\nHeim: Oberrieden\nGast: Affoltern A/A VI\n\nAdresse: Langweg 2\, 8942 Oberrieden\n
LOCATION:Langweg 2\, 8942 Oberrieden
CATEGORIES:Saison 2024/25
END:VEVENT
BEGIN:VEVENT
DTSTAMP:20260425T005045Z
DTSTART;TZID=Europe/Berlin:20240826T201500
DTEND;TZID=Europe/Berlin:20240826T231500
SUMMARY:HE 5. Liga Gr. 7 Rüschlikon vs Affoltern A/A VI (0)
UID:6a08b348-e3c4-49ae-9b98-59d793bb0d3f
STATUS:CONFIRMED
LAST-MODIFIED:20240828T084058Z
DESCRIPTION:5. Liga Herren Gruppe 7\nBegegnungs-Nr: 0\nHeim: Rüschlikon\nGast: Affoltern A/A VI\n\nAdresse: Säumerstrasse 24\, 8803 Rüschlikon\n
LOCATION:Säumerstrasse 24\, 8803 Rüschlikon
CATEGORIES:Saison 2024/25
END:VEVENT
BEGIN:VEVENT
DTSTAMP:20260425T005045Z
DTSTART;TZID=Europe/Berlin:20250314T200000
DTEND;TZID=Europe/Berlin:20250314T230000
SUMMARY:HE 5. Liga Gr. 7 BW-Wollishofen IV vs Affoltern A/A VI (0)
UID:2f1a3f31-86b2-4133-800e-d50937531c3f
STATUS:CONFIRMED
LAST-MODIFIED:20250319T094605Z
DESCRIPTION:5. Liga Herren Gruppe 7\nBegegnungs-Nr: 0\nHeim: BW-Wollishofen IV\nGast: Affoltern A/A VI\n\nAdresse: Kilchbergstr. 28\, 8038 Zürich\n
LOCATION:Kilchbergstr. 28\, 8038 Zürich
CATEGORIES:Saison 2024/25
END:VEVENT
BEGIN:VEVENT
DTSTAMP:20260425T005045Z
DTSTART;TZID=Europe/Berlin:20250321T200000
DTEND;TZID=Europe/Berlin:20250321T230000
SUMMARY:HE 5. Liga Gr. 7 Young Stars ZH IX vs Affoltern A/A VI (0)
UID:6bc82ad6-5b3b-4a21-ac31-837d28c97830
STATUS:CONFIRMED
LAST-MODIFIED:20250327T134321Z
DESCRIPTION:5. Liga Herren Gruppe 7\nBegegnungs-Nr: 0\nHeim: Young Stars ZH IX\nGast: Affoltern A/A VI\n\nAdresse: Balgriststrasse 55\, 8008 Zürich\n
LOCATION:Balgriststrasse 55\, 8008 Zürich
CATEGORIES:Saison 2024/25
END:VEVENT
BEGIN:VEVENT
DTSTAMP:20260425T005045Z
DTSTART;TZID=Europe/Berlin:20250123T200000
DTEND;TZID=Europe/Berlin:20250123T230000
SUMMARY:HE 5. Liga Gr. 7 Wädenswil VIII vs Affoltern A/A VI (0)
UID:d18085e3-8728-4e59-af50-154ab539e814
STATUS:CONFIRMED
LAST-MODIFIED:20250129T124752Z
DESCRIPTION:5. Liga Herren Gruppe 7\nBegegnungs-Nr: 0\nHeim: Wädenswil VIII\nGast: Affoltern A/A VI\n\nAdresse: Speerstrasse 95\, 8820 Wädenswil\n
LOCATION:Speerstrasse 95\, 8820 Wädenswil
CATEGORIES:Saison 2024/25
END:VEVENT
END:VCALENDAR
