BEGIN:VCALENDAR
PRODID:-//nuDatenautomaten//framework iCal4j //DE
VERSION:2.0
CALSCALE:GREGORIAN
BEGIN:VTIMEZONE
TZID:Europe/Berlin
LAST-MODIFIED:20260306T231828Z
TZURL:https://www.tzurl.org/zoneinfo/Europe/Berlin
X-LIC-LOCATION:Europe/Berlin
X-PROLEPTIC-TZNAME:LMT
BEGIN:STANDARD
TZNAME:CET
TZOFFSETFROM:+005328
TZOFFSETTO:+0100
DTSTART:18930401T000000
END:STANDARD
BEGIN:DAYLIGHT
TZNAME:CEST
TZOFFSETFROM:+0100
TZOFFSETTO:+0200
DTSTART:19160430T230000
RDATE:19400401T020000
RDATE:19430329T020000
RDATE:19460414T020000
RDATE:19470406T030000
RDATE:19480418T020000
RDATE:19490410T020000
RDATE:19800406T020000
END:DAYLIGHT
BEGIN:STANDARD
TZNAME:CET
TZOFFSETFROM:+0200
TZOFFSETTO:+0100
DTSTART:19161001T010000
RDATE:19421102T030000
RDATE:19431004T030000
RDATE:19441002T030000
RDATE:19451118T030000
RDATE:19461007T030000
END:STANDARD
BEGIN:DAYLIGHT
TZNAME:CEST
TZOFFSETFROM:+0100
TZOFFSETTO:+0200
DTSTART:19170416T020000
RRULE:FREQ=YEARLY;UNTIL=19180415T010000Z;BYMONTH=4;BYDAY=3MO
END:DAYLIGHT
BEGIN:STANDARD
TZNAME:CET
TZOFFSETFROM:+0200
TZOFFSETTO:+0100
DTSTART:19170917T030000
RRULE:FREQ=YEARLY;UNTIL=19180916T010000Z;BYMONTH=9;BYDAY=3MO
END:STANDARD
BEGIN:DAYLIGHT
TZNAME:CEST
TZOFFSETFROM:+0100
TZOFFSETTO:+0200
DTSTART:19440403T020000
RRULE:FREQ=YEARLY;UNTIL=19450402T010000Z;BYMONTH=4;BYDAY=1MO
END:DAYLIGHT
BEGIN:DAYLIGHT
TZNAME:CEMT
TZOFFSETFROM:+0200
TZOFFSETTO:+0300
DTSTART:19450524T020000
RDATE:19470511T030000
END:DAYLIGHT
BEGIN:DAYLIGHT
TZNAME:CEST
TZOFFSETFROM:+0300
TZOFFSETTO:+0200
DTSTART:19450924T030000
RDATE:19470629T030000
END:DAYLIGHT
BEGIN:STANDARD
TZNAME:CET
TZOFFSETFROM:+0100
TZOFFSETTO:+0100
DTSTART:19460101T000000
RDATE:19800101T000000
END:STANDARD
BEGIN:STANDARD
TZNAME:CET
TZOFFSETFROM:+0200
TZOFFSETTO:+0100
DTSTART:19471005T030000
RRULE:FREQ=YEARLY;UNTIL=19491002T010000Z;BYMONTH=10;BYDAY=1SU
END:STANDARD
BEGIN:STANDARD
TZNAME:CET
TZOFFSETFROM:+0200
TZOFFSETTO:+0100
DTSTART:19800928T030000
RRULE:FREQ=YEARLY;UNTIL=19950924T010000Z;BYMONTH=9;BYDAY=-1SU
END:STANDARD
BEGIN:DAYLIGHT
TZNAME:CEST
TZOFFSETFROM:+0100
TZOFFSETTO:+0200
DTSTART:19810329T020000
RRULE:FREQ=YEARLY;BYMONTH=3;BYDAY=-1SU
END:DAYLIGHT
BEGIN:STANDARD
TZNAME:CET
TZOFFSETFROM:+0200
TZOFFSETTO:+0100
DTSTART:19961027T030000
RRULE:FREQ=YEARLY;BYMONTH=10;BYDAY=-1SU
END:STANDARD
END:VTIMEZONE
BEGIN:VEVENT
DTSTAMP:20260425T032802Z
DTSTART;TZID=Europe/Berlin:20241206T201500
DTEND;TZID=Europe/Berlin:20241206T231500
SUMMARY:HE 4. Liga Gr. 3 Winterthur III vs Weinfelden (0)
UID:f789421d-5034-4dd8-9206-db52b4a79085
STATUS:CONFIRMED
LAST-MODIFIED:20241211T090412Z
DESCRIPTION:4. Liga Herren Gruppe 3\nBegegnungs-Nr: 0\nHeim: Winterthur III\nGast: Weinfelden\n\nAdresse: Buchackerstrasse 54\, 8400 Winterthur\n
LOCATION:Buchackerstrasse 54\, 8400 Winterthur
CATEGORIES:Saison 2024/25
END:VEVENT
BEGIN:VEVENT
DTSTAMP:20260425T032802Z
DTSTART;TZID=Europe/Berlin:20241108T201500
DTEND;TZID=Europe/Berlin:20241108T231500
SUMMARY:HE 4. Liga Gr. 3 Winterthur III vs Diessenhofen (0)
UID:be07dcc5-297c-4d51-ba81-8e97d018a776
STATUS:CONFIRMED
LAST-MODIFIED:20241114T072348Z
DESCRIPTION:4. Liga Herren Gruppe 3\nBegegnungs-Nr: 0\nHeim: Winterthur III\nGast: Diessenhofen\n\nAdresse: Buchackerstrasse 54\, 8400 Winterthur\n
LOCATION:Buchackerstrasse 54\, 8400 Winterthur
CATEGORIES:Saison 2024/25
END:VEVENT
BEGIN:VEVENT
DTSTAMP:20260425T032802Z
DTSTART;TZID=Europe/Berlin:20240920T201500
DTEND;TZID=Europe/Berlin:20240920T231500
SUMMARY:HE 4. Liga Gr. 3 Winterthur III vs Imperial Winterthur (0)
UID:0c5aa1b2-3587-4c16-a76b-412e24a5a38a
STATUS:CONFIRMED
LAST-MODIFIED:20240926T114813Z
DESCRIPTION:4. Liga Herren Gruppe 3\nBegegnungs-Nr: 0\nHeim: Winterthur III\nGast: Imperial Winterthur\n\nAdresse: Buchackerstrasse 54\, 8400 Winterthur\n
LOCATION:Buchackerstrasse 54\, 8400 Winterthur
CATEGORIES:Saison 2024/25
END:VEVENT
BEGIN:VEVENT
DTSTAMP:20260425T032802Z
DTSTART;TZID=Europe/Berlin:20240830T201500
DTEND;TZID=Europe/Berlin:20240830T231500
SUMMARY:HE 4. Liga Gr. 3 Winterthur III vs Embrachertal III (0)
UID:03a9d3dd-f326-495c-8aea-9857cc229dfc
STATUS:CONFIRMED
LAST-MODIFIED:20240904T102129Z
DESCRIPTION:4. Liga Herren Gruppe 3\nBegegnungs-Nr: 0\nHeim: Winterthur III\nGast: Embrachertal III\n\nAdresse: Buchackerstrasse 54\, 8400 Winterthur\n
LOCATION:Buchackerstrasse 54\, 8400 Winterthur
CATEGORIES:Saison 2024/25
END:VEVENT
BEGIN:VEVENT
DTSTAMP:20260425T032802Z
DTSTART;TZID=Europe/Berlin:20250307T201500
DTEND;TZID=Europe/Berlin:20250307T231500
SUMMARY:HE 4. Liga Gr. 3 Winterthur III vs Ettenhausen III (0)
UID:bec3c0ed-d7d5-4e56-88dc-0bc5b51b5e53
STATUS:CONFIRMED
LAST-MODIFIED:20250311T152027Z
DESCRIPTION:4. Liga Herren Gruppe 3\nBegegnungs-Nr: 0\nHeim: Winterthur III\nGast: Ettenhausen III\n\nAdresse: Buchackerstrasse 54\, 8400 Winterthur\n
LOCATION:Buchackerstrasse 54\, 8400 Winterthur
CATEGORIES:Saison 2024/25
END:VEVENT
BEGIN:VEVENT
DTSTAMP:20260425T032802Z
DTSTART;TZID=Europe/Berlin:20250221T201500
DTEND;TZID=Europe/Berlin:20250221T231500
SUMMARY:HE 4. Liga Gr. 3 Winterthur III vs Neuhausen IV (0)
UID:566f9411-131d-4939-844a-d770fc1a98cf
STATUS:CONFIRMED
LAST-MODIFIED:20250227T112550Z
DESCRIPTION:4. Liga Herren Gruppe 3\nBegegnungs-Nr: 0\nHeim: Winterthur III\nGast: Neuhausen IV\n\nAdresse: Buchackerstrasse 54\, 8400 Winterthur\n
LOCATION:Buchackerstrasse 54\, 8400 Winterthur
CATEGORIES:Saison 2024/25
END:VEVENT
BEGIN:VEVENT
DTSTAMP:20260425T032802Z
DTSTART;TZID=Europe/Berlin:20250124T201500
DTEND;TZID=Europe/Berlin:20250124T231500
SUMMARY:HE 4. Liga Gr. 3 Winterthur III vs Frauenfeld (0)
UID:238476a4-0ee1-4a2b-94d5-2daa530ef1fe
STATUS:CONFIRMED
LAST-MODIFIED:20250129T123452Z
DESCRIPTION:4. Liga Herren Gruppe 3\nBegegnungs-Nr: 0\nHeim: Winterthur III\nGast: Frauenfeld\n\nAdresse: Buchackerstrasse 54\, 8400 Winterthur\n
LOCATION:Buchackerstrasse 54\, 8400 Winterthur
CATEGORIES:Saison 2024/25
END:VEVENT
BEGIN:VEVENT
DTSTAMP:20260425T032802Z
DTSTART;TZID=Europe/Berlin:20241204T201500
DTEND;TZID=Europe/Berlin:20241204T231500
SUMMARY:HE 4. Liga Gr. 3 Ettenhausen III vs Winterthur III (0)
UID:1b632925-5de2-48a9-bc92-03f8d40277c2
STATUS:CONFIRMED
LAST-MODIFIED:20241205T124536Z
DESCRIPTION:4. Liga Herren Gruppe 3\nBegegnungs-Nr: 0\nHeim: Ettenhausen III\nGast: Winterthur III\n\nAdresse: Weidlistrasse 12\, 8356 Ettenhausen\n
LOCATION:Weidlistrasse 12\, 8356 Ettenhausen
CATEGORIES:Saison 2024/25
END:VEVENT
BEGIN:VEVENT
DTSTAMP:20260425T032802Z
DTSTART;TZID=Europe/Berlin:20240924T193000
DTEND;TZID=Europe/Berlin:20240924T223000
SUMMARY:HE 4. Liga Gr. 3 Neuhausen IV vs Winterthur III (0)
UID:cb3ad9c4-04ca-48b5-92bf-fdd9deac917f
STATUS:CONFIRMED
LAST-MODIFIED:20240926T114857Z
DESCRIPTION:4. Liga Herren Gruppe 3\nBegegnungs-Nr: 0\nHeim: Neuhausen IV\nGast: Winterthur III\n\nAdresse: Ebnatstrasse 35\, 8200 Schaffhausen\n
LOCATION:Ebnatstrasse 35\, 8200 Schaffhausen
CATEGORIES:Saison 2024/25
END:VEVENT
BEGIN:VEVENT
DTSTAMP:20260425T032802Z
DTSTART;TZID=Europe/Berlin:20240902T200000
DTEND;TZID=Europe/Berlin:20240902T230000
SUMMARY:HE 4. Liga Gr. 3 Frauenfeld vs Winterthur III (0)
UID:07e1e357-40af-4365-ad91-f0a8d43c41f5
STATUS:CONFIRMED
LAST-MODIFIED:20240904T102154Z
DESCRIPTION:4. Liga Herren Gruppe 3\nBegegnungs-Nr: 0\nHeim: Frauenfeld\nGast: Winterthur III\n\nAdresse: Scheuchenstrasse\, 8500 Frauenfeld\n
LOCATION:Scheuchenstrasse\, 8500 Frauenfeld
CATEGORIES:Saison 2024/25
END:VEVENT
BEGIN:VEVENT
DTSTAMP:20260425T032802Z
DTSTART;TZID=Europe/Berlin:20250325T200000
DTEND;TZID=Europe/Berlin:20250325T230000
SUMMARY:HE 4. Liga Gr. 3 Weinfelden vs Winterthur III (0)
UID:b265afdc-8889-4963-86da-2d1f85c0a9e9
STATUS:CONFIRMED
LAST-MODIFIED:20250327T133614Z
DESCRIPTION:4. Liga Herren Gruppe 3\nBegegnungs-Nr: 0\nHeim: Weinfelden\nGast: Winterthur III\n\nAdresse: Bleichestrasse 3 (neben Hallenbad)\, 8570 Weinfelden\n
LOCATION:Bleichestrasse 3 (neben Hallenbad)\, 8570 Weinfelden
CATEGORIES:Saison 2024/25
END:VEVENT
BEGIN:VEVENT
DTSTAMP:20260425T032802Z
DTSTART;TZID=Europe/Berlin:20250311T200000
DTEND;TZID=Europe/Berlin:20250311T230000
SUMMARY:HE 4. Liga Gr. 3 Diessenhofen vs Winterthur III (0)
UID:20208848-3148-4c26-9fba-7d93fca6167a
STATUS:CONFIRMED
LAST-MODIFIED:20250312T145522Z
DESCRIPTION:4. Liga Herren Gruppe 3\nBegegnungs-Nr: 0\nHeim: Diessenhofen\nGast: Winterthur III\n\nAdresse: alte Basadingerstrasse 10\, 8253 Diessenhofen\n
LOCATION:alte Basadingerstrasse 10\, 8253 Diessenhofen
CATEGORIES:Saison 2024/25
END:VEVENT
BEGIN:VEVENT
DTSTAMP:20260425T032802Z
DTSTART;TZID=Europe/Berlin:20250130T200000
DTEND;TZID=Europe/Berlin:20250130T230000
SUMMARY:HE 4. Liga Gr. 3 Imperial Winterthur vs Winterthur III (0)
UID:e815d1ff-9e6b-49c3-b4e1-04c7069f3ee7
STATUS:CONFIRMED
LAST-MODIFIED:20250131T143626Z
DESCRIPTION:4. Liga Herren Gruppe 3\nBegegnungs-Nr: 0\nHeim: Imperial Winterthur\nGast: Winterthur III\n\nAdresse: Büelhofstrasse 25a\, 8405 Winterthur\n
LOCATION:Büelhofstrasse 25a\, 8405 Winterthur
CATEGORIES:Saison 2024/25
END:VEVENT
BEGIN:VEVENT
DTSTAMP:20260425T032802Z
DTSTART;TZID=Europe/Berlin:20250109T200000
DTEND;TZID=Europe/Berlin:20250109T230000
SUMMARY:HE 4. Liga Gr. 3 Embrachertal III vs Winterthur III (0)
UID:e4005427-5656-4e03-9d82-62cf0bf5bf73
STATUS:CONFIRMED
LAST-MODIFIED:20250110T151025Z
DESCRIPTION:4. Liga Herren Gruppe 3\nBegegnungs-Nr: 0\nHeim: Embrachertal III\nGast: Winterthur III\n\nAdresse: Schützenhausstrasse 20\, 8424 Embrach\n
LOCATION:Schützenhausstrasse 20\, 8424 Embrach
CATEGORIES:Saison 2024/25
END:VEVENT
END:VCALENDAR
