BEGIN:VCALENDAR
PRODID:-//nuDatenautomaten//framework iCal4j //DE
VERSION:2.0
CALSCALE:GREGORIAN
BEGIN:VTIMEZONE
TZID:Europe/Berlin
LAST-MODIFIED:20260306T231828Z
TZURL:https://www.tzurl.org/zoneinfo/Europe/Berlin
X-LIC-LOCATION:Europe/Berlin
X-PROLEPTIC-TZNAME:LMT
BEGIN:STANDARD
TZNAME:CET
TZOFFSETFROM:+005328
TZOFFSETTO:+0100
DTSTART:18930401T000000
END:STANDARD
BEGIN:DAYLIGHT
TZNAME:CEST
TZOFFSETFROM:+0100
TZOFFSETTO:+0200
DTSTART:19160430T230000
RDATE:19400401T020000
RDATE:19430329T020000
RDATE:19460414T020000
RDATE:19470406T030000
RDATE:19480418T020000
RDATE:19490410T020000
RDATE:19800406T020000
END:DAYLIGHT
BEGIN:STANDARD
TZNAME:CET
TZOFFSETFROM:+0200
TZOFFSETTO:+0100
DTSTART:19161001T010000
RDATE:19421102T030000
RDATE:19431004T030000
RDATE:19441002T030000
RDATE:19451118T030000
RDATE:19461007T030000
END:STANDARD
BEGIN:DAYLIGHT
TZNAME:CEST
TZOFFSETFROM:+0100
TZOFFSETTO:+0200
DTSTART:19170416T020000
RRULE:FREQ=YEARLY;UNTIL=19180415T010000Z;BYMONTH=4;BYDAY=3MO
END:DAYLIGHT
BEGIN:STANDARD
TZNAME:CET
TZOFFSETFROM:+0200
TZOFFSETTO:+0100
DTSTART:19170917T030000
RRULE:FREQ=YEARLY;UNTIL=19180916T010000Z;BYMONTH=9;BYDAY=3MO
END:STANDARD
BEGIN:DAYLIGHT
TZNAME:CEST
TZOFFSETFROM:+0100
TZOFFSETTO:+0200
DTSTART:19440403T020000
RRULE:FREQ=YEARLY;UNTIL=19450402T010000Z;BYMONTH=4;BYDAY=1MO
END:DAYLIGHT
BEGIN:DAYLIGHT
TZNAME:CEMT
TZOFFSETFROM:+0200
TZOFFSETTO:+0300
DTSTART:19450524T020000
RDATE:19470511T030000
END:DAYLIGHT
BEGIN:DAYLIGHT
TZNAME:CEST
TZOFFSETFROM:+0300
TZOFFSETTO:+0200
DTSTART:19450924T030000
RDATE:19470629T030000
END:DAYLIGHT
BEGIN:STANDARD
TZNAME:CET
TZOFFSETFROM:+0100
TZOFFSETTO:+0100
DTSTART:19460101T000000
RDATE:19800101T000000
END:STANDARD
BEGIN:STANDARD
TZNAME:CET
TZOFFSETFROM:+0200
TZOFFSETTO:+0100
DTSTART:19471005T030000
RRULE:FREQ=YEARLY;UNTIL=19491002T010000Z;BYMONTH=10;BYDAY=1SU
END:STANDARD
BEGIN:STANDARD
TZNAME:CET
TZOFFSETFROM:+0200
TZOFFSETTO:+0100
DTSTART:19800928T030000
RRULE:FREQ=YEARLY;UNTIL=19950924T010000Z;BYMONTH=9;BYDAY=-1SU
END:STANDARD
BEGIN:DAYLIGHT
TZNAME:CEST
TZOFFSETFROM:+0100
TZOFFSETTO:+0200
DTSTART:19810329T020000
RRULE:FREQ=YEARLY;BYMONTH=3;BYDAY=-1SU
END:DAYLIGHT
BEGIN:STANDARD
TZNAME:CET
TZOFFSETFROM:+0200
TZOFFSETTO:+0100
DTSTART:19961027T030000
RRULE:FREQ=YEARLY;BYMONTH=10;BYDAY=-1SU
END:STANDARD
END:VTIMEZONE
BEGIN:VEVENT
DTSTAMP:20260421T142814Z
DTSTART;TZID=Europe/Berlin:20240902T200000
DTEND;TZID=Europe/Berlin:20240902T230000
SUMMARY:He 2. Liga Gr. 1 Baar II vs Kriens IV (0)
UID:530ab6eb-45b1-419c-9af9-0b6c9a9834aa
STATUS:CONFIRMED
LAST-MODIFIED:20240911T135827Z
DESCRIPTION:2. Liga Herren Gruppe 1\nBegegnungs-Nr: 0\nHeim: Baar II\nGast: Kriens IV\n\nAdresse: Rigistrasse 175/177\, 6340 Baar\n
LOCATION:Rigistrasse 175/177\, 6340 Baar
CATEGORIES:Saison 2024/25
END:VEVENT
BEGIN:VEVENT
DTSTAMP:20260421T142814Z
DTSTART;TZID=Europe/Berlin:20241021T200000
DTEND;TZID=Europe/Berlin:20241021T230000
SUMMARY:He 2. Liga Gr. 1 Baar II vs Rapid Luzern VI (0)
UID:2141fa7e-4968-438e-a477-36f20984e4f8
STATUS:CONFIRMED
LAST-MODIFIED:20241022T163017Z
DESCRIPTION:2. Liga Herren Gruppe 1\nBegegnungs-Nr: 0\nHeim: Baar II\nGast: Rapid Luzern VI\n\nAdresse: Rigistrasse 175/177\, 6340 Baar\n
LOCATION:Rigistrasse 175/177\, 6340 Baar
CATEGORIES:Saison 2024/25
END:VEVENT
BEGIN:VEVENT
DTSTAMP:20260421T142814Z
DTSTART;TZID=Europe/Berlin:20241111T200000
DTEND;TZID=Europe/Berlin:20241111T230000
SUMMARY:He 2. Liga Gr. 1 Baar II vs Reussbühl II (0)
UID:336108ef-07b1-4351-afc2-af161f9847eb
STATUS:CONFIRMED
LAST-MODIFIED:20241113T143859Z
DESCRIPTION:2. Liga Herren Gruppe 1\nBegegnungs-Nr: 0\nHeim: Baar II\nGast: Reussbühl II\n\nAdresse: Rigistrasse 175/177\, 6340 Baar\n
LOCATION:Rigistrasse 175/177\, 6340 Baar
CATEGORIES:Saison 2024/25
END:VEVENT
BEGIN:VEVENT
DTSTAMP:20260421T142814Z
DTSTART;TZID=Europe/Berlin:20241209T200000
DTEND;TZID=Europe/Berlin:20241209T230000
SUMMARY:He 2. Liga Gr. 1 Baar II vs Schenkon II (0)
UID:5e2dd478-22ec-402a-a693-0edd865921e1
STATUS:CONFIRMED
LAST-MODIFIED:20241210T110115Z
DESCRIPTION:2. Liga Herren Gruppe 1\nBegegnungs-Nr: 0\nHeim: Baar II\nGast: Schenkon II\n\nAdresse: Rigistrasse 175/177\, 6340 Baar\n
LOCATION:Rigistrasse 175/177\, 6340 Baar
CATEGORIES:Saison 2024/25
END:VEVENT
BEGIN:VEVENT
DTSTAMP:20260421T142814Z
DTSTART;TZID=Europe/Berlin:20250113T200000
DTEND;TZID=Europe/Berlin:20250113T230000
SUMMARY:He 2. Liga Gr. 1 Baar II vs Emmen (0)
UID:9700f8eb-62b7-4bb0-ac35-c4c010ad128e
STATUS:CONFIRMED
LAST-MODIFIED:20250117T073342Z
DESCRIPTION:2. Liga Herren Gruppe 1\nBegegnungs-Nr: 0\nHeim: Baar II\nGast: Emmen\n\nAdresse: Rigistrasse 175/177\, 6340 Baar\n
LOCATION:Rigistrasse 175/177\, 6340 Baar
CATEGORIES:Saison 2024/25
END:VEVENT
BEGIN:VEVENT
DTSTAMP:20260421T142814Z
DTSTART;TZID=Europe/Berlin:20250217T200000
DTEND;TZID=Europe/Berlin:20250217T230000
SUMMARY:He 2. Liga Gr. 1 Baar II vs Sarnen II (0)
UID:48c01731-f5cf-4f90-adfa-1378c39523c4
STATUS:CONFIRMED
LAST-MODIFIED:20250219T080656Z
DESCRIPTION:2. Liga Herren Gruppe 1\nBegegnungs-Nr: 0\nHeim: Baar II\nGast: Sarnen II\n\nAdresse: Rigistrasse 175/177\, 6340 Baar\n
LOCATION:Rigistrasse 175/177\, 6340 Baar
CATEGORIES:Saison 2024/25
END:VEVENT
BEGIN:VEVENT
DTSTAMP:20260421T142814Z
DTSTART;TZID=Europe/Berlin:20250317T200000
DTEND;TZID=Europe/Berlin:20250317T230000
SUMMARY:He 2. Liga Gr. 1 Baar II vs Rotkreuz (0)
UID:e5e40035-cf5b-4a82-8c8f-0b276c5d75e8
STATUS:CONFIRMED
LAST-MODIFIED:20250320T183410Z
DESCRIPTION:2. Liga Herren Gruppe 1\nBegegnungs-Nr: 0\nHeim: Baar II\nGast: Rotkreuz\n\nAdresse: Rigistrasse 175/177\, 6340 Baar\n
LOCATION:Rigistrasse 175/177\, 6340 Baar
CATEGORIES:Saison 2024/25
END:VEVENT
BEGIN:VEVENT
DTSTAMP:20260421T142814Z
DTSTART;TZID=Europe/Berlin:20240920T201500
DTEND;TZID=Europe/Berlin:20240920T231500
SUMMARY:He 2. Liga Gr. 1 Schenkon II vs Baar II (0)
UID:053e7860-08a6-42bd-8eb9-409ac04fa682
STATUS:CONFIRMED
LAST-MODIFIED:20240923T140327Z
DESCRIPTION:2. Liga Herren Gruppe 1\nBegegnungs-Nr: 0\nHeim: Schenkon II\nGast: Baar II\n6214 Schenkon\n
LOCATION:6214 Schenkon
CATEGORIES:Saison 2024/25
END:VEVENT
BEGIN:VEVENT
DTSTAMP:20260421T142814Z
DTSTART;TZID=Europe/Berlin:20241115T200000
DTEND;TZID=Europe/Berlin:20241115T230000
SUMMARY:He 2. Liga Gr. 1 Emmen vs Baar II (0)
UID:f24d8a74-52cd-4128-a310-e95bafd28d77
STATUS:CONFIRMED
LAST-MODIFIED:20241118T175709Z
DESCRIPTION:2. Liga Herren Gruppe 1\nBegegnungs-Nr: 0\nHeim: Emmen\nGast: Baar II\n\nAdresse: Rüeggisingerstrasse 26\, 6020 Emmenbrücke\n
LOCATION:Rüeggisingerstrasse 26\, 6020 Emmenbrücke
CATEGORIES:Saison 2024/25
END:VEVENT
BEGIN:VEVENT
DTSTAMP:20260421T142814Z
DTSTART;TZID=Europe/Berlin:20250329T150000
DTEND;TZID=Europe/Berlin:20250329T180000
SUMMARY:He 2. Liga Gr. 1 Sarnen II vs Baar II (0)
UID:004c958e-d706-416a-893d-883967d05d00
STATUS:CONFIRMED
LAST-MODIFIED:20250415T084930Z
DESCRIPTION:2. Liga Herren Gruppe 1\nBegegnungs-Nr: 0\nHeim: Sarnen II\nGast: Baar II\n\nAdresse: Wilerstr. 65\, 6062 Wilen (Sarnen)\n
LOCATION:Wilerstr. 65\, 6062 Wilen (Sarnen)
CATEGORIES:Saison 2024/25
END:VEVENT
BEGIN:VEVENT
DTSTAMP:20260421T142814Z
DTSTART;TZID=Europe/Berlin:20241129T200000
DTEND;TZID=Europe/Berlin:20241129T230000
SUMMARY:He 2. Liga Gr. 1 Rotkreuz vs Baar II (0)
UID:e79bd004-fd60-4831-a6f1-1db3ddf630aa
STATUS:CONFIRMED
LAST-MODIFIED:20241204T154143Z
DESCRIPTION:2. Liga Herren Gruppe 1\nBegegnungs-Nr: 0\nHeim: Rotkreuz\nGast: Baar II\n\nAdresse: Buonaserstr. 23\, 6343 Rotkreuz\n
LOCATION:Buonaserstr. 23\, 6343 Rotkreuz
CATEGORIES:Saison 2024/25
END:VEVENT
BEGIN:VEVENT
DTSTAMP:20260421T142814Z
DTSTART;TZID=Europe/Berlin:20241203T200000
DTEND;TZID=Europe/Berlin:20241203T230000
SUMMARY:He 2. Liga Gr. 1 Kriens IV vs Baar II (0)
UID:bed056fe-2392-4da4-a140-2af778b60971
STATUS:CONFIRMED
LAST-MODIFIED:20241204T154224Z
DESCRIPTION:2. Liga Herren Gruppe 1\nBegegnungs-Nr: 0\nHeim: Kriens IV\nGast: Baar II\n\nAdresse: Krauerstrasse 1\, 6010 Kriens\n
LOCATION:Krauerstrasse 1\, 6010 Kriens
CATEGORIES:Saison 2024/25
END:VEVENT
BEGIN:VEVENT
DTSTAMP:20260421T142814Z
DTSTART;TZID=Europe/Berlin:20250111T130000
DTEND;TZID=Europe/Berlin:20250111T160000
SUMMARY:He 2. Liga Gr. 1 Rapid Luzern VI vs Baar II (0)
UID:97519425-a6c4-4cd3-8429-21c3a94812f2
STATUS:CONFIRMED
LAST-MODIFIED:20250112T155023Z
DESCRIPTION:2. Liga Herren Gruppe 1\nBegegnungs-Nr: 0\nHeim: Rapid Luzern VI\nGast: Baar II\n\nAdresse: Kreuzbuchstr. 60\, 6006 Luzern\n
LOCATION:Kreuzbuchstr. 60\, 6006 Luzern
CATEGORIES:Saison 2024/25
END:VEVENT
BEGIN:VEVENT
DTSTAMP:20260421T142814Z
DTSTART;TZID=Europe/Berlin:20250123T200000
DTEND;TZID=Europe/Berlin:20250123T230000
SUMMARY:He 2. Liga Gr. 1 Reussbühl II vs Baar II (0)
UID:4a97e394-7c12-4d02-b221-71f679ca5be2
STATUS:CONFIRMED
LAST-MODIFIED:20250204T204637Z
DESCRIPTION:2. Liga Herren Gruppe 1\nBegegnungs-Nr: 0\nHeim: Reussbühl II\nGast: Baar II\n\nAdresse: Obermättlistrasse 44\, 6015 Luzern\n
LOCATION:Obermättlistrasse 44\, 6015 Luzern
CATEGORIES:Saison 2024/25
END:VEVENT
END:VCALENDAR
