BEGIN:VCALENDAR
PRODID:-//nuDatenautomaten//framework iCal4j //DE
VERSION:2.0
CALSCALE:GREGORIAN
BEGIN:VTIMEZONE
TZID:Europe/Berlin
LAST-MODIFIED:20260306T231828Z
TZURL:https://www.tzurl.org/zoneinfo/Europe/Berlin
X-LIC-LOCATION:Europe/Berlin
X-PROLEPTIC-TZNAME:LMT
BEGIN:STANDARD
TZNAME:CET
TZOFFSETFROM:+005328
TZOFFSETTO:+0100
DTSTART:18930401T000000
END:STANDARD
BEGIN:DAYLIGHT
TZNAME:CEST
TZOFFSETFROM:+0100
TZOFFSETTO:+0200
DTSTART:19160430T230000
RDATE:19400401T020000
RDATE:19430329T020000
RDATE:19460414T020000
RDATE:19470406T030000
RDATE:19480418T020000
RDATE:19490410T020000
RDATE:19800406T020000
END:DAYLIGHT
BEGIN:STANDARD
TZNAME:CET
TZOFFSETFROM:+0200
TZOFFSETTO:+0100
DTSTART:19161001T010000
RDATE:19421102T030000
RDATE:19431004T030000
RDATE:19441002T030000
RDATE:19451118T030000
RDATE:19461007T030000
END:STANDARD
BEGIN:DAYLIGHT
TZNAME:CEST
TZOFFSETFROM:+0100
TZOFFSETTO:+0200
DTSTART:19170416T020000
RRULE:FREQ=YEARLY;UNTIL=19180415T010000Z;BYMONTH=4;BYDAY=3MO
END:DAYLIGHT
BEGIN:STANDARD
TZNAME:CET
TZOFFSETFROM:+0200
TZOFFSETTO:+0100
DTSTART:19170917T030000
RRULE:FREQ=YEARLY;UNTIL=19180916T010000Z;BYMONTH=9;BYDAY=3MO
END:STANDARD
BEGIN:DAYLIGHT
TZNAME:CEST
TZOFFSETFROM:+0100
TZOFFSETTO:+0200
DTSTART:19440403T020000
RRULE:FREQ=YEARLY;UNTIL=19450402T010000Z;BYMONTH=4;BYDAY=1MO
END:DAYLIGHT
BEGIN:DAYLIGHT
TZNAME:CEMT
TZOFFSETFROM:+0200
TZOFFSETTO:+0300
DTSTART:19450524T020000
RDATE:19470511T030000
END:DAYLIGHT
BEGIN:DAYLIGHT
TZNAME:CEST
TZOFFSETFROM:+0300
TZOFFSETTO:+0200
DTSTART:19450924T030000
RDATE:19470629T030000
END:DAYLIGHT
BEGIN:STANDARD
TZNAME:CET
TZOFFSETFROM:+0100
TZOFFSETTO:+0100
DTSTART:19460101T000000
RDATE:19800101T000000
END:STANDARD
BEGIN:STANDARD
TZNAME:CET
TZOFFSETFROM:+0200
TZOFFSETTO:+0100
DTSTART:19471005T030000
RRULE:FREQ=YEARLY;UNTIL=19491002T010000Z;BYMONTH=10;BYDAY=1SU
END:STANDARD
BEGIN:STANDARD
TZNAME:CET
TZOFFSETFROM:+0200
TZOFFSETTO:+0100
DTSTART:19800928T030000
RRULE:FREQ=YEARLY;UNTIL=19950924T010000Z;BYMONTH=9;BYDAY=-1SU
END:STANDARD
BEGIN:DAYLIGHT
TZNAME:CEST
TZOFFSETFROM:+0100
TZOFFSETTO:+0200
DTSTART:19810329T020000
RRULE:FREQ=YEARLY;BYMONTH=3;BYDAY=-1SU
END:DAYLIGHT
BEGIN:STANDARD
TZNAME:CET
TZOFFSETFROM:+0200
TZOFFSETTO:+0100
DTSTART:19961027T030000
RRULE:FREQ=YEARLY;BYMONTH=10;BYDAY=-1SU
END:STANDARD
END:VTIMEZONE
BEGIN:VEVENT
DTSTAMP:20260425T004943Z
DTSTART;TZID=Europe/Berlin:20240831T143000
DTEND;TZID=Europe/Berlin:20240831T173000
SUMMARY:JUG\, 2.Liga\, Gr.6\, Vorrunde St. Gallen II vs Ruggell (3)
UID:6f0d0492-787c-421a-9fef-515449c92f18
STATUS:CONFIRMED
LAST-MODIFIED:20240904T124301Z
DESCRIPTION:Jugend\, 2. Liga\, Gruppe 6\, Vorrunde\nBegegnungs-Nr: 3\nHeim: St. Gallen II\nGast: Ruggell\n\nAdresse: Zilstrasse 61\, 9016 St.Gallen\n
LOCATION:Zilstrasse 61\, 9016 St.Gallen
CATEGORIES:Saison 2024/25
END:VEVENT
BEGIN:VEVENT
DTSTAMP:20260425T004943Z
DTSTART;TZID=Europe/Berlin:20241116T160000
DTEND;TZID=Europe/Berlin:20241116T190000
SUMMARY:JUG. 2.Liga\, Gr.3\, Zw-Runde St. Gallen II vs Kloten (5)
UID:3a25ea5a-346e-4b88-906b-70d9f639cece
STATUS:CONFIRMED
LAST-MODIFIED:20241126T094430Z
DESCRIPTION:Jugend\, 2. Liga\, Gruppe 3\, Zw-Runde\nBegegnungs-Nr: 5\nHeim: St. Gallen II\nGast: Kloten\n
LOCATION:
CATEGORIES:Saison 2024/25
END:VEVENT
BEGIN:VEVENT
DTSTAMP:20260425T004943Z
DTSTART;TZID=Europe/Berlin:20241116T130000
DTEND;TZID=Europe/Berlin:20241116T160000
SUMMARY:JUG. 2.Liga\, Gr.3\, Zw-Runde St. Gallen II vs Winterthur (2)
UID:0b326f24-29f1-4a4d-8631-b0143871d7f1
STATUS:CONFIRMED
LAST-MODIFIED:20241126T094422Z
DESCRIPTION:Jugend\, 2. Liga\, Gruppe 3\, Zw-Runde\nBegegnungs-Nr: 2\nHeim: St. Gallen II\nGast: Winterthur\n
LOCATION:
CATEGORIES:Saison 2024/25
END:VEVENT
BEGIN:VEVENT
DTSTAMP:20260425T004943Z
DTSTART;TZID=Europe/Berlin:20250329T150000
DTEND;TZID=Europe/Berlin:20250329T180000
SUMMARY:JUG\, 2.Liga\, Gr.1\, Final St. Gallen II vs Rapperswil-Jona II (3)
UID:a75f6f5e-764a-4f74-ae4e-63718bd76baa
STATUS:CONFIRMED
LAST-MODIFIED:20250404T084413Z
DESCRIPTION:Jugend\, 2. Liga\, Gruppe 1\, Final\nBegegnungs-Nr: 3\nHeim: St. Gallen II\nGast: Rapperswil-Jona II\n
LOCATION:
CATEGORIES:Saison 2024/25
END:VEVENT
BEGIN:VEVENT
DTSTAMP:20260425T004943Z
DTSTART;TZID=Europe/Berlin:20240831T160000
DTEND;TZID=Europe/Berlin:20240831T190000
SUMMARY:JUG\, 2.Liga\, Gr.6\, Vorrunde Steckborn-Homburg vs St. Gallen II (5)
UID:e07ce53f-1129-410f-b1df-31bdec6e628b
STATUS:CONFIRMED
LAST-MODIFIED:20240819T112141Z
DESCRIPTION:Jugend\, 2. Liga\, Gruppe 6\, Vorrunde\nBegegnungs-Nr: 5\nHeim: Steckborn-Homburg\nGast: St. Gallen II\n\nAdresse: Feldbach\, 8266 Steckborn\n
LOCATION:Feldbach\, 8266 Steckborn
CATEGORIES:Saison 2024/25
END:VEVENT
BEGIN:VEVENT
DTSTAMP:20260425T004943Z
DTSTART;TZID=Europe/Berlin:20240831T130000
DTEND;TZID=Europe/Berlin:20240831T160000
SUMMARY:JUG\, 2.Liga\, Gr.6\, Vorrunde Herisau vs St. Gallen II (1)
UID:62bc85e7-78dc-4f4a-9ba4-549bdc974ef8
STATUS:CONFIRMED
LAST-MODIFIED:20240904T124227Z
DESCRIPTION:Jugend\, 2. Liga\, Gruppe 6\, Vorrunde\nBegegnungs-Nr: 1\nHeim: Herisau\nGast: St. Gallen II\n
LOCATION:
CATEGORIES:Saison 2024/25
END:VEVENT
BEGIN:VEVENT
DTSTAMP:20260425T004943Z
DTSTART;TZID=Europe/Berlin:20241116T143000
DTEND;TZID=Europe/Berlin:20241116T173000
SUMMARY:JUG. 2.Liga\, Gr.3\, Zw-Runde Young Stars ZH IV vs St. Gallen II (4)
UID:7e8ad716-395b-4533-b0c8-e0e9bad762a1
STATUS:CONFIRMED
LAST-MODIFIED:20241122T152516Z
DESCRIPTION:Jugend\, 2. Liga\, Gruppe 3\, Zw-Runde\nBegegnungs-Nr: 4\nHeim: Young Stars ZH IV\nGast: St. Gallen II\n
LOCATION:
CATEGORIES:Saison 2024/25
END:VEVENT
BEGIN:VEVENT
DTSTAMP:20260425T004943Z
DTSTART;TZID=Europe/Berlin:20250329T133000
DTEND;TZID=Europe/Berlin:20250329T163000
SUMMARY:JUG\, 2.Liga\, Gr.1\, Final Kloten vs St. Gallen II (1)
UID:32ffc472-6578-4321-810a-6ee1e806def0
STATUS:CONFIRMED
LAST-MODIFIED:20250404T084351Z
DESCRIPTION:Jugend\, 2. Liga\, Gruppe 1\, Final\nBegegnungs-Nr: 1\nHeim: Kloten\nGast: St. Gallen II\nHalle: Poule in Kloten\, Schluefweg\nAdresse: Schluefweg 10\, 8302 Kloten\n
LOCATION:Poule in Kloten\, Schluefweg Schluefweg 10\, 8302 Kloten
CATEGORIES:Saison 2024/25
END:VEVENT
BEGIN:VEVENT
DTSTAMP:20260425T004943Z
DTSTART;TZID=Europe/Berlin:20250329T163000
DTEND;TZID=Europe/Berlin:20250329T193000
SUMMARY:JUG\, 2.Liga\, Gr.1\, Final Zürich-Affoltern vs St. Gallen II (5)
UID:f7c42782-6f5b-41ed-abe1-bc261d9d3557
STATUS:CONFIRMED
LAST-MODIFIED:20250404T084434Z
DESCRIPTION:Jugend\, 2. Liga\, Gruppe 1\, Final\nBegegnungs-Nr: 5\nHeim: Zürich-Affoltern\nGast: St. Gallen II\n
LOCATION:
CATEGORIES:Saison 2024/25
END:VEVENT
END:VCALENDAR
