BEGIN:VCALENDAR
PRODID:-//nuDatenautomaten//framework iCal4j //DE
VERSION:2.0
CALSCALE:GREGORIAN
BEGIN:VTIMEZONE
TZID:Europe/Berlin
LAST-MODIFIED:20260306T231828Z
TZURL:https://www.tzurl.org/zoneinfo/Europe/Berlin
X-LIC-LOCATION:Europe/Berlin
X-PROLEPTIC-TZNAME:LMT
BEGIN:STANDARD
TZNAME:CET
TZOFFSETFROM:+005328
TZOFFSETTO:+0100
DTSTART:18930401T000000
END:STANDARD
BEGIN:DAYLIGHT
TZNAME:CEST
TZOFFSETFROM:+0100
TZOFFSETTO:+0200
DTSTART:19160430T230000
RDATE:19400401T020000
RDATE:19430329T020000
RDATE:19460414T020000
RDATE:19470406T030000
RDATE:19480418T020000
RDATE:19490410T020000
RDATE:19800406T020000
END:DAYLIGHT
BEGIN:STANDARD
TZNAME:CET
TZOFFSETFROM:+0200
TZOFFSETTO:+0100
DTSTART:19161001T010000
RDATE:19421102T030000
RDATE:19431004T030000
RDATE:19441002T030000
RDATE:19451118T030000
RDATE:19461007T030000
END:STANDARD
BEGIN:DAYLIGHT
TZNAME:CEST
TZOFFSETFROM:+0100
TZOFFSETTO:+0200
DTSTART:19170416T020000
RRULE:FREQ=YEARLY;UNTIL=19180415T010000Z;BYMONTH=4;BYDAY=3MO
END:DAYLIGHT
BEGIN:STANDARD
TZNAME:CET
TZOFFSETFROM:+0200
TZOFFSETTO:+0100
DTSTART:19170917T030000
RRULE:FREQ=YEARLY;UNTIL=19180916T010000Z;BYMONTH=9;BYDAY=3MO
END:STANDARD
BEGIN:DAYLIGHT
TZNAME:CEST
TZOFFSETFROM:+0100
TZOFFSETTO:+0200
DTSTART:19440403T020000
RRULE:FREQ=YEARLY;UNTIL=19450402T010000Z;BYMONTH=4;BYDAY=1MO
END:DAYLIGHT
BEGIN:DAYLIGHT
TZNAME:CEMT
TZOFFSETFROM:+0200
TZOFFSETTO:+0300
DTSTART:19450524T020000
RDATE:19470511T030000
END:DAYLIGHT
BEGIN:DAYLIGHT
TZNAME:CEST
TZOFFSETFROM:+0300
TZOFFSETTO:+0200
DTSTART:19450924T030000
RDATE:19470629T030000
END:DAYLIGHT
BEGIN:STANDARD
TZNAME:CET
TZOFFSETFROM:+0100
TZOFFSETTO:+0100
DTSTART:19460101T000000
RDATE:19800101T000000
END:STANDARD
BEGIN:STANDARD
TZNAME:CET
TZOFFSETFROM:+0200
TZOFFSETTO:+0100
DTSTART:19471005T030000
RRULE:FREQ=YEARLY;UNTIL=19491002T010000Z;BYMONTH=10;BYDAY=1SU
END:STANDARD
BEGIN:STANDARD
TZNAME:CET
TZOFFSETFROM:+0200
TZOFFSETTO:+0100
DTSTART:19800928T030000
RRULE:FREQ=YEARLY;UNTIL=19950924T010000Z;BYMONTH=9;BYDAY=-1SU
END:STANDARD
BEGIN:DAYLIGHT
TZNAME:CEST
TZOFFSETFROM:+0100
TZOFFSETTO:+0200
DTSTART:19810329T020000
RRULE:FREQ=YEARLY;BYMONTH=3;BYDAY=-1SU
END:DAYLIGHT
BEGIN:STANDARD
TZNAME:CET
TZOFFSETFROM:+0200
TZOFFSETTO:+0100
DTSTART:19961027T030000
RRULE:FREQ=YEARLY;BYMONTH=10;BYDAY=-1SU
END:STANDARD
END:VTIMEZONE
BEGIN:VEVENT
DTSTAMP:20260425T004231Z
DTSTART;TZID=Europe/Berlin:20250604T200000
DTEND;TZID=Europe/Berlin:20250604T230000
SUMMARY:Ligue 3 Titre ZZ-Lancy III vs Onex III (3)
UID:7b61eafe-4faf-4754-9800-0596bf40123f
STATUS:CONFIRMED
LAST-MODIFIED:20250605T121605Z
DESCRIPTION:3ème ligue O40 Titre\nBegegnungs-Nr: 3\nHeim: ZZ-Lancy III\nGast: Onex III\n
LOCATION:
CATEGORIES:Saison 2024/25
END:VEVENT
BEGIN:VEVENT
DTSTAMP:20260425T004231Z
DTSTART;TZID=Europe/Berlin:20250521T201500
DTEND;TZID=Europe/Berlin:20250521T231500
SUMMARY:Ligue 3 Titre ZZ-Lancy III vs UGS-Chênois III (1)
UID:c0714ed2-df58-426a-8331-20b6b8390a83
STATUS:CONFIRMED
LAST-MODIFIED:20250522T155751Z
DESCRIPTION:3ème ligue O40 Titre\nBegegnungs-Nr: 1\nHeim: ZZ-Lancy III\nGast: UGS-Chênois III\n
LOCATION:
CATEGORIES:Saison 2024/25
END:VEVENT
BEGIN:VEVENT
DTSTAMP:20260425T004231Z
DTSTART;TZID=Europe/Berlin:20240904T201500
DTEND;TZID=Europe/Berlin:20240904T231500
SUMMARY:Ligue 3 Gr.1 ZZ-Lancy III vs Collex-Bossy (1)
UID:24de4a8b-25dc-4a07-9088-38895007fbea
STATUS:CONFIRMED
LAST-MODIFIED:20240905T122307Z
DESCRIPTION:3ème ligue O40 1er Groupe\nBegegnungs-Nr: 1\nHeim: ZZ-Lancy III\nGast: Collex-Bossy\n
LOCATION:
CATEGORIES:Saison 2024/25
END:VEVENT
BEGIN:VEVENT
DTSTAMP:20260425T004231Z
DTSTART;TZID=Europe/Berlin:20241218T201500
DTEND;TZID=Europe/Berlin:20241218T231500
SUMMARY:Ligue 3 Gr.1 ZZ-Lancy III vs Rapid-Genève II (13)
UID:c8affdb2-016b-4523-adb6-835fb17dc07d
STATUS:CONFIRMED
LAST-MODIFIED:20241219T152703Z
DESCRIPTION:3ème ligue O40 1er Groupe\nBegegnungs-Nr: 13\nHeim: ZZ-Lancy III\nGast: Rapid-Genève II\n
LOCATION:
CATEGORIES:Saison 2024/25
END:VEVENT
BEGIN:VEVENT
DTSTAMP:20260425T004231Z
DTSTART;TZID=Europe/Berlin:20241106T201500
DTEND;TZID=Europe/Berlin:20241106T231500
SUMMARY:Ligue 3 Gr.1 ZZ-Lancy III vs Châtelaine IV (7)
UID:d4ab6d99-7b91-4795-a560-61785854d4cd
STATUS:CONFIRMED
LAST-MODIFIED:20241107T084034Z
DESCRIPTION:3ème ligue O40 1er Groupe\nBegegnungs-Nr: 7\nHeim: ZZ-Lancy III\nGast: Châtelaine IV\n
LOCATION:
CATEGORIES:Saison 2024/25
END:VEVENT
BEGIN:VEVENT
DTSTAMP:20260425T004231Z
DTSTART;TZID=Europe/Berlin:20250326T201500
DTEND;TZID=Europe/Berlin:20250326T231500
SUMMARY:Ligue 3 Gr.1 ZZ-Lancy III vs Versoix II (25)
UID:cb482d6a-8aca-4564-bd9c-fc76983b0dd7
STATUS:CONFIRMED
LAST-MODIFIED:20250327T084251Z
DESCRIPTION:3ème ligue O40 1er Groupe\nBegegnungs-Nr: 25\nHeim: ZZ-Lancy III\nGast: Versoix II\n
LOCATION:
CATEGORIES:Saison 2024/25
END:VEVENT
BEGIN:VEVENT
DTSTAMP:20260425T004231Z
DTSTART;TZID=Europe/Berlin:20250528T200000
DTEND;TZID=Europe/Berlin:20250528T230000
SUMMARY:Ligue 3 Titre Grand-Saconnex vs ZZ-Lancy III (1)
UID:25a40ddf-4e7f-461f-a933-319723237d95
STATUS:CONFIRMED
LAST-MODIFIED:20250529T071539Z
DESCRIPTION:3ème ligue O40 Titre\nBegegnungs-Nr: 1\nHeim: Grand-Saconnex\nGast: ZZ-Lancy III\n
LOCATION:
CATEGORIES:Saison 2024/25
END:VEVENT
BEGIN:VEVENT
DTSTAMP:20260425T004231Z
DTSTART;TZID=Europe/Berlin:20250107T194500
DTEND;TZID=Europe/Berlin:20250107T224500
SUMMARY:Ligue 3 Gr.1 Collex-Bossy vs ZZ-Lancy III (16)
UID:c5f93221-2fc3-4322-ace8-f3d5ccde27f9
STATUS:CONFIRMED
LAST-MODIFIED:20250108T093915Z
DESCRIPTION:3ème ligue O40 1er Groupe\nBegegnungs-Nr: 16\nHeim: Collex-Bossy\nGast: ZZ-Lancy III\n
LOCATION:
CATEGORIES:Saison 2024/25
END:VEVENT
BEGIN:VEVENT
DTSTAMP:20260425T004231Z
DTSTART;TZID=Europe/Berlin:20241211T194500
DTEND;TZID=Europe/Berlin:20241211T224500
SUMMARY:Ligue 3 Gr.1 Versoix II vs ZZ-Lancy III (10)
UID:5db70e44-80d2-441c-9c73-90cac98469d3
STATUS:CONFIRMED
LAST-MODIFIED:20241212T102404Z
DESCRIPTION:3ème ligue O40 1er Groupe\nBegegnungs-Nr: 10\nHeim: Versoix II\nGast: ZZ-Lancy III\n
LOCATION:
CATEGORIES:Saison 2024/25
END:VEVENT
BEGIN:VEVENT
DTSTAMP:20260425T004231Z
DTSTART;TZID=Europe/Berlin:20250507T194500
DTEND;TZID=Europe/Berlin:20250507T224500
SUMMARY:Ligue 3 Gr.1 Rapid-Genève II vs ZZ-Lancy III (28)
UID:fd28e992-bcb5-4c7a-9be9-2024be9b6ba0
STATUS:CONFIRMED
LAST-MODIFIED:20250508T100156Z
DESCRIPTION:3ème ligue O40 1er Groupe\nBegegnungs-Nr: 28\nHeim: Rapid-Genève II\nGast: ZZ-Lancy III\n
LOCATION:
CATEGORIES:Saison 2024/25
END:VEVENT
BEGIN:VEVENT
DTSTAMP:20260425T004231Z
DTSTART;TZID=Europe/Berlin:20250305T194500
DTEND;TZID=Europe/Berlin:20250305T224500
SUMMARY:Ligue 3 Gr.1 Châtelaine IV vs ZZ-Lancy III (22)
UID:e09ef630-3279-40df-9268-6edda920d00e
STATUS:CONFIRMED
LAST-MODIFIED:20250306T124500Z
DESCRIPTION:3ème ligue O40 1er Groupe\nBegegnungs-Nr: 22\nHeim: Châtelaine IV\nGast: ZZ-Lancy III\n
LOCATION:
CATEGORIES:Saison 2024/25
END:VEVENT
END:VCALENDAR
