BEGIN:VCALENDAR
PRODID:-//nuDatenautomaten//framework iCal4j //DE
VERSION:2.0
CALSCALE:GREGORIAN
BEGIN:VTIMEZONE
TZID:Europe/Berlin
LAST-MODIFIED:20260306T231828Z
TZURL:https://www.tzurl.org/zoneinfo/Europe/Berlin
X-LIC-LOCATION:Europe/Berlin
X-PROLEPTIC-TZNAME:LMT
BEGIN:STANDARD
TZNAME:CET
TZOFFSETFROM:+005328
TZOFFSETTO:+0100
DTSTART:18930401T000000
END:STANDARD
BEGIN:DAYLIGHT
TZNAME:CEST
TZOFFSETFROM:+0100
TZOFFSETTO:+0200
DTSTART:19160430T230000
RDATE:19400401T020000
RDATE:19430329T020000
RDATE:19460414T020000
RDATE:19470406T030000
RDATE:19480418T020000
RDATE:19490410T020000
RDATE:19800406T020000
END:DAYLIGHT
BEGIN:STANDARD
TZNAME:CET
TZOFFSETFROM:+0200
TZOFFSETTO:+0100
DTSTART:19161001T010000
RDATE:19421102T030000
RDATE:19431004T030000
RDATE:19441002T030000
RDATE:19451118T030000
RDATE:19461007T030000
END:STANDARD
BEGIN:DAYLIGHT
TZNAME:CEST
TZOFFSETFROM:+0100
TZOFFSETTO:+0200
DTSTART:19170416T020000
RRULE:FREQ=YEARLY;UNTIL=19180415T010000Z;BYMONTH=4;BYDAY=3MO
END:DAYLIGHT
BEGIN:STANDARD
TZNAME:CET
TZOFFSETFROM:+0200
TZOFFSETTO:+0100
DTSTART:19170917T030000
RRULE:FREQ=YEARLY;UNTIL=19180916T010000Z;BYMONTH=9;BYDAY=3MO
END:STANDARD
BEGIN:DAYLIGHT
TZNAME:CEST
TZOFFSETFROM:+0100
TZOFFSETTO:+0200
DTSTART:19440403T020000
RRULE:FREQ=YEARLY;UNTIL=19450402T010000Z;BYMONTH=4;BYDAY=1MO
END:DAYLIGHT
BEGIN:DAYLIGHT
TZNAME:CEMT
TZOFFSETFROM:+0200
TZOFFSETTO:+0300
DTSTART:19450524T020000
RDATE:19470511T030000
END:DAYLIGHT
BEGIN:DAYLIGHT
TZNAME:CEST
TZOFFSETFROM:+0300
TZOFFSETTO:+0200
DTSTART:19450924T030000
RDATE:19470629T030000
END:DAYLIGHT
BEGIN:STANDARD
TZNAME:CET
TZOFFSETFROM:+0100
TZOFFSETTO:+0100
DTSTART:19460101T000000
RDATE:19800101T000000
END:STANDARD
BEGIN:STANDARD
TZNAME:CET
TZOFFSETFROM:+0200
TZOFFSETTO:+0100
DTSTART:19471005T030000
RRULE:FREQ=YEARLY;UNTIL=19491002T010000Z;BYMONTH=10;BYDAY=1SU
END:STANDARD
BEGIN:STANDARD
TZNAME:CET
TZOFFSETFROM:+0200
TZOFFSETTO:+0100
DTSTART:19800928T030000
RRULE:FREQ=YEARLY;UNTIL=19950924T010000Z;BYMONTH=9;BYDAY=-1SU
END:STANDARD
BEGIN:DAYLIGHT
TZNAME:CEST
TZOFFSETFROM:+0100
TZOFFSETTO:+0200
DTSTART:19810329T020000
RRULE:FREQ=YEARLY;BYMONTH=3;BYDAY=-1SU
END:DAYLIGHT
BEGIN:STANDARD
TZNAME:CET
TZOFFSETFROM:+0200
TZOFFSETTO:+0100
DTSTART:19961027T030000
RRULE:FREQ=YEARLY;BYMONTH=10;BYDAY=-1SU
END:STANDARD
END:VTIMEZONE
BEGIN:VEVENT
DTSTAMP:20260425T005110Z
DTSTART;TZID=Europe/Berlin:20241107T200000
DTEND;TZID=Europe/Berlin:20241107T230000
SUMMARY:HE 4. Liga Gr. 2 Weinfelden II vs Wil SG IV (0)
UID:e53bc35f-717d-401b-8cb0-e4aec9722edc
STATUS:CONFIRMED
LAST-MODIFIED:20241126T082509Z
DESCRIPTION:4. Liga Herren Gruppe 2\nBegegnungs-Nr: 0\nHeim: Weinfelden II\nGast: Wil SG IV\n\nAdresse: Bleichestrasse 3 (neben Hallenbad)\, 8570 Weinfelden\n
LOCATION:Bleichestrasse 3 (neben Hallenbad)\, 8570 Weinfelden
CATEGORIES:Saison 2024/25
END:VEVENT
BEGIN:VEVENT
DTSTAMP:20260425T005110Z
DTSTART;TZID=Europe/Berlin:20240919T200000
DTEND;TZID=Europe/Berlin:20240919T230000
SUMMARY:HE 4. Liga Gr. 2 Weinfelden II vs Gossau St.Gallen (0)
UID:6c19c80d-7e37-49f2-9d6d-69fed046895e
STATUS:CONFIRMED
LAST-MODIFIED:20240920T135825Z
DESCRIPTION:4. Liga Herren Gruppe 2\nBegegnungs-Nr: 0\nHeim: Weinfelden II\nGast: Gossau St.Gallen\n\nAdresse: Bleichestrasse 3 (neben Hallenbad)\, 8570 Weinfelden\n
LOCATION:Bleichestrasse 3 (neben Hallenbad)\, 8570 Weinfelden
CATEGORIES:Saison 2024/25
END:VEVENT
BEGIN:VEVENT
DTSTAMP:20260425T005110Z
DTSTART;TZID=Europe/Berlin:20241003T200000
DTEND;TZID=Europe/Berlin:20241003T230000
SUMMARY:HE 4. Liga Gr. 2 Weinfelden II vs Bronschhofen III (0)
UID:95f2e8df-9ec5-4e78-a95a-0d0bae5902d9
STATUS:CONFIRMED
LAST-MODIFIED:20241004T080440Z
DESCRIPTION:4. Liga Herren Gruppe 2\nBegegnungs-Nr: 0\nHeim: Weinfelden II\nGast: Bronschhofen III\n\nAdresse: Bleichestrasse 3 (neben Hallenbad)\, 8570 Weinfelden\n
LOCATION:Bleichestrasse 3 (neben Hallenbad)\, 8570 Weinfelden
CATEGORIES:Saison 2024/25
END:VEVENT
BEGIN:VEVENT
DTSTAMP:20260425T005110Z
DTSTART;TZID=Europe/Berlin:20250327T200000
DTEND;TZID=Europe/Berlin:20250327T230000
SUMMARY:HE 4. Liga Gr. 2 Weinfelden II vs Winterthur IV (0)
UID:239c0192-205a-4aa7-a40c-d5a1eb35e8df
STATUS:CONFIRMED
LAST-MODIFIED:20250404T082910Z
DESCRIPTION:4. Liga Herren Gruppe 2\nBegegnungs-Nr: 0\nHeim: Weinfelden II\nGast: Winterthur IV\n\nAdresse: Bleichestrasse 3 (neben Hallenbad)\, 8570 Weinfelden\n
LOCATION:Bleichestrasse 3 (neben Hallenbad)\, 8570 Weinfelden
CATEGORIES:Saison 2024/25
END:VEVENT
BEGIN:VEVENT
DTSTAMP:20260425T005110Z
DTSTART;TZID=Europe/Berlin:20250306T200000
DTEND;TZID=Europe/Berlin:20250306T230000
SUMMARY:HE 4. Liga Gr. 2 Weinfelden II vs Wuppenau II (0)
UID:95116963-59a1-4b3b-8250-de18d54e759a
STATUS:CONFIRMED
LAST-MODIFIED:20250307T080718Z
DESCRIPTION:4. Liga Herren Gruppe 2\nBegegnungs-Nr: 0\nHeim: Weinfelden II\nGast: Wuppenau II\n\nAdresse: Bleichestrasse 3 (neben Hallenbad)\, 8570 Weinfelden\n
LOCATION:Bleichestrasse 3 (neben Hallenbad)\, 8570 Weinfelden
CATEGORIES:Saison 2024/25
END:VEVENT
BEGIN:VEVENT
DTSTAMP:20260425T005110Z
DTSTART;TZID=Europe/Berlin:20250213T200000
DTEND;TZID=Europe/Berlin:20250213T230000
SUMMARY:HE 4. Liga Gr. 2 Weinfelden II vs Ettenhausen II (0)
UID:a7b596cd-56b9-4ff8-aa0d-c6c7952c4e7d
STATUS:CONFIRMED
LAST-MODIFIED:20250219T112940Z
DESCRIPTION:4. Liga Herren Gruppe 2\nBegegnungs-Nr: 0\nHeim: Weinfelden II\nGast: Ettenhausen II\n\nAdresse: Bleichestrasse 3 (neben Hallenbad)\, 8570 Weinfelden\n
LOCATION:Bleichestrasse 3 (neben Hallenbad)\, 8570 Weinfelden
CATEGORIES:Saison 2024/25
END:VEVENT
BEGIN:VEVENT
DTSTAMP:20260425T005110Z
DTSTART;TZID=Europe/Berlin:20250123T200000
DTEND;TZID=Europe/Berlin:20250123T230000
SUMMARY:HE 4. Liga Gr. 2 Weinfelden II vs Steckborn-Homburg III (0)
UID:455d6959-1b26-471c-8759-a94ab3ea9d3e
STATUS:CONFIRMED
LAST-MODIFIED:20250129T111658Z
DESCRIPTION:4. Liga Herren Gruppe 2\nBegegnungs-Nr: 0\nHeim: Weinfelden II\nGast: Steckborn-Homburg III\n\nAdresse: Bleichestrasse 3 (neben Hallenbad)\, 8570 Weinfelden\n
LOCATION:Bleichestrasse 3 (neben Hallenbad)\, 8570 Weinfelden
CATEGORIES:Saison 2024/25
END:VEVENT
BEGIN:VEVENT
DTSTAMP:20260425T005110Z
DTSTART;TZID=Europe/Berlin:20241205T200000
DTEND;TZID=Europe/Berlin:20241205T230000
SUMMARY:HE 4. Liga Gr. 2 Winterthur IV vs Weinfelden II (0)
UID:d0281a72-eef6-473e-a0da-10c2b618392b
STATUS:CONFIRMED
LAST-MODIFIED:20241211T090348Z
DESCRIPTION:4. Liga Herren Gruppe 2\nBegegnungs-Nr: 0\nHeim: Winterthur IV\nGast: Weinfelden II\n\nAdresse: Buchackerstrasse 54\, 8400 Winterthur\n
LOCATION:Buchackerstrasse 54\, 8400 Winterthur
CATEGORIES:Saison 2024/25
END:VEVENT
BEGIN:VEVENT
DTSTAMP:20260425T005110Z
DTSTART;TZID=Europe/Berlin:20241115T200000
DTEND;TZID=Europe/Berlin:20241115T230000
SUMMARY:HE 4. Liga Gr. 2 Wuppenau II vs Weinfelden II (0)
UID:a5a87bb4-753e-4ad6-b20d-00e51451e5e8
STATUS:CONFIRMED
LAST-MODIFIED:20241126T082544Z
DESCRIPTION:4. Liga Herren Gruppe 2\nBegegnungs-Nr: 0\nHeim: Wuppenau II\nGast: Weinfelden II\n\nAdresse: Nollenstrasse\, 9514 Wuppenau\n
LOCATION:Nollenstrasse\, 9514 Wuppenau
CATEGORIES:Saison 2024/25
END:VEVENT
BEGIN:VEVENT
DTSTAMP:20260425T005110Z
DTSTART;TZID=Europe/Berlin:20240918T201500
DTEND;TZID=Europe/Berlin:20240918T231500
SUMMARY:HE 4. Liga Gr. 2 Ettenhausen II vs Weinfelden II (0)
UID:6be836d8-f7fc-4813-b1eb-e181eba9c63f
STATUS:CONFIRMED
LAST-MODIFIED:20240919T151133Z
DESCRIPTION:4. Liga Herren Gruppe 2\nBegegnungs-Nr: 0\nHeim: Ettenhausen II\nGast: Weinfelden II\n\nAdresse: Weidlistrasse 12\, 8356 Ettenhausen\n
LOCATION:Weidlistrasse 12\, 8356 Ettenhausen
CATEGORIES:Saison 2024/25
END:VEVENT
BEGIN:VEVENT
DTSTAMP:20260425T005110Z
DTSTART;TZID=Europe/Berlin:20240904T200000
DTEND;TZID=Europe/Berlin:20240904T230000
SUMMARY:HE 4. Liga Gr. 2 Steckborn-Homburg III vs Weinfelden II (0)
UID:68198b9c-3f21-4adb-b7d3-60b0099351d7
STATUS:CONFIRMED
LAST-MODIFIED:20240906T095716Z
DESCRIPTION:4. Liga Herren Gruppe 2\nBegegnungs-Nr: 0\nHeim: Steckborn-Homburg III\nGast: Weinfelden II\n\nAdresse: Schulstrasse 4\, 8508 Unterhörstetten\n
LOCATION:Schulstrasse 4\, 8508 Unterhörstetten
CATEGORIES:Saison 2024/25
END:VEVENT
BEGIN:VEVENT
DTSTAMP:20260425T005110Z
DTSTART;TZID=Europe/Berlin:20250311T201500
DTEND;TZID=Europe/Berlin:20250311T231500
SUMMARY:HE 4. Liga Gr. 2 Wil SG IV vs Weinfelden II (0)
UID:188c1a37-44e8-47ee-b0da-65c675f5605a
STATUS:CONFIRMED
LAST-MODIFIED:20250312T145509Z
DESCRIPTION:4. Liga Herren Gruppe 2\nBegegnungs-Nr: 0\nHeim: Wil SG IV\nGast: Weinfelden II\n\nAdresse: Lindenhofstr. 23\, 9500 Wil\n
LOCATION:Lindenhofstr. 23\, 9500 Wil
CATEGORIES:Saison 2024/25
END:VEVENT
BEGIN:VEVENT
DTSTAMP:20260425T005110Z
DTSTART;TZID=Europe/Berlin:20250127T200000
DTEND;TZID=Europe/Berlin:20250127T230000
SUMMARY:HE 4. Liga Gr. 2 Gossau St.Gallen vs Weinfelden II (0)
UID:225e8f58-ced0-4060-a63c-30dcc154e3ac
STATUS:CONFIRMED
LAST-MODIFIED:20250129T111738Z
DESCRIPTION:4. Liga Herren Gruppe 2\nBegegnungs-Nr: 0\nHeim: Gossau St.Gallen\nGast: Weinfelden II\n\nAdresse: Falkenstrasse 21\, 9200 Gossau\n
LOCATION:Falkenstrasse 21\, 9200 Gossau
CATEGORIES:Saison 2024/25
END:VEVENT
BEGIN:VEVENT
DTSTAMP:20260425T005110Z
DTSTART;TZID=Europe/Berlin:20250106T200000
DTEND;TZID=Europe/Berlin:20250106T230000
SUMMARY:HE 4. Liga Gr. 2 Bronschhofen III vs Weinfelden II (0)
UID:67fa341f-457c-4703-b394-df08f535485e
STATUS:CONFIRMED
LAST-MODIFIED:20250110T150915Z
DESCRIPTION:4. Liga Herren Gruppe 2\nBegegnungs-Nr: 0\nHeim: Bronschhofen III\nGast: Weinfelden II\n\nAdresse: Schulstrasse 6\, 9552 Bronschhofen\n
LOCATION:Schulstrasse 6\, 9552 Bronschhofen
CATEGORIES:Saison 2024/25
END:VEVENT
END:VCALENDAR
