BEGIN:VCALENDAR
PRODID:-//nuDatenautomaten//framework iCal4j //DE
VERSION:2.0
CALSCALE:GREGORIAN
BEGIN:VTIMEZONE
TZID:Europe/Berlin
LAST-MODIFIED:20260306T231828Z
TZURL:https://www.tzurl.org/zoneinfo/Europe/Berlin
X-LIC-LOCATION:Europe/Berlin
X-PROLEPTIC-TZNAME:LMT
BEGIN:STANDARD
TZNAME:CET
TZOFFSETFROM:+005328
TZOFFSETTO:+0100
DTSTART:18930401T000000
END:STANDARD
BEGIN:DAYLIGHT
TZNAME:CEST
TZOFFSETFROM:+0100
TZOFFSETTO:+0200
DTSTART:19160430T230000
RDATE:19400401T020000
RDATE:19430329T020000
RDATE:19460414T020000
RDATE:19470406T030000
RDATE:19480418T020000
RDATE:19490410T020000
RDATE:19800406T020000
END:DAYLIGHT
BEGIN:STANDARD
TZNAME:CET
TZOFFSETFROM:+0200
TZOFFSETTO:+0100
DTSTART:19161001T010000
RDATE:19421102T030000
RDATE:19431004T030000
RDATE:19441002T030000
RDATE:19451118T030000
RDATE:19461007T030000
END:STANDARD
BEGIN:DAYLIGHT
TZNAME:CEST
TZOFFSETFROM:+0100
TZOFFSETTO:+0200
DTSTART:19170416T020000
RRULE:FREQ=YEARLY;UNTIL=19180415T010000Z;BYMONTH=4;BYDAY=3MO
END:DAYLIGHT
BEGIN:STANDARD
TZNAME:CET
TZOFFSETFROM:+0200
TZOFFSETTO:+0100
DTSTART:19170917T030000
RRULE:FREQ=YEARLY;UNTIL=19180916T010000Z;BYMONTH=9;BYDAY=3MO
END:STANDARD
BEGIN:DAYLIGHT
TZNAME:CEST
TZOFFSETFROM:+0100
TZOFFSETTO:+0200
DTSTART:19440403T020000
RRULE:FREQ=YEARLY;UNTIL=19450402T010000Z;BYMONTH=4;BYDAY=1MO
END:DAYLIGHT
BEGIN:DAYLIGHT
TZNAME:CEMT
TZOFFSETFROM:+0200
TZOFFSETTO:+0300
DTSTART:19450524T020000
RDATE:19470511T030000
END:DAYLIGHT
BEGIN:DAYLIGHT
TZNAME:CEST
TZOFFSETFROM:+0300
TZOFFSETTO:+0200
DTSTART:19450924T030000
RDATE:19470629T030000
END:DAYLIGHT
BEGIN:STANDARD
TZNAME:CET
TZOFFSETFROM:+0100
TZOFFSETTO:+0100
DTSTART:19460101T000000
RDATE:19800101T000000
END:STANDARD
BEGIN:STANDARD
TZNAME:CET
TZOFFSETFROM:+0200
TZOFFSETTO:+0100
DTSTART:19471005T030000
RRULE:FREQ=YEARLY;UNTIL=19491002T010000Z;BYMONTH=10;BYDAY=1SU
END:STANDARD
BEGIN:STANDARD
TZNAME:CET
TZOFFSETFROM:+0200
TZOFFSETTO:+0100
DTSTART:19800928T030000
RRULE:FREQ=YEARLY;UNTIL=19950924T010000Z;BYMONTH=9;BYDAY=-1SU
END:STANDARD
BEGIN:DAYLIGHT
TZNAME:CEST
TZOFFSETFROM:+0100
TZOFFSETTO:+0200
DTSTART:19810329T020000
RRULE:FREQ=YEARLY;BYMONTH=3;BYDAY=-1SU
END:DAYLIGHT
BEGIN:STANDARD
TZNAME:CET
TZOFFSETFROM:+0200
TZOFFSETTO:+0100
DTSTART:19961027T030000
RRULE:FREQ=YEARLY;BYMONTH=10;BYDAY=-1SU
END:STANDARD
END:VTIMEZONE
BEGIN:VEVENT
DTSTAMP:20260425T022255Z
DTSTART;TZID=Europe/Berlin:20241130T143000
DTEND;TZID=Europe/Berlin:20241130T173000
SUMMARY:JUG 1. Liga\, Gr. 1\, VR St. Gallen vs Chur (3)
UID:42300827-6f79-47a7-a417-19e8d15bb7fd
STATUS:CONFIRMED
LAST-MODIFIED:20241126T210651Z
DESCRIPTION:1. Liga Jugend\, Gruppe 1\, Vorrunde\nBegegnungs-Nr: 3\nHeim: St. Gallen\nGast: Chur\n
LOCATION:
CATEGORIES:Saison 2024/25
END:VEVENT
BEGIN:VEVENT
DTSTAMP:20260425T022255Z
DTSTART;TZID=Europe/Berlin:20250301T160000
DTEND;TZID=Europe/Berlin:20250301T190000
SUMMARY:JUG 1.Liga\, Gr.1\, Final St. Gallen vs Young Stars ZH II (5)
UID:31d22ff9-768e-4b7a-be97-c8ba3870650f
STATUS:CONFIRMED
LAST-MODIFIED:20250306T143436Z
DESCRIPTION:1. Liga Jugend\, Gruppe 1\, Final\nBegegnungs-Nr: 5\nHeim: St. Gallen\nGast: Young Stars ZH II\n\nAdresse: Zilstrasse 61\, 9016 St.Gallen\n
LOCATION:Zilstrasse 61\, 9016 St.Gallen
CATEGORIES:Saison 2024/25
END:VEVENT
BEGIN:VEVENT
DTSTAMP:20260425T022255Z
DTSTART;TZID=Europe/Berlin:20250301T130000
DTEND;TZID=Europe/Berlin:20250301T160000
SUMMARY:JUG 1.Liga\, Gr.1\, Final St. Gallen vs Uster (2)
UID:c599dfe5-4054-47a5-af9f-44428207cdc0
STATUS:CONFIRMED
LAST-MODIFIED:20250306T143405Z
DESCRIPTION:1. Liga Jugend\, Gruppe 1\, Final\nBegegnungs-Nr: 2\nHeim: St. Gallen\nGast: Uster\n\nAdresse: Zilstrasse 61\, 9016 St.Gallen\n
LOCATION:Zilstrasse 61\, 9016 St.Gallen
CATEGORIES:Saison 2024/25
END:VEVENT
BEGIN:VEVENT
DTSTAMP:20260425T022255Z
DTSTART;TZID=Europe/Berlin:20241130T130000
DTEND;TZID=Europe/Berlin:20241130T160000
SUMMARY:JUG 1. Liga\, Gr. 1\, VR Young Stars ZH II vs St. Gallen (5)
UID:165ba852-a450-4338-b35d-253b9c91bf6a
STATUS:CONFIRMED
LAST-MODIFIED:20241211T110805Z
DESCRIPTION:1. Liga Jugend\, Gruppe 1\, Vorrunde\nBegegnungs-Nr: 5\nHeim: Young Stars ZH II\nGast: St. Gallen\n
LOCATION:
CATEGORIES:Saison 2024/25
END:VEVENT
BEGIN:VEVENT
DTSTAMP:20260425T022255Z
DTSTART;TZID=Europe/Berlin:20241130T130000
DTEND;TZID=Europe/Berlin:20241130T160000
SUMMARY:JUG 1. Liga\, Gr. 1\, VR Rapperswil-Jona vs St. Gallen (2)
UID:86d2f35b-79dd-4c92-9dea-d63ade090296
STATUS:CONFIRMED
LAST-MODIFIED:20241126T210752Z
DESCRIPTION:1. Liga Jugend\, Gruppe 1\, Vorrunde\nBegegnungs-Nr: 2\nHeim: Rapperswil-Jona\nGast: St. Gallen\n
LOCATION:
CATEGORIES:Saison 2024/25
END:VEVENT
BEGIN:VEVENT
DTSTAMP:20260425T022255Z
DTSTART;TZID=Europe/Berlin:20250301T151500
DTEND;TZID=Europe/Berlin:20250301T181500
SUMMARY:JUG 1.Liga\, Gr.1\, Final Young Stars ZH vs St. Gallen (4)
UID:e87c9a85-3750-4294-8329-52a7520eead1
STATUS:CONFIRMED
LAST-MODIFIED:20250311T160302Z
DESCRIPTION:1. Liga Jugend\, Gruppe 1\, Final\nBegegnungs-Nr: 4\nHeim: Young Stars ZH\nGast: St. Gallen\n\nAdresse: Balgriststrasse 55\, 8008 Zürich\n
LOCATION:Balgriststrasse 55\, 8008 Zürich
CATEGORIES:Saison 2024/25
END:VEVENT
END:VCALENDAR
